{"text_format":"1","workbook":"xlsx","n_sheets":8,"sheets":["INGRESO DE DATOS","Bupa Essential Care","Advantage (LA)","Bupa Elite Care","Resumen de Tarifas","Comparacion de Beneficios","Tablas","DR"],"not_rendered":{"charts":0,"images":7,"macros":1,"external_links":0,"defined_names":3,"comments":1,"pivot_tables":0},"unopened":[],"bounds":{"document_bytes":16777216,"sheet_cells":100000,"rows_first":2000,"rows_last":500,"rows_between":2000,"halvings":0,"cell_chars":16384,"cell_head_chars":4096},"cells_cut":0,"cells_raw":0,"read":"whole","date_system":"1900"}

{"sheet":"INGRESO DE DATOS","index":0,"n_rows":84,"n_cols":27,"rows_kept":84,"cut":false,"hidden":false,"merged":[[53,21,53,26],[4,21,11,21],[3,14,3,16],[44,2,44,11],[35,2,35,11],[4,18,11,18],[44,0,44,1],[7,0,7,9],[37,3,37,4],[31,21,31,26],[42,21,42,26],[41,7,42,8],[35,0,35,1],[37,0,37,1],[39,0,39,1],[16,14,16,19],[31,14,31,19],[73,14,73,15],[75,14,76,15],[29,14,29,17],[48,14,48,19],[68,14,68,15],[70,14,70,15],[51,14,51,19]]}
[]
[null,null,null,null,null,null,null,null," "," "," ",null,null,null,"24 years",false]
[]
[null,null,null,null,null,null,null,null,null,null,null,null,null,null,"Descuento 24 años (por edad)"]
[null,null,null,null,null,null,null,null,null,null,null,null,null,null,"age","Discount (%)","Parameter",null,"Type","Nuevo Negocio",null,"Región",2]
[null,null,null,null,null,null,null,null," "," "," "," ",null,null,24,35,{"$f":"1-P6/100","v":0.65},null,null,"Renovación",null,null,3]
[null,null,null,null,null,null,null,null,null,null,null,null,null,null,25,30,{"$f":"1-P7/100","v":0.7},null,null,"Renovación: Octubre 2020-Agosto 2021",null,null,4]
[null,null,null,null,null,null,null,null,null,null,null,null,null,null,26,25,0.75,null,null,null,null,null,5]
[null,null,null,null,null,null,null,null,null,null,null,null,null,null,27,20,0.8,null,null,null,null,null,6]
[null,null,null,null,null,null,null,null,null,null,null,null,null,null,28,15,0.85,null,null,null,null,null,8]
[null,null,null,null,null,null,null,null,null,null,null,null,null,null,29,6,0.94,null,null,null,null,null,9]
[null,null,null,null,null,null,null,null,null,null,null,null,null,null,"All ages",0,1,null,null,null,null,null,"DR"]
[null,null,null,null,null,null,null,null,null,null,null,null,null,null,null,null,null,null,"Type selected",3,null,"Selección",8]
[null,null,null,null,null,null,null,null,null,null,null,null,null,null,null,null,null,null,null,null,null,"Región","REPÚBLICA DOMINICANA"]
[]
[]
[]
[]
[null,null,null,null,null,null,null,null,null,null,null,null,null,null,"Descuento de 24 años:",{"$f":"IF(P2,_xlfn.SWITCH(C40,O6,Q6,O7,Q7,O8,Q8,O9,Q9,O10,Q10,O11,Q11,Q12),Q12)","v":1},null,"IVA: 12%",{"$f":"12/100","v":0.12},{"$f":"S19+1","v":1.1200000000000001}]
[]
[]
[]
[]
[null,null,null,null,null,null,null,null,null,null,null,null,null,null,"Descuento por variante de coaseguro","N/A"]
[]
[]
[]
[]
[]
[null,null,null,null,null,null,null,null,null,null,null,null,null,null,"Descuento si es nuevo negocio (ENTRADA MANUAL)"]
[]
[null,null,null,null,null,null,null,null,null,null,null,null,null,null,"New business discount y Ventas a partir de 1 de agosto 2021",null,null,null,null,null,null,"Período 1/10/2020 a 1/8/2021"]
[null,null,null,null,null,null,null,null,null,null,null,null,null,null,null,"Essential","Unique-Deductible: 0","Unique","Elite",null,null,null,"Essential","Unique-Deductible: 0","Unique","Elite"]
[null,null,null,null,null,null,null,null,null,null,null,null,null,null,0,0,0.4,0.4,0.2,0,null,0,0,0.2,0.2,0,0]
[null,null,null,null,null,null,null,null,null,null,null,null,null,null,null,null,0.45,0.45,null,null,null,null,null,0.2,0.2]
["Nombre del Asegurado principal:",null,"John Doe",null,null,null,null,null,null,null,null,null,null,null,null,null,0.5,0.5,null,null,null,null,null,0.2,0.2]
[null,null,null,null,null,null,null,null,null,null,null,null,null,null,null,null,0.5,0.5,null,null,null,null,null,0.2,0.2]
["Número de adultos en la póliza: ",null,2,"Número de hijos en la póliza:",null,1,null,null,null,null,null,null,null,null,null,null,null,0.5,null,null,null,null,null,null,0.2]
[]
[" Edad del titular:",null,18,null,"Edad de cónyuge:",18]
[]
[null,null,null,null,null,null,null,{"$f":"IF($T$13=1,\"Para nuevos negocios vendidos a partir del 1 de enero de  2025, y renovaciones de pólizas vendidas después del 1 de Agosto de 2021\",IF($T$13=2,\"Para renovaciones de pólizas vendidas antes del 1 de octubre de 2020\",\"Para renovaciones de pólizas vendidas entre Octubre 2020  y Agosto 2021\"))","v":"Para renovaciones de pólizas vendidas entre Octubre 2020  y Agosto 2021"}]
[null,null,null,null,null,null,null,null,null,null,null,null,null,null,null,null,null,null,null,null,null,"Período Antes de 1/1/2020"]
[null,null,null,null,null,null,null,null,null,null,null,null,null,null,null,null,null,null,null,null,null,null,"Essential","Unique-Deductible: 0","Unique","Elite"]
["Nombre de la Agencia :",null,"Agencia",null,null,null,null,null,null,null,null,null,null,null,null,null,null,null,null,null,null,0,0,0,0,0,0]
[null,null,null,null,null,null,null,null,null,null,null,null,null,null,null,null,null,null,null,null,null,null,null,0,0]
[null,null,null,null,null,null,null,null,null,null,null,null,null,null,null,null,null,null,null,null,null,null,null,0,0]
[null,null,null,null,null,null,null,null,null,null,null,null,null,null,null,null,null,null,null,null,null,null,null,0,0]
[null,null,null,null,null,null,null,null,null,null,null,null,null,null,"Descuento combinado 24 años + Nuevo Negocio o Roneovaciones",null,null,null,null,null,null,null,null,null,0]
[]
[]
[null,null,null,null,null,null,null,null,null,null,null,null,null,null,"New business discount"]
[null,null,null,null,null,null,null,null,null,null,null,null,null,null,null,"Essential","Unique-Deductible: 0","Unique","Elite"]
[null,null,null,null,null,null,null,null,null,null,null,null,null,null,{"$f":"1*$P$19","v":1},{"$f":"IF($T$13=1,(1-P34)*$P$19,IF($T$13=2,1*$P$19,(1-W34)*$P$19))","v":1},{"$f":"IF($T$13=1,(1-Q34)*$P$19,IF($T$13=2,1*$P$19,(1-X34)*$P$19))","v":0.8},0.8,1,{"$f":"IF($T$13=1,(1-T34)*$P$19,IF($T$13=2,1*$P$19,(1-AA34)*$P$19))","v":1},null,"Período 1/10/2020 a 1/8/2021"]
[null,null,null,null,null,null,null,null,null,null,null,null,null,null,null,null,0.8,0.8,null,null,null,null,"Essential","Unique-Deductible: 0","Unique","Elite"]
[null,null,null,null,null,null,null,null,null,null,null,null,null,null,null,null,0.8,0.8,null,null,null,0,0,0.2,0.2,0,0]
[null,null,null,null,null,null,null,null,null,null,null,null,null,null,null,null,0.8,0.8,null,null,null,null,null,0.2,0.2]
[null,null,null,null,null,null,null,null,null,null,null,null,null,null,null,null,null,0.8,null,null,null,null,null,0.2,0.2]
[null,null,null,null,null,null,null,null,null,null,null,null,null,null,null,null,null,null,null,null,null,null,null,0.2,0.2]
[null,null,null,null,null,null,null,null,null,null,null,null,null,null,null,null,null,null,null,null,null,null,null,null,0.2]
[]
[]
[]
[]
[]
[]
[]
[]
[null,null,null,null,null,null,null,null,null,null,null,null,null,null,"DISCOUNT PERU 2020"]
[]
[null,null,null,null,null,null,null,null,null,null,null,null,null,null,"EXCLUSIVE CARE"]
[null,null,null,null,null,null,null,null,null,null,null,null,null,null,0.51]
[]
[null,null,null,null,null,null,null,null,null,null,null,null,null,null,"PRIVILEGE CARE"]
[null,null,null,null,null,null,null,null,null,null,null,null,null,null,0.51]
[null,null,null,null,null,null,null,null,null,null,null,null,null,null,"ADVANTAGE CARE"]
[]
[null,null,null,null,null,null,null,null,null,null,null,null,null,null,0.47]
[]
[null,null,null,null,null,null,null,null,null,null,null,null,null,null,"SECURE CARE"]
[null,null,null,null,null,null,null,null,null,null,null,null,null,null,0.54]
[]
[null,null,null,null,null,null,null,null,null,null,null,null,null,null,"ESSENTIAL CARE"]
[null,null,null,null,null,null,null,null,null,null,null,null,null,null,0.54]

{"sheet":"Bupa Essential Care","index":1,"n_rows":86,"n_cols":21,"rows_kept":86,"cut":false,"hidden":false,"merged":[[20,7,21,7],[72,0,72,1],[72,2,72,3],[73,0,73,1],[73,2,73,3],[74,0,74,1],[74,2,74,3],[75,0,75,1],[75,2,75,3],[61,2,61,3],[62,0,62,1],[62,2,62,3],[63,0,63,1],[63,2,63,3],[64,0,64,1],[64,2,64,3],[32,0,32,1],[32,2,32,3],[38,2,38,3],[46,2,46,3],[39,0,39,1],[39,2,39,3],[41,0,45,1],[41,2,45,3],[85,5,89,9],[33,5,33,10],[45,5,45,10],[58,5,58,10],[71,5,71,10],[81,0,81,1],[81,2,81,3],[76,0,76,1],[76,2,76,3],[77,0,77,1],[77,2,77,3],[79,0,79,1],[79,2,79,3],[80,0,80,1],[80,2,80,3],[33,0,33,1],[33,2,33,3],[60,0,60,1],[60,2,60,3],[59,0,59,1],[59,2,59,3],[36,0,36,1],[36,2,36,3],[38,0,38,1],[13,0,13,1],[13,2,13,3],[4,9,5,9],[6,9,10,9],[12,0,12,5],[4,0,10,8],[12,6,12,9],[14,0,14,5],[16,1,16,5],[16,7,16,8],[14,6,14,9],[18,7,18,8],[20,8,21,9],[30,0,30,1],[30,2,30,3],[31,0,31,1],[31,2,31,3],[68,0,68,1],[68,2,68,3],[69,0,69,1],[69,2,69,3],[29,0,29,1],[29,2,29,3],[22,0,22,1],[22,2,22,3],[23,0,24,1],[23,2,23,3],[24,2,24,3],[25,0,27,1],[25,2,25,3],[66,0,66,1],[66,2,66,3],[67,0,67,1],[67,2,67,3],[61,0,61,1],[35,2,35,3],[18,1,18,5],[19,0,19,1],[19,2,19,3],[20,0,21,1],[20,2,21,3],[27,2,27,3],[28,0,28,1],[28,2,28,3],[17,7,17,8],[0,12,0,18],[0,20,0,26],[55,0,55,1],[55,2,55,3],[56,0,57,1],[56,2,57,3],[49,0,49,1],[49,2,49,3],[50,0,50,1],[50,2,50,3],[47,0,47,1],[47,2,47,3],[48,0,48,1],[48,2,48,3],[46,0,46,1],[51,0,51,1],[51,2,51,3],[53,0,53,1],[53,2,53,3],[54,0,54,1],[54,2,54,3],[34,0,35,1],[34,2,34,3]]}
[null,null,null,null,null,null,null,null,null,null,null,null,"RESUMEN DE BENEFICIOS",null,null,null,null,null,null,null,"RESUMEN DE BENEFICIOS"]
[null,null,null,null,null,null,true,false," "," "," "]
[]
[]
["Cotización de Seguro Médico Internacional\nBupa Essential Care\nTarifas en US$ | Validas: 1 de enero de 2026",null,null,null,null,null,null,null,null,"REGIÓN"]
[]
[null,null,null,null,null,null,null,null,null,{"$f":"IF('INGRESO DE DATOS'!W14=\"Guatemala\",\"GUATEMALA\",'INGRESO DE DATOS'!W14)","v":"REPÚBLICA DOMINICANA"}]
[]
[]
[]
[]
[]
["Nombre del asegurado principal:",null,null,null,null,null,{"$f":"+'INGRESO DE DATOS'!$C$36","v":"John Doe"}]
[]
["Broker/Agente",null,null,null,null,null,{"$f":"+'INGRESO DE DATOS'!$C$45","v":"Agencia"}]
[]
[null,"Número de Adultos en la Póliza",null,null,null,null,{"$f":"+'INGRESO DE DATOS'!$C$38","v":2},"Dependientes (menores de 24 años)",null,{"$f":"+'INGRESO DE DATOS'!$F$38","v":1}]
[null,null,null,null,null,null,null,{"$f":"IF('INGRESO DE DATOS'!$P$2=TRUE, \"Cotización para dependiente de 24 años\",\"\")","v":""}]
[null,"Edad del Titular",null,null,null,null,{"$f":"+'INGRESO DE DATOS'!$C$40","v":18},"Edad del Cónyuge",null,{"$f":"+'INGRESO DE DATOS'!$F$40","v":18}]
[]
[null,null,null,null,null,null,null," Fecha de Cotización:",{"$f":"NOW()","v":"2026-01-06T13:59:50.900"}]
[null,null,null,null,null,null,null,null,null,null,null,2]
[]
[]
[null,null,null,null,null,null,null," "]
[]
[]
[null,null,null,null,null,null,null,null,null,"No incluye maternidad"]
[null,null,null,null,null,"DEDUCIBLES","PLAN 1","PLAN 2","PLAN 3","PLAN 4","PLAN 5"]
[null,null,null,null,null,"Dentro del pais de residencia","$0","$0",500,2000,10000]
[null,null,null,null,null,"Fuera del pais de residencia",1000,3000,2000,5000,10000]
[]
[]
[null,null,null,null,null,"TARIFAS ANUALES"]
[null,null,null,null,null,"Prima de Titular",{"$f":"VLOOKUP($G$19,Tablas!$A$256:$H$318,3,TRUE)","v":1874},{"$f":"VLOOKUP($G$19,Tablas!$A$256:$H$318,4,TRUE)","v":1702},{"$f":"VLOOKUP($G$19,Tablas!$A$256:$H$318,5,TRUE)","v":1545},{"$f":"VLOOKUP($G$19,Tablas!$A$256:$H$318,6,TRUE)","v":1332},{"$f":"VLOOKUP($G$19,Tablas!$A$10:$H$33,8,TRUE)","v":0}]
[null,null,null,null,null,"Prima de Cónyuge",{"$f":"IF($G$17=1,0,(VLOOKUP($J$19,Tablas!$A$256:$H$318,3,TRUE)))","v":1874},{"$f":"IF($G$17=1,0,(VLOOKUP($J$19,Tablas!$A$256:$H$318,4,TRUE)))","v":1702},{"$f":"IF($G$17=1,0,(VLOOKUP($J$19,Tablas!$A$256:$H$318,5,TRUE)))","v":1545},{"$f":"IF($G$17=1,0,(VLOOKUP($J$19,Tablas!$A$256:$H$318,6,TRUE)))","v":1332},{"$f":"IF($G$17=1,0,(VLOOKUP($J$19,Tablas!$A$10:$H$33,8,TRUE)))","v":0}]
[null,null,null,null,null,"Primas Hijos",{"$f":"IF($J$17=0,0,(VLOOKUP($J$17,Tablas!$A$319:$H$321,3,TRUE)))","v":664},{"$f":"IF($J$17=0,0,(VLOOKUP($J$17,Tablas!$A$319:$H$321,4,TRUE)))","v":601},{"$f":"IF($J$17=0,0,(VLOOKUP($J$17,Tablas!$A$319:$H$321,5,TRUE)))","v":547},{"$f":"IF($J$17=0,0,(VLOOKUP($J$17,Tablas!$A$319:$H$321,6,TRUE)))","v":472},{"$f":"IF($J$17=0,0,(VLOOKUP($J$17,Tablas!$A$34:$H$36,8,TRUE)))","v":0}]
[null,null,null,null,null,"Rider: Complicación de Maternidad",0,0,0,0,0]
[null,null,null,null,null,"TOTAL PRIMA NETA",{"$f":"SUM(G35:G38)","v":4412},{"$f":"SUM(H35:H38)","v":4005},{"$f":"SUM(I35:I38)","v":3637},{"$f":"SUM(J35:J38)","v":3136},{"$f":"SUM(K35:K38)","v":0}]
[null,null,null,null,null,"Costo Administrativo Anual",75,75,75,75,75]
[null,null,null,null,null,"IVA (12%)",0,0,0,0,0]
[null,null,null,null,null,"GRAN TOTAL:",{"$f":"SUM(G39:G41)","v":4487},{"$f":"SUM(H39:H41)","v":4080},3712,3211,75]
[]
[]
[]
[null,null,null,null,null,"TARIFAS SEMESTRALES"]
[null,null,null,null,null,"Prima de Titular",{"$f":"VLOOKUP($G$19,Tablas!$A$330:$H$392,3,TRUE)","v":993.22},{"$f":"VLOOKUP($G$19,Tablas!$A$330:$H$392,4,TRUE)","v":902.06000000000006},{"$f":"VLOOKUP($G$19,Tablas!$A$330:$H$392,5,TRUE)","v":818.85},{"$f":"VLOOKUP($G$19,Tablas!$A$330:$H$392,6,TRUE)","v":705.96},{"$f":"VLOOKUP($G$19,Tablas!$A$45:$H$68,8,TRUE)","v":0}]
[null,null,null,null,null,"Prima de Cónyuge",{"$f":"IF($G$17=1,0,(VLOOKUP($J$19,Tablas!$A$330:$H$392,3,TRUE)))","v":993.22},{"$f":"IF($G$17=1,0,(VLOOKUP($J$19,Tablas!$A$330:$H$392,4,TRUE)))","v":902.06000000000006},{"$f":"IF($G$17=1,0,(VLOOKUP($J$19,Tablas!$A$330:$H$392,5,TRUE)))","v":818.85},{"$f":"IF($G$17=1,0,(VLOOKUP($J$19,Tablas!$A$330:$H$392,6,TRUE)))","v":705.96},{"$f":"IF($G$17=1,0,(VLOOKUP($J$19,Tablas!$A$45:$H$68,8,TRUE)))","v":0}]
[null,null,null,null,null,"Primas Hijos",{"$f":"IF($J$17=0,0,(VLOOKUP($J$17,Tablas!$A$393:$H$395,3,TRUE)))","v":351.92},{"$f":"IF($J$17=0,0,(VLOOKUP($J$17,Tablas!$A$393:$H$395,4,TRUE)))","v":318.53000000000003},{"$f":"IF($J$17=0,0,(VLOOKUP($J$17,Tablas!$A$393:$H$395,5,TRUE)))","v":289.91000000000003},{"$f":"IF($J$17=0,0,(VLOOKUP($J$17,Tablas!$A$393:$H$395,6,TRUE)))","v":250.16000000000003},{"$f":"IF($J$17=0,0,(VLOOKUP($J$17,Tablas!$A$69:$H$71,8,TRUE)))","v":0}]
[null,null,null,null,null,"Rider: Complicación de Maternidad",0,0,0,0,0]
[null,null,null,null,null,"TOTAL PRIMA NETA",{"$f":"SUM(G47:G50)","v":2338.36},{"$f":"SUM(H47:H50)","v":2122.65},{"$f":"SUM(I47:I50)","v":1927.6100000000001},{"$f":"SUM(J47:J50)","v":1662.0800000000002},{"$f":"SUM(K47:K50)","v":0}]
[null,null,null,null,null,"Costo Administrativo Anual",75,75,75,75,75]
[null,null,null,null,null,"IVA (12%)",0,0,0,0,0]
[null,null,null,null,null,"TOTAL  (1ra Cuota)",{"$f":"SUM(G51:G53)","v":2413.36},{"$f":"SUM(H51:H53)","v":2197.65},2002.6100000000001,1737.0800000000002,75]
[null,null,null,null,null,"TOTAL  (2da Cuota)",{"$f":"G54-G52","v":2338.36},{"$f":"H54-H52","v":2122.65},1927.6100000000001,1662.0800000000002,{"$f":"K54-K52*'INGRESO DE DATOS'!$T$19","v":-9.0000000000000142}]
[null,null,null,null,null,"GRAN TOTAL",{"$f":"SUM(G54:G55)","v":4751.72},{"$f":"SUM(H54:H55)","v":4320.3},3930.2200000000003,3399.1600000000003,65.999999999999986]
[]
[]
[null,null,null,null,null,"TARIFAS TRIMESTRALES"]
[null,null,null,null,null,"Prima de Titular",{"$f":"VLOOKUP($G$19,Tablas!$A$405:$H$467,3,TRUE)","v":515.35},{"$f":"VLOOKUP($G$19,Tablas!$A$405:$H$467,4,TRUE)","v":468.05},{"$f":"VLOOKUP($G$19,Tablas!$A$405:$H$467,5,TRUE)","v":424.87500000000006},{"$f":"VLOOKUP($G$19,Tablas!$A$405:$H$467,6,TRUE)","v":366.3},{"$f":"VLOOKUP($G$19,Tablas!$A$79:$H$102,8,TRUE)","v":0}]
[null,null,null,null,null,"Prima de Cónyuge",{"$f":"IF($G$17=1,0,(VLOOKUP($J$19,Tablas!$A$405:$H$467,3,TRUE)))","v":515.35},{"$f":"IF($G$17=1,0,(VLOOKUP($J$19,Tablas!$A$405:$H$467,4,TRUE)))","v":468.05},{"$f":"IF($G$17=1,0,(VLOOKUP($J$19,Tablas!$A$405:$H$467,5,TRUE)))","v":424.87500000000006},{"$f":"IF($G$17=1,0,(VLOOKUP($J$19,Tablas!$A$405:$H$467,6,TRUE)))","v":366.3},{"$f":"IF($G$17=1,0,(VLOOKUP($J$19,Tablas!$A$79:$H$102,8,TRUE)))","v":0}]
[null,null,null,null,null,"Primas Hijos",{"$f":"IF($J$17=0,0,(VLOOKUP($J$17,Tablas!$A$468:$H$470,3,TRUE)))","v":182.60000000000002},{"$f":"IF($J$17=0,0,(VLOOKUP($J$17,Tablas!$A$468:$H$470,4,TRUE)))","v":165.27500000000001},{"$f":"IF($J$17=0,0,(VLOOKUP($J$17,Tablas!$A$468:$H$470,5,TRUE)))","v":150.42500000000001},{"$f":"IF($J$17=0,0,(VLOOKUP($J$17,Tablas!$A$468:$H$470,6,TRUE)))","v":129.80000000000001},{"$f":"IF($J$17=0,0,(VLOOKUP($J$17,Tablas!$A$103:$H$105,8,TRUE)))","v":0}]
[null,null,null,null,null,"Rider: Complicación de Maternidad",0,0,0,0,0]
[null,null,null,null,null,"TOTAL PRIMA NETA",{"$f":"SUM(G60:G63)","v":1213.3000000000002},{"$f":"SUM(H60:H63)","v":1101.375},{"$f":"SUM(I60:I63)","v":1000.1750000000002},{"$f":"SUM(J60:J63)","v":862.40000000000009},{"$f":"SUM(K60:K63)","v":0}]
[null,null,null,null,null,"Costo Administrativo Anual",75,75,75,75,75]
[null,null,null,null,null,"IVA (12%)",0,0,0,0,0]
[null,null,null,null,null,"TOTAL  (1ra Cuota)",{"$f":"SUM(G64:G66)","v":1288.3000000000002},{"$f":"SUM(H64:H66)","v":1176.375},1075.1750000000002,937.40000000000009,75]
[null,null,null,null,null,"TOTAL  (2da a 4ta Cuota)",{"$f":"G67-G65","v":1213.3000000000002},{"$f":"H67-H65","v":1101.375},1000.1750000000002,862.40000000000009,{"$f":"K67-K65*'INGRESO DE DATOS'!$T$19","v":-9.0000000000000142}]
[null,null,null,null,null,"GRAN TOTAL",{"$f":"G67+G68*3","v":4928.2000000000007},{"$f":"H67+H68*3","v":4480.5},4075.7000000000007,3524.6000000000004,{"$f":"K67+K68*2","v":56.999999999999972}]
[]
[]
[null,null,null,null,null,"TARIFAS MENSUALES"]
[null,null,null,null,null,"Prima de Titular",{"$f":"VLOOKUP($G$19,Tablas!$A$480:$G$542,3,TRUE)","v":174.90666604200001},{"$f":"VLOOKUP($G$19,Tablas!$A$480:$G$542,4,TRUE)","v":158.85333276599999},{"$f":"VLOOKUP($G$19,Tablas!$A$480:$G$542,5,TRUE)","v":144.19999948500001},{"$f":"VLOOKUP($G$19,Tablas!$A$480:$G$542,6,TRUE)","v":124.319999556},{"$f":"VLOOKUP($G$19,Tablas!$A$112:$H$135,8,TRUE)","v":0}]
[null,null,null,null,null,"Prima de Cónyuge",{"$f":"IF($G$17=1,0,(VLOOKUP($J$19,Tablas!$A$480:$G$542,3,TRUE)))","v":174.90666604200001},{"$f":"IF($G$17=1,0,(VLOOKUP($J$19,Tablas!$A$480:$G$542,4,TRUE)))","v":158.85333276599999},{"$f":"IF($G$17=1,0,(VLOOKUP($J$19,Tablas!$A$480:$G$542,5,TRUE)))","v":144.19999948500001},{"$f":"IF($G$17=1,0,(VLOOKUP($J$19,Tablas!$A$480:$G$542,6,TRUE)))","v":124.319999556},{"$f":"IF($G$17=1,0,(VLOOKUP($J$19,Tablas!$A$112:$H$135,4,TRUE)))","v":0}]
[null,null,null,null,null,"Primas Hijos",{"$f":"IF($J$17=0,0,(VLOOKUP($J$17,Tablas!$A$543:$G$545,3,TRUE)))","v":61.973333112000006},{"$f":"IF($J$17=0,0,(VLOOKUP($J$17,Tablas!$A$543:$G$545,4,TRUE)))","v":56.093333133000002},{"$f":"IF($J$17=0,0,(VLOOKUP($J$17,Tablas!$A$543:$G$545,5,TRUE)))","v":51.053333151000004},{"$f":"IF($J$17=0,0,(VLOOKUP($J$17,Tablas!$A$543:$G$545,6,TRUE)))","v":44.053333176000002},{"$f":"IF($J$17=0,0,(VLOOKUP($J$17,Tablas!$A$136:$H$138,8,TRUE)))","v":0}]
[null,null,null,null,null,"Rider: Complicación de Maternidad",0,0,0,0,0]
[null,null,null,null,null,"TOTAL PRIMA NETA",{"$f":"SUM(G73:G76)","v":411.78666519600006},{"$f":"SUM(H73:H76)","v":373.79999866499998},{"$f":"SUM(I73:I76)","v":339.45333212100002},{"$f":"SUM(J73:J76)","v":292.69333228800002},{"$f":"SUM(K73:K76)","v":0}]
[null,null,null,null,null,"Costo Administrativo Anual",75,75,75,75,75]
[null,null,null,null,null,"IVA (12%)",0,0,0,0,0]
[null,null,null,null,null,"TOTAL  (1ra Cuota)",{"$f":"SUM(G77:G79)","v":486.78666519600006},{"$f":"SUM(H77:H79)","v":448.79999866499998},414.45333212100002,367.69333228800002,75]
[null,null,null,null,null,"TOTAL  (2da a Cuota 12)",{"$f":"G80-G78","v":411.78666519600006},{"$f":"H80-H78","v":373.79999866499998},339.45333212100002,292.69333228800002,{"$f":"K80-K78*'INGRESO DE DATOS'!$T$19","v":-9.0000000000000142}]
[null,null,null,null,null,"GRAN TOTAL",{"$f":"G80+G81*11","v":5016.4399823520007},{"$f":"H80+H81*11","v":4560.5999839799997},4148.4399854519997,3587.319987456,{"$f":"K80+K81*2","v":56.999999999999972}]
[]
[]
[null," "]
[null,null,null,null,null,"Este presupuesto solamente tiene carácter informativo y en ningún momento expresa compromiso legal para suministrarle cobertura de seguro. La emisión de una póliza de seguro Bupa está sujeta a todas las evaluaciones de riesgo por parte de Bupa y a la recepción de todos los pagos de prima requeridos."]

{"sheet":"Advantage (LA)","index":2,"n_rows":50,"n_cols":13,"rows_kept":50,"cut":false,"hidden":true,"merged":[[9,0,9,12],[11,7,11,12],[13,7,13,12],[17,5,17,6],[16,5,16,6],[11,0,11,3],[17,0,18,1],[12,0,12,1],[13,0,13,1],[14,0,14,1],[15,0,15,1],[16,0,16,1],[49,5,49,12],[12,2,12,3],[13,2,13,3],[14,2,14,3],[15,2,15,3],[27,2,27,3],[16,2,16,3],[20,2,20,3],[17,2,18,3],[29,2,29,3],[30,2,30,3],[23,2,23,3],[24,2,24,3],[19,2,19,3],[33,2,33,3],[45,2,46,3],[19,0,19,1],[28,0,28,1],[28,2,28,3],[32,0,32,1],[25,2,25,3],[25,0,25,1],[26,0,26,1],[26,2,26,3],[32,2,32,3],[21,2,21,3],[22,2,22,3],[31,2,31,3],[27,0,27,1],[29,0,29,1],[30,0,31,1],[20,0,21,1],[22,0,23,1],[24,0,24,1],[33,0,33,1],[34,0,34,1],[38,2,38,3],[38,0,38,1],[35,0,35,1],[35,2,35,3],[36,0,36,1],[36,2,36,3],[34,2,34,3],[39,0,39,1],[40,0,40,1],[39,2,39,3],[41,0,41,1],[40,2,40,3],[45,0,46,1],[42,0,42,1],[41,2,41,3],[42,2,42,3],[43,0,43,1],[43,2,43,3],[44,0,44,1],[44,2,44,3]]}
[]
[null,null,null,null,null,null,null,null,null," "," "," "]
[]
[]
[]
[null,null,null,null,null,null,null,null,null," "," "," "," "]
[]
[]
[]
["Cotización de Seguro Médico Internacional - Bupa ADVANTAGE Care (cobertura solo Latinoamérica)"]
[]
["Bupa Advantage Care (cobertura solo en Latinoamérica)",null,null,null,null,null,null,{"$f":"+'INGRESO DE DATOS'!$C$36","v":"John Doe"}]
["Cobertura Máxima anual",null,"US $ 3,500,000"]
["Cobertura Geografica",null,"Limitada a Latinoamérica excluyendo México",null,null,null,null,{"$f":"+'INGRESO DE DATOS'!$C$45","v":"Agencia"}]
["Condiciones médicas cubiertas",null,"Todas las condiciones médicas"]
["Redes de proveedores",null,"Red de Proveedores \"Bupa Advantage\"",null,null,null,null,null,null,{"$f":"+'INGRESO DE DATOS'!$C$38","v":2},null,null,{"$f":"+'INGRESO DE DATOS'!$C$40","v":18}]
["Opciones fuera de la Red",null,"NO, solo en casos de emergencia",null,null,"FECHA DE COTIZACION :"]
["Requiere preautorización",null,"SI, 30% de penalización por omitir prenotificación",null,null,{"$f":"NOW()","v":"2026-01-06T13:59:50.900"},null,null,null,{"$f":"+'INGRESO DE DATOS'!$F$38","v":1},null,null,{"$f":"+'INGRESO DE DATOS'!$F$40","v":18}]
[null,null,null,null,null,null,null,null,null," "," "," "]
["Número máximo de días de hospitalización",null,"Ilimitado",null,null,null,null,null,true,null,"COMPLICACIONES DE MATERNIDAD"]
["Habitación y alimentación",null,"100% dentro de Red Bupa"]
[null,null,"\"UCR\" para L.A. en emergencias fuera de  Red Bupa",null,null,null,null,null,true,null,"TRASPLANTE DE ORGANOS"]
["Cuidados Intensivos",null,"100% dentro de Red Bupa"]
[null,null,"\"UCR\" para L.A. en emergencias fuera de  Red Bupa",null,null,null," "]
["Cobertura de Maternidad",null,"$5,000 (Excepto planes 4,5, y 6)",null,null,"Deducibles",null,"PLAN 1","PLAN 2","PLAN 3","PLAN 4","PLAN 5","PLAN 6"]
["Cobertura Provisional de Recién Nacido",null,"$30,000 por los primeros 90 días",null,null,"Dentro del pais de residencia",null,"n/a",1000,2000,5000,10000,20000]
["Cuidado del Recién Nacido saludable",null,"Ya incluída dentro del beneficio de Maternidad",null,null,"Fuera del pais de residencia",null,"n/a",2000,3000,5000,10000,20000]
["Cobertura de Complicaciones de Maternidad",null,"Disponible a través de cobertura opcional adicional"]
["Trasplante de Organos",null,"$1,000,000 de por vida, por diagnóstico"]
["Condiciones congénitas y hereditarias",null,"<18 años $300,000 de por vida; >=18 al 100%",null,null,"Tarifas Anuales"]
["Coberturas opcionales (Riders)",null,"Complicaciones de Maternidad por $500,000",null,null,"Prima de Titular :",null,"n/a",{"$f":"VLOOKUP($M$16,Tablas!#REF!,4,TRUE)","v":{"$error":"#REF!"}},{"$f":"VLOOKUP($M$16,Tablas!#REF!,5,TRUE)","v":{"$error":"#REF!"}},{"$f":"VLOOKUP($M$16,Tablas!#REF!,6,TRUE)","v":{"$error":"#REF!"}},{"$f":"VLOOKUP($M$16,Tablas!#REF!,7,TRUE)","v":{"$error":"#REF!"}},{"$f":"VLOOKUP($M$16,Tablas!#REF!,8,TRUE)","v":{"$error":"#REF!"}}]
[null,null,"Trasplante de órganos por $ 300,000 adicionales",null,null,"Prima de Cónyuge",null,"n/a",{"$f":"IF($J$16=1,0,(VLOOKUP($M$18,Tablas!#REF!,4,TRUE)))","v":{"$error":"#REF!"}},{"$f":"IF($J$16=1,0,(VLOOKUP($M$18,Tablas!#REF!,5,TRUE)))","v":{"$error":"#REF!"}},{"$f":"IF($J$16=1,0,(VLOOKUP($M$18,Tablas!#REF!,6,TRUE)))","v":{"$error":"#REF!"}},{"$f":"IF($J$16=1,0,(VLOOKUP($M$18,Tablas!#REF!,7,TRUE)))","v":{"$error":"#REF!"}},{"$f":"IF($J$16=1,0,(VLOOKUP($M$18,Tablas!#REF!,8,TRUE)))","v":{"$error":"#REF!"}}]
["Acompañamiento de menores hospitalizados",null,"$300 por día",null,null,"Primas Hijos :",null,"n/a",{"$f":"IF($J$18=0,0,(VLOOKUP($J$18,Tablas!#REF!,4,TRUE)))","v":{"$error":"#REF!"}},{"$f":"IF($J$18=0,0,(VLOOKUP($J$18,Tablas!#REF!,5,TRUE)))","v":{"$error":"#REF!"}},{"$f":"IF($J$18=0,0,(VLOOKUP($J$18,Tablas!#REF!,6,TRUE)))","v":{"$error":"#REF!"}},{"$f":"IF($J$18=0,0,(VLOOKUP($J$18,Tablas!#REF!,7,TRUE)))","v":{"$error":"#REF!"}},{"$f":"IF($J$18=0,0,(VLOOKUP($J$18,Tablas!#REF!,8,TRUE)))","v":{"$error":"#REF!"}}]
["Ambulancia aérea",null,"$100,000 por año y ticket aéreo de retorno",null,null,"Prima Rider Complic. Maternidad",null,"n/a",{"$f":"+IF($I$20=FALSE,0,Tablas!#REF!)","v":{"$error":"#REF!"}},{"$f":"+IF($I$20=FALSE,0,Tablas!#REF!)","v":{"$error":"#REF!"}},{"$f":"+IF($I$20=FALSE,0,Tablas!#REF!)","v":{"$error":"#REF!"}},{"$f":"+IF($I$20=FALSE,0,Tablas!#REF!)","v":{"$error":"#REF!"}},{"$f":"+IF($I$20=FALSE,0,Tablas!#REF!)","v":{"$error":"#REF!"}}]
["Repatriación restos mortales",null,1,null,null,"Prima Rider Trasplante Organos",null,"n/a",{"$f":"IF($I$22=FALSE,0,Tablas!#REF!)","v":{"$error":"#REF!"}},{"$f":"IF($I$22=FALSE,0,Tablas!#REF!)","v":{"$error":"#REF!"}},{"$f":"IF($I$22=FALSE,0,Tablas!#REF!)","v":{"$error":"#REF!"}},{"$f":"IF($I$22=FALSE,0,Tablas!#REF!)","v":{"$error":"#REF!"}},{"$f":"IF($I$22=FALSE,0,Tablas!#REF!)","v":{"$error":"#REF!"}}]
["Medicamentos por receta",null,"$6,000 por Asegurado, por año póliza",null,null,"TOTAL PRIMA NETA :",null,"n/a",{"$f":"SUM(I31:I35)","v":{"$error":"#REF!"}},{"$error":"#REF!"},{"$error":"#REF!"},{"$error":"#REF!"},{"$error":"#REF!"}]
["Almacenamiento de sangre de cordon umbilical",null,"$500  (Excepto planes 4,5, y 6)",null,null,"Costo Administrativo Anual :",null,"n/a",75,75,75,75,75]
[null,null,null,null,null,"GRAN TOTAL :",null,"n/a",{"$f":"SUM(I36:I37)","v":{"$error":"#REF!"}},{"$f":"SUM(J36:J37)","v":{"$error":"#REF!"}},{"$f":"SUM(K36:K37)","v":{"$error":"#REF!"}},{"$f":"SUM(L36:L37)","v":{"$error":"#REF!"}},{"$f":"SUM(M36:M37)","v":{"$error":"#REF!"}}]
["Atención médica en el hogar",null,"100% de usual/acostumbrado y razonable"]
["Rehabilitación",null,"100% de usual/acostumbrado y razonable",null,null,"Tarifas Semestrales"]
["Residencia y cuidados paliativos",null,"100% de usual/acostumbrado y razonable",null,null,"Prima de Titular :",null,"n/a",{"$f":"VLOOKUP($M$16,Tablas!#REF!,4,TRUE)","v":{"$error":"#REF!"}},{"$f":"VLOOKUP($M$16,Tablas!#REF!,5,TRUE)","v":{"$error":"#REF!"}},{"$f":"VLOOKUP($M$16,Tablas!#REF!,6,TRUE)","v":{"$error":"#REF!"}},{"$f":"VLOOKUP($M$16,Tablas!#REF!,7,TRUE)","v":{"$error":"#REF!"}},{"$f":"VLOOKUP($M$16,Tablas!#REF!,8,TRUE)","v":{"$error":"#REF!"}}]
["Cobertura de actividades peligrosas",null,1,null,null,"Prima de Cónyuge",null,"n/a",{"$f":"IF($J$16=1,0,(VLOOKUP($M$18,Tablas!#REF!,4,TRUE)))","v":{"$error":"#REF!"}},{"$f":"IF($J$16=1,0,(VLOOKUP($M$18,Tablas!#REF!,5,TRUE)))","v":{"$error":"#REF!"}},{"$f":"IF($J$16=1,0,(VLOOKUP($M$18,Tablas!#REF!,6,TRUE)))","v":{"$error":"#REF!"}},{"$f":"IF($J$16=1,0,(VLOOKUP($M$18,Tablas!#REF!,7,TRUE)))","v":{"$error":"#REF!"}},{"$f":"IF($J$16=1,0,(VLOOKUP($M$18,Tablas!#REF!,8,TRUE)))","v":{"$error":"#REF!"}}]
["Chequeos generales de rutina",null,"Hasta US$150 por año póliza.Sin deducible",null,null,"Primas Hijos :",null,"n/a",{"$f":"IF($J$18=0,0,(VLOOKUP($J$18,Tablas!#REF!,4,TRUE)))","v":{"$error":"#REF!"}},{"$f":"IF($J$18=0,0,(VLOOKUP($J$18,Tablas!#REF!,5,TRUE)))","v":{"$error":"#REF!"}},{"$f":"IF($J$18=0,0,(VLOOKUP($J$18,Tablas!#REF!,6,TRUE)))","v":{"$error":"#REF!"}},{"$f":"IF($J$18=0,0,(VLOOKUP($J$18,Tablas!#REF!,7,TRUE)))","v":{"$error":"#REF!"}},{"$f":"IF($J$18=0,0,(VLOOKUP($J$18,Tablas!#REF!,8,TRUE)))","v":{"$error":"#REF!"}}]
["Cobertura de VIH, SIDA, CAS",null,"Solo como efecto de transfusión de sangre",null,null,"Prima Rider Complic. Maternidad",null,"n/a",{"$f":"+IF($I$20=FALSE,0,Tablas!#REF!)","v":{"$error":"#REF!"}},{"$f":"+IF($I$20=FALSE,0,Tablas!#REF!)","v":{"$error":"#REF!"}},{"$f":"+IF($I$20=FALSE,0,Tablas!#REF!)","v":{"$error":"#REF!"}},{"$f":"+IF($I$20=FALSE,0,Tablas!#REF!)","v":{"$error":"#REF!"}},{"$f":"+IF($I$20=FALSE,0,Tablas!#REF!)","v":{"$error":"#REF!"}}]
["Cobertura de brazos y piernas artificiales",null,"$30,000 por año y hasta $120,000 de por vida",null,null,"Prima Rider Trasplante Organos",null,"n/a",{"$f":"IF($I$22=FALSE,0,Tablas!#REF!)","v":{"$error":"#REF!"}},{"$f":"IF($I$22=FALSE,0,Tablas!#REF!)","v":{"$error":"#REF!"}},{"$f":"IF($I$22=FALSE,0,Tablas!#REF!)","v":{"$error":"#REF!"}},{"$f":"IF($I$22=FALSE,0,Tablas!#REF!)","v":{"$error":"#REF!"}},{"$f":"IF($I$22=FALSE,0,Tablas!#REF!)","v":{"$error":"#REF!"}}]
["Cobertura extendida para dependientes en caso de muerte de asegurado principal",null,"2 años sin costo",null,null,"TOTAL PRIMA NETA :",null,"n/a",{"$f":"SUM(I41:I45)","v":{"$error":"#REF!"}},{"$error":"#REF!"},{"$error":"#REF!"},{"$error":"#REF!"},{"$error":"#REF!"}]
[null,null,null,null,null,"Costo Administrativo Anual :",null,"n/a",75,75,75,75,75]
[null,null,null,null,null,"GRAN TOTAL  (1ra Cuota) :",null,"n/a",{"$f":"SUM(I46:I47)","v":{"$error":"#REF!"}},{"$f":"SUM(J46:J47)","v":{"$error":"#REF!"}},{"$f":"SUM(K46:K47)","v":{"$error":"#REF!"}},{"$f":"SUM(L46:L47)","v":{"$error":"#REF!"}},{"$f":"SUM(M46:M47)","v":{"$error":"#REF!"}}]
[null," ",null,null,null,"GRAN TOTAL  (2da Cuota) :",null,"n/a",{"$f":"I46","v":{"$error":"#REF!"}},{"$f":"J46","v":{"$error":"#REF!"}},{"$error":"#REF!"},{"$error":"#REF!"},{"$error":"#REF!"}]
[null," ",null,null,null,"Tarifas en US $ -  Válidas desde 01 Ene 2013"]

{"sheet":"Bupa Elite Care","index":3,"n_rows":88,"n_cols":8,"rows_kept":88,"cut":false,"hidden":false,"merged":[[0,15,0,21],[87,0,91,5],[29,0,29,5],[42,0,42,5],[86,0,86,5],[57,0,57,5],[4,5,5,5],[6,5,10,5],[14,1,14,5],[20,4,21,4],[20,5,21,5],[71,0,71,5],[4,0,10,4],[0,7,0,13],[23,4,23,5],[17,3,17,4]]}
[null,true,true,null,null,null,null,"RESUJeN DE BENEFICIOS"]
[null,true,null," "," "," "]
[]
[]
["Cotización de Seguro Médico Internacional\nBupa Elite\nTarifas en US$ | Validas: 1 de enero de 2026",null,null,null,null,"REGIÓN"]
[]
[null,null,null,null,null,{"$f":"IF('INGRESO DE DATOS'!W14=\"Guatemala\",\"GUATEMALA\",'INGRESO DE DATOS'!W14)","v":"REPÚBLICA DOMINICANA"}]
[]
[]
[]
[]
[]
["Nombre del asegurado principal",{"$f":"+'INGRESO DE DATOS'!$C$36","v":"John Doe"}]
[]
["Broker/Agente",{"$f":"+'INGRESO DE DATOS'!$C$45","v":"Agencia"}]
[]
["Número de Adultos en la Póliza",{"$f":"+'INGRESO DE DATOS'!$C$38","v":2},null,"Dependientes (menores de 24 años)",null,{"$f":"+'INGRESO DE DATOS'!$F$38","v":1}]
[null,null,null,{"$f":"IF('INGRESO DE DATOS'!$P$2=TRUE, \"Cotización para dependiente de 24 años\",\"\")","v":""}]
["Edad del Titular",{"$f":"+'INGRESO DE DATOS'!$C$40","v":18},null,"Edad del Cónyuge",null,{"$f":"+'INGRESO DE DATOS'!$F$40","v":18}]
[]
[null,null,null,null,"Fecha de Cotización:",{"$f":"NOW()","v":"2026-01-06T13:59:50.900"}]
[]
[]
[null,null,null,null,"No incluyen maternidad"]
["DEDUCIBLES","PLAN 1","PLAN 2","PLAN 3","PLAN 4","PLAN 5"]
["Dentro del pais de residencia",250,1000,2000,5000,10000]
["Fuera del pais de residencia",1000,2000,3000,5000,10000]
[]
[]
["TARIFAS ANUALES"]
["Prima de Titular",{"$f":"VLOOKUP($B$19,Tablas!$A$558:$H$620,4,TRUE)","v":9588},{"$f":"VLOOKUP($B$19,Tablas!$A$558:$H$620,5,TRUE)","v":6148},{"$f":"VLOOKUP($B$19,Tablas!$A$558:$H$620,6,TRUE)","v":4873},{"$f":"VLOOKUP($B$19,Tablas!$A$558:$H$620,7,TRUE)","v":4025},{"$f":"VLOOKUP($B$19,Tablas!$A$558:$H$620,8,TRUE)","v":2924}]
["Prima de Cónyuge",{"$f":"IF($B$17=1,0,(VLOOKUP($F$19,Tablas!$A$558:$H$620,4,TRUE)))","v":9588},{"$f":"IF($B$17=1,0,(VLOOKUP($F$19,Tablas!$A$558:$H$620,5,TRUE)))","v":6148},{"$f":"IF($B$17=1,0,(VLOOKUP($F$19,Tablas!$A$558:$H$620,6,TRUE)))","v":4873},{"$f":"IF($B$17=1,0,(VLOOKUP($F$19,Tablas!$A$558:$H$620,7,TRUE)))","v":4025},{"$f":"IF($B$17=1,0,(VLOOKUP($F$19,Tablas!$A$558:$H$620,8,TRUE)))","v":2924}]
["Primas Hijos",{"$f":"IF($F$17=0,0,(VLOOKUP($F$17,Tablas!$A$621:$H$623,4,TRUE)))","v":4078},{"$f":"IF($F$17=0,0,(VLOOKUP($F$17,Tablas!$A$621:$H$623,5,TRUE)))","v":2837},{"$f":"IF($F$17=0,0,(VLOOKUP($F$17,Tablas!$A$621:$H$623,6,TRUE)))","v":2071},{"$f":"IF($F$17=0,0,(VLOOKUP($F$17,Tablas!$A$621:$H$623,7,TRUE)))","v":1703},{"$f":"IF($F$17=0,0,(VLOOKUP($F$17,Tablas!$A$621:$H$623,8,TRUE)))","v":1492}]
["Rider: Complicaciones de  Maternidad",{"$f":"+IF($B$1=FALSE,0,Tablas!D624)","v":0},{"$f":"+IF($B$1=FALSE,0,Tablas!E624)","v":0},{"$f":"+IF($B$1=FALSE,0,Tablas!F624)","v":0},{"$f":"+IF($B$1=FALSE,0,Tablas!G624)","v":225},{"$f":"+IF($B$1=FALSE,0,Tablas!H624)","v":225}]
["Rider: Trasplante Organos",{"$f":"IF($C$1=FALSE,0,Tablas!D625)","v":300},{"$f":"IF($C$1=FALSE,0,Tablas!E625)","v":300},{"$f":"IF($C$1=FALSE,0,Tablas!F625)","v":300},{"$f":"IF($C$1=FALSE,0,Tablas!G625)","v":300},{"$f":"IF($C$1=FALSE,0,Tablas!H625)","v":300}]
["Rider: Eliminación de Deducible",{"$f":"IF($B$2=FALSE,0,Tablas!D626)","v":45},{"$f":"IF($B$2=FALSE,0,Tablas!E626)","v":180},{"$f":"IF($B$2=FALSE,0,Tablas!F626)","v":345},{"$f":"IF($B$2=FALSE,0,Tablas!G626)","v":775},{"$f":"IF($B$2=FALSE,0,Tablas!H626)","v":1330}]
["TOTAL PRIMA NETA",{"$f":"SUM(B31:B36)","v":23599},15613,12462,11053,9195]
["Costo Administrativo Annual",75,75,75,75,75]
["IVA (12%)",0,0,0,0,0]
["GRAN TOTAL :",{"$f":"SUM(B37:B39)","v":23674},{"$f":"SUM(C37:C39)","v":15688},12537,11128,9270]
[]
[]
["TARIFAS SEMESTRALES"]
["Prima de Titular",{"$f":"VLOOKUP($B$19,Tablas!$A$632:$H$694,4,TRUE)","v":5081.6400000000003},{"$f":"VLOOKUP($B$19,Tablas!$A$632:$H$694,5,TRUE)","v":3258.44},{"$f":"VLOOKUP($B$19,Tablas!$A$632:$H$694,6,TRUE)","v":2582.69},{"$f":"VLOOKUP($B$19,Tablas!$A$632:$H$694,7,TRUE)","v":2133.25},{"$f":"VLOOKUP($B$19,Tablas!$A$632:$H$694,8,TRUE)","v":1549.72}]
["Prima de Cónyuge",{"$f":"IF($B$17=1,0,(VLOOKUP($F$19,Tablas!$A$632:$H$694,4,TRUE)))","v":5081.6400000000003},{"$f":"IF($B$17=1,0,(VLOOKUP($F$19,Tablas!$A$632:$H$694,5,TRUE)))","v":3258.44},{"$f":"IF($B$17=1,0,(VLOOKUP($F$19,Tablas!$A$632:$H$694,6,TRUE)))","v":2582.69},{"$f":"IF($B$17=1,0,(VLOOKUP($F$19,Tablas!$A$632:$H$694,7,TRUE)))","v":2133.25},{"$f":"IF($B$17=1,0,(VLOOKUP($F$19,Tablas!$A$632:$H$694,8,TRUE)))","v":1549.72}]
["Primas Hijos",{"$f":"IF($F$17=0,0,(VLOOKUP($F$17,Tablas!$A$695:$H$697,4,TRUE)))","v":2161.34},{"$f":"IF($F$17=0,0,(VLOOKUP($F$17,Tablas!$A$695:$H$697,5,TRUE)))","v":1503.6100000000001},{"$f":"IF($F$17=0,0,(VLOOKUP($F$17,Tablas!$A$695:$H$697,6,TRUE)))","v":1097.6300000000001},{"$f":"IF($F$17=0,0,(VLOOKUP($F$17,Tablas!$A$695:$H$697,7,TRUE)))","v":902.59},{"$f":"IF($F$17=0,0,(VLOOKUP($F$17,Tablas!$A$695:$H$697,8,TRUE)))","v":790.76}]
["Rider: Complicaciones de  Maternidad",{"$f":"+IF($B$1=FALSE,0,Tablas!D698)","v":0},{"$f":"+IF($B$1=FALSE,0,Tablas!E698)","v":0},{"$f":"+IF($B$1=FALSE,0,Tablas!F698)","v":0},{"$f":"+IF($B$1=FALSE,0,Tablas!G698)","v":119.25},{"$f":"+IF($B$1=FALSE,0,Tablas!H698)","v":119.25}]
["Rider: Trasplante Organos",{"$f":"IF($C$1=FALSE,0,Tablas!D699)","v":159},{"$f":"IF($C$1=FALSE,0,Tablas!E699)","v":159},{"$f":"IF($C$1=FALSE,0,Tablas!F699)","v":159},{"$f":"IF($C$1=FALSE,0,Tablas!G699)","v":159},{"$f":"IF($C$1=FALSE,0,Tablas!H699)","v":159}]
["Rider: Eliminación de Deducible",{"$f":"IF($B$2=FALSE,0,Tablas!D700)","v":23.85},{"$f":"IF($B$2=FALSE,0,Tablas!E700)","v":95.4},{"$f":"IF($B$2=FALSE,0,Tablas!F700)","v":182.85000000000002},{"$f":"IF($B$2=FALSE,0,Tablas!G700)","v":410.75},{"$f":"IF($B$2=FALSE,0,Tablas!H700)","v":704.90000000000009}]
["TOTAL PRIMA NETA",{"$f":"SUM(B44:B49)","v":12507.470000000001},8274.89,6604.8600000000006,5858.09,4873.3500000000004]
["Costo Administrativo Anual ",75,75,75,75,75]
["IVA (12%)",0,0,0,0,0]
["TOTAL  (1ra Cuota)",{"$f":"SUM(B50:B52)","v":12582.470000000001},{"$f":"SUM(C50:C52)","v":8349.89},6679.8600000000006,5933.09,4948.3500000000004]
["TOTAL  (2da Cuota)",{"$f":"B53-B51","v":12507.470000000001},{"$f":"C53-C51","v":8274.89},6604.8600000000006,5858.09,4873.3500000000004]
["GRAN TOTAL",{"$f":"SUM(B53:B54)","v":25089.940000000002},{"$f":"SUM(C53:C54)","v":16624.78},13284.720000000001,11791.18,9821.7000000000007]
[]
[]
["TARIFAS TRIMESTRALES"]
["Prima de Titular",{"$f":"VLOOKUP($B$19,Tablas!$A$706:$H$768,4,TRUE)","v":2636.7000000000003},{"$f":"VLOOKUP($B$19,Tablas!$A$706:$H$768,5,TRUE)","v":1690.7},{"$f":"VLOOKUP($B$19,Tablas!$A$706:$H$768,6,TRUE)","v":1340.075},{"$f":"VLOOKUP($B$19,Tablas!$A$706:$H$768,7,TRUE)","v":1106.875},{"$f":"VLOOKUP($B$19,Tablas!$A$706:$H$768,8,TRUE)","v":804.1}]
["Prima de Cónyuge",{"$f":"IF($B$17=1,0,(VLOOKUP($F$19,Tablas!$A$706:$H$768,4,TRUE)))","v":2636.7000000000003},{"$f":"IF($B$17=1,0,(VLOOKUP($F$19,Tablas!$A$706:$H$768,5,TRUE)))","v":1690.7},{"$f":"IF($B$17=1,0,(VLOOKUP($F$19,Tablas!$A$706:$H$768,5,TRUE)))","v":1690.7},{"$f":"IF($B$17=1,0,(VLOOKUP($F$19,Tablas!$A$706:$H$768,6,TRUE)))","v":1340.075},{"$f":"IF($B$17=1,0,(VLOOKUP($F$19,Tablas!$A$706:$H$768,8,TRUE)))","v":804.1}]
["Primas Hijos",{"$f":"IF($F$17=0,0,(VLOOKUP($F$17,Tablas!$A$769:$H$771,4,TRUE)))","v":1121.45},{"$f":"IF($F$17=0,0,(VLOOKUP($F$17,Tablas!$A$769:$H$771,5,TRUE)))","v":780.17500000000007},{"$f":"IF($F$17=0,0,(VLOOKUP($F$17,Tablas!$A$769:$H$771,6,TRUE)))","v":569.52500000000009},{"$f":"IF($F$17=0,0,(VLOOKUP($F$17,Tablas!$A$769:$H$771,7,TRUE)))","v":468.32500000000005},{"$f":"IF($F$17=0,0,(VLOOKUP($F$17,Tablas!$A$769:$H$771,8,TRUE)))","v":410.3}]
["Rider: Complicaciones de  Maternidad",{"$f":"+IF($B$1=FALSE,0,Tablas!D772)","v":0},{"$f":"+IF($B$1=FALSE,0,Tablas!E772)","v":0},{"$f":"+IF($B$1=FALSE,0,Tablas!F772)","v":0},{"$f":"+IF($B$1=FALSE,0,Tablas!G772)","v":61.875000000000007},{"$f":"+IF($B$1=FALSE,0,Tablas!H772)","v":61.875000000000007}]
["Rider: Trasplante Organos",{"$f":"IF($C$1=FALSE,0,Tablas!D773)","v":82.5},{"$f":"IF($C$1=FALSE,0,Tablas!E773)","v":82.5},{"$f":"IF($C$1=FALSE,0,Tablas!F773)","v":82.5},{"$f":"IF($C$1=FALSE,0,Tablas!G773)","v":82.5},{"$f":"IF($C$1=FALSE,0,Tablas!H773)","v":82.5}]
["Rider: Eliminación de Deducible",{"$f":"IF($B$2=FALSE,0,Tablas!D774)","v":12.375000000000002},{"$f":"IF($B$2=FALSE,0,Tablas!E774)","v":49.500000000000007},{"$f":"IF($B$2=FALSE,0,Tablas!F774)","v":94.875000000000014},{"$f":"IF($B$2=FALSE,0,Tablas!G774)","v":213.12500000000003},{"$f":"IF($B$2=FALSE,0,Tablas!H774)","v":365.75000000000006}]
["TOTAL PRIMA NETA",{"$f":"SUM(B59:B64)","v":6489.7250000000004},4293.5749999999998,3777.6750000000002,3272.7749999999996,2528.625]
["Costo Administrativo Anual ",75,75,75,75,75]
["IVA (12%)",0,0,0,0,0]
["TOTAL  (1ra Cuota)",{"$f":"SUM(B65:B66)","v":6564.7250000000004},{"$f":"SUM(C65:C66)","v":4368.5749999999998},{"$f":"SUM(D65:D66)","v":3852.6750000000002},{"$f":"SUM(E65:E66)","v":3347.7749999999996},{"$f":"SUM(F65:F66)","v":2603.625}]
["TOTAL  (2da a 4ta Cuota)",{"$f":"B68-B66","v":6489.7250000000004},{"$f":"C68-C66","v":4293.5749999999998},3777.6750000000002,3272.7749999999996,2528.625]
["GRAN TOTAL",{"$f":"B68+B69*3","v":26033.9},{"$f":"SUM(C68:C69)","v":8662.15},7630.35,6620.5499999999993,5132.25]
[]
["TARIFAS MENSUALES"]
["Prima de Titular",{"$f":"VLOOKUP($B$19,Tablas!$A$780:$H$842,4,TRUE)","v":894.87999680400003},{"$f":"VLOOKUP($B$19,Tablas!$A$780:$H$842,5,TRUE)","v":573.81333128400001},{"$f":"VLOOKUP($B$19,Tablas!$A$780:$H$842,6,TRUE)","v":454.81333170900001},{"$f":"VLOOKUP($B$19,Tablas!$A$780:$H$842,7,TRUE)","v":375.666665325},{"$f":"VLOOKUP($B$19,Tablas!$A$780:$H$842,8,TRUE)","v":272.90666569199999}]
["Prima de Cónyuge",{"$f":"IF($B$17=1,0,(VLOOKUP($F$19,Tablas!$A$780:$H$842,4,TRUE)))","v":894.87999680400003},{"$f":"IF($B$17=1,0,(VLOOKUP($F$19,Tablas!$A$780:$H$842,5,TRUE)))","v":573.81333128400001},{"$f":"IF($B$17=1,0,(VLOOKUP($F$19,Tablas!$A$780:$H$842,6,TRUE)))","v":454.81333170900001},{"$f":"IF($B$17=1,0,(VLOOKUP($F$19,Tablas!$A$780:$H$842,7,TRUE)))","v":375.666665325},{"$f":"IF($B$17=1,0,(VLOOKUP($F$19,Tablas!$A$780:$H$842,8,TRUE)))","v":272.90666569199999}]
["Primas Hijos",{"$f":"IF($F$17=0,0,(VLOOKUP($F$17,Tablas!$A$843:$H$845,4,TRUE)))","v":380.613331974},{"$f":"IF($F$17=0,0,(VLOOKUP($F$17,Tablas!$A$843:$H$845,5,TRUE)))","v":264.78666572100002},{"$f":"IF($F$17=0,0,(VLOOKUP($F$17,Tablas!$A$843:$H$845,6,TRUE)))","v":193.29333264300001},{"$f":"IF($F$17=0,0,(VLOOKUP($F$17,Tablas!$A$843:$H$845,7,TRUE)))","v":158.946666099},{"$f":"IF($F$17=0,0,(VLOOKUP($F$17,Tablas!$A$843:$H$845,8,TRUE)))","v":139.253332836}]
["Rider: Complicaciones de  Maternidad",{"$f":"+IF($B$1=FALSE,0,Tablas!D846)","v":0},{"$f":"+IF($B$1=FALSE,0,Tablas!E846)","v":0},{"$f":"+IF($B$1=FALSE,0,Tablas!F846)","v":0},{"$f":"+IF($B$1=FALSE,0,Tablas!G846)","v":20.999999925000001},{"$f":"+IF($B$1=FALSE,0,Tablas!H846)","v":20.999999925000001}]
["Rider: Trasplante Organos",{"$f":"IF($C$1=FALSE,0,Tablas!D847)","v":27.999999900000002},{"$f":"IF($C$1=FALSE,0,Tablas!E847)","v":27.999999900000002},{"$f":"IF($C$1=FALSE,0,Tablas!F847)","v":27.999999900000002},{"$f":"IF($C$1=FALSE,0,Tablas!G847)","v":27.999999900000002},{"$f":"IF($C$1=FALSE,0,Tablas!H847)","v":27.999999900000002}]
["Rider: Eliminación de Deducible",{"$f":"IF($B$2=FALSE,0,Tablas!D848)","v":4.1999999849999998},{"$f":"IF($B$2=FALSE,0,Tablas!E848)","v":16.799999939999999},{"$f":"IF($B$2=FALSE,0,Tablas!F848)","v":32.199999885000004},{"$f":"IF($B$2=FALSE,0,Tablas!G848)","v":72.333333074999999},{"$f":"IF($B$2=FALSE,0,Tablas!H848)","v":124.13333289000001}]
["TOTAL PRIMA NETA",{"$f":"SUM(B73:B78)","v":2202.5733254670004},1457.2133281289998,1163.1199958459999,1031.613329649,858.19999693500006]
["Costo Administrativo Anual ",75,75,75,75,75]
["IVA (12%)",0,0,0,0,0]
["TOTAL  (1ra Cuota)",{"$f":"SUM(B79:B80)","v":2277.5733254670004},{"$f":"SUM(C79:C80)","v":1532.2133281289998},{"$f":"SUM(D79:D80)","v":1238.1199958459999},{"$f":"SUM(E79:E80)","v":1106.613329649},{"$f":"SUM(F79:F80)","v":933.19999693500006}]
["TOTAL  (2da a Cuota 12)",{"$f":"B82-B80","v":2202.5733254670004},{"$f":"C82-C80","v":1457.2133281289998},1163.1199958459999,1031.613329649,858.19999693500006]
["GRAN TOTAL",{"$f":"B82+B83*11","v":26505.879905604004},{"$f":"C82+C83*11","v":17561.559937547998},14032.439950152,12454.359955788001,10373.399963220001]
[]
[]
[]
["Este presupuesto solamente tiene carácter informativo y en ningún momento expresa compromiso legal para suministrarle cobertura de seguro. La emisión de una póliza de seguro Bupa está sujeta a todas las evaluaciones de riesgo por parte de Bupa y a la recepción de todos los pagos de prima requeridos."]

{"sheet":"Resumen de Tarifas","index":4,"n_rows":40,"n_cols":8,"rows_kept":40,"cut":false,"hidden":false,"merged":[[31,6,31,7],[12,11,12,16],[14,11,14,16],[25,0,25,2],[24,0,24,6],[28,0,28,2],[16,4,16,5],[18,4,18,5],[22,0,22,2],[23,0,23,2],[26,0,26,2],[27,0,27,2],[21,0,21,2],[4,0,10,6],[6,7,10,7],[4,7,5,7],[17,4,17,5],[11,2,11,7],[12,1,12,7],[14,1,14,7],[39,0,39,2],[32,0,32,2],[33,0,33,2],[34,0,34,2],[35,0,35,7],[37,0,37,2],[38,0,38,2],[36,0,36,2]]}
[]
[null,null,null,null," "," "," "]
[]
[]
["Cotización de Seguro Médico Internacional\nResumen de Tarifas\nTarifas en US$ | Validas: 1 de enero de 2026",null,null,null,null,null,null,"REGIÓN"]
[]
[null,null,null,null,null,null,null,{"$f":"IF('INGRESO DE DATOS'!W14=\"Guatemala\",\"GUATEMALA\",'INGRESO DE DATOS'!W14)","v":"REPÚBLICA DOMINICANA"}]
[]
[]
[]
[]
[]
["Nombre del asegurado principal",{"$f":"+'INGRESO DE DATOS'!$C$36","v":"John Doe"}]
[]
["Broker/Agente",{"$f":"+'INGRESO DE DATOS'!$C$45","v":"Agencia"}]
[]
["Número de Adultos en la Póliza",{"$f":"+'INGRESO DE DATOS'!$C$38","v":2},null,null,"Dependientes (menores de 24 años)",null,null,{"$f":"+'INGRESO DE DATOS'!$F$38","v":1}]
[null,null,null,null,{"$f":"IF('INGRESO DE DATOS'!$P$2=TRUE, \"Cotización para dependiente de 24 años\",\"\")","v":""}]
["Edad del Titular",{"$f":"+'INGRESO DE DATOS'!$C$40","v":18},null,null,"Edad del Cónyuge",null,null,{"$f":"+'INGRESO DE DATOS'!$F$40","v":18}]
[]
[null,null,null,null," "," "," "]
["DEDUCIBLES",null,null,"PLAN 1","PLAN 2","PLAN 3","PLAN 4"]
["Dentro del pais de residencia",null,null,"$0","$0",500,2000]
["Fuera del pais de residencia",null,null,1000,3000,2000,5000]
["Bupa Essential Care"]
["Tarifas Anuales",null,null,{"$f":"'Bupa Essential Care'!G42","v":4487},{"$f":"'Bupa Essential Care'!H42","v":4080},{"$f":"'Bupa Essential Care'!I42","v":3712},{"$f":"'Bupa Essential Care'!J42","v":3211}]
["Tarifas Semestrales",null,null,{"$f":"'Bupa Essential Care'!G56","v":4751.72},{"$f":"'Bupa Essential Care'!H56","v":4320.3},{"$f":"'Bupa Essential Care'!I56","v":3930.2200000000003},{"$f":"'Bupa Essential Care'!J56","v":3399.1600000000003}]
["Tarifas Trimestrales",null,null,{"$f":"'Bupa Essential Care'!G69","v":4928.2000000000007},{"$f":"'Bupa Essential Care'!H69","v":4480.5},{"$f":"'Bupa Essential Care'!I69","v":4075.7000000000007},{"$f":"'Bupa Essential Care'!J69","v":3524.6000000000004}]
["Tarifas Mensuales",null,null,{"$f":"'Bupa Essential Care'!G82","v":5016.4399823520007},{"$f":"'Bupa Essential Care'!H82","v":4560.5999839799997},{"$f":"'Bupa Essential Care'!I82","v":4148.4399854519997},{"$f":"'Bupa Essential Care'!J82","v":3587.319987456}]
[]
[]
[null,null,null,null,null,null,"No incluyen maternidad"]
["DEDUCIBLES",null,null,"PLAN 1","PLAN 2","PLAN 3","PLAN 4","PLAN 5"]
["Dentro del pais de residencia",null,null,250,1000,2000,5000,10000]
["Fuera del pais de residencia",null,null,1000,2000,3000,5000,10000]
["Bupa Elite Care"]
["Tarifas Anuales",null,null,{"$f":"'Bupa Elite Care'!B40","v":23674},{"$f":"'Bupa Elite Care'!C40","v":15688},{"$f":"'Bupa Elite Care'!D40","v":12537},{"$f":"'Bupa Elite Care'!E40","v":11128},{"$f":"'Bupa Elite Care'!F40","v":9270}]
["Tarifas Semestrales",null,null,{"$f":"'Bupa Elite Care'!B55","v":25089.940000000002},{"$f":"'Bupa Elite Care'!C55","v":16624.78},{"$f":"'Bupa Elite Care'!D55","v":13284.720000000001},{"$f":"'Bupa Elite Care'!E55","v":11791.18},{"$f":"'Bupa Elite Care'!F55","v":9821.7000000000007}]
["Tarifas Trimestrales",null,null,{"$f":"'Bupa Elite Care'!B70","v":26033.9},{"$f":"'Bupa Elite Care'!C70","v":8662.15},{"$f":"'Bupa Elite Care'!D70","v":7630.35},{"$f":"'Bupa Elite Care'!E70","v":6620.5499999999993},{"$f":"'Bupa Elite Care'!F70","v":5132.25}]
["Tarifas Mensuales",null,null,{"$f":"'Bupa Elite Care'!B84","v":26505.879905604004},{"$f":"'Bupa Elite Care'!C84","v":17561.559937547998},{"$f":"'Bupa Elite Care'!D84","v":14032.439950152},{"$f":"'Bupa Elite Care'!E84","v":12454.359955788001},{"$f":"'Bupa Elite Care'!F84","v":10373.399963220001}]

{"sheet":"Comparacion de Beneficios","index":5,"n_rows":1,"n_cols":1,"rows_kept":1,"cut":false,"hidden":true,"merged":[[0,0,4,7],[25,5,26,5],[25,6,26,6],[27,0,28,0],[29,0,30,0],[10,4,11,4],[10,5,11,5],[10,6,11,6],[10,7,11,7],[86,0,87,0],[89,0,91,0],[9,0,11,0],[13,0,14,0],[15,0,16,0],[37,0,41,0],[24,0,26,0],[31,0,33,0],[31,7,33,7],[39,5,41,5],[39,6,41,6],[38,7,41,7],[17,0,19,0],[32,6,33,6],[25,2,26,2],[25,3,26,3],[25,4,26,4],[31,2,33,2],[31,3,33,3],[32,4,33,4],[32,5,33,5]]}
["2023 BUPA CARE COMPARACION DE BENEFICIOS"]

{"sheet":"Tablas","index":6,"n_rows":2058,"n_cols":29,"rows_kept":2058,"cut":false,"hidden":true,"merged":[[1229,0,1229,1],[1303,0,1303,7],[1303,16,1303,17],[1304,2,1304,6],[1305,0,1305,1],[1377,0,1377,7],[1377,16,1377,17],[1378,2,1378,6],[1379,0,1379,1],[1151,0,1151,7],[1151,10,1151,11],[1152,0,1152,7],[1152,16,1152,17],[1153,2,1153,6],[1154,0,1154,1],[1227,0,1227,7],[1227,16,1227,17],[1228,2,1228,6],[515,49,515,51],[515,52,515,54],[2,4,2,5],[109,0,109,7],[110,0,110,1],[476,0,476,7],[477,2,477,6],[478,0,478,1],[513,19,513,35],[513,38,513,54],[514,19,514,20],[514,21,514,25],[514,38,514,39],[514,40,514,44],[289,38,289,54],[290,38,290,39],[290,40,290,44],[291,46,291,48],[291,49,291,51],[291,52,291,54],[291,40,291,42],[291,43,291,45],[326,0,326,7],[327,2,327,6],[1,21,1,22],[1,19,1,20],[1,4,1,5],[630,0,630,1],[702,0,702,7],[703,2,703,6],[704,0,704,1],[5,0,5,7],[6,0,6,7],[7,2,7,6],[8,0,8,1],[145,0,145,7],[217,0,217,1],[555,2,555,6],[556,0,556,1],[403,0,403,1],[253,2,253,6],[254,0,254,1],[216,2,216,6],[438,19,438,35],[251,0,251,7],[252,0,252,7],[41,0,41,7],[553,0,553,7],[554,0,554,7],[363,19,363,35],[363,38,363,54],[364,19,364,20],[364,21,364,25],[364,38,364,39],[364,40,364,44],[365,8,365,10],[365,11,365,13],[365,14,365,16],[365,21,365,23],[365,24,365,26],[438,38,438,54],[439,19,439,20],[439,21,439,25],[439,38,439,39],[439,40,439,44],[401,0,401,7],[402,2,402,6],[365,46,365,48],[365,49,365,51],[365,52,365,54],[365,27,365,29],[365,30,365,32],[515,27,515,29],[515,30,515,32],[328,0,328,1],[42,2,42,6],[43,0,43,1],[77,0,77,1],[180,0,180,7],[181,2,181,6],[182,0,182,1],[76,0,76,7],[215,0,215,7],[146,0,146,7],[147,2,147,6],[148,0,148,1],[1004,0,1004,7],[1004,16,1004,17],[365,33,365,35],[365,40,365,42],[365,43,365,45],[440,49,440,51],[440,52,440,54],[628,0,628,7],[629,2,629,6],[440,27,440,29],[440,30,440,32],[440,33,440,35],[440,40,440,42],[440,43,440,45],[440,8,440,10],[440,11,440,13],[440,14,440,16],[440,21,440,23],[440,24,440,26],[515,8,515,10],[515,11,515,13],[515,14,515,16],[515,21,515,23],[515,24,515,26],[1079,2,1079,6],[1080,0,1080,1],[776,0,776,7],[777,2,777,6],[778,0,778,1],[440,46,440,48],[855,0,855,1],[852,0,852,7],[852,10,852,11],[853,0,853,7],[853,16,853,17],[854,2,854,6],[515,46,515,48],[1078,0,1078,7],[1078,16,1078,17],[515,33,515,35],[515,40,515,42],[515,43,515,45],[1005,2,1005,6],[1006,0,1006,1],[928,0,928,7],[928,16,928,17],[929,2,929,6],[930,0,930,1]]}
[null,null,null,null,"FACTOR SEMESTRAL :",null,0.53,null,null,null,null,null,null,null,null,null,null,null,null,null,null,null,null,null,"Essential","Unique-Deductible: 0","Unique","Elite"]
[null,"REGIÓN",{"$f":"'INGRESO DE DATOS'!W14","v":"REPÚBLICA DOMINICANA"},null,"FACTOR TRIMESTRAL",null,0.27500000000000002,null,null,null,null,null,null,null,null,null,null,null,null,null,null,"TOTAL DISCOUNT",null,{"$f":"'INGRESO DE DATOS'!O54","v":1},{"$f":"'INGRESO DE DATOS'!P54","v":1},{"$f":"'INGRESO DE DATOS'!Q54","v":0.8},{"$f":"'INGRESO DE DATOS'!R54","v":0.8},{"$f":"'INGRESO DE DATOS'!S54","v":1},{"$f":"'INGRESO DE DATOS'!T54","v":1}]
[null,null,null,null,"FACTOR MENSUAL",null,9.3333333000000004E-2,null,null,null,null,null,null,null,null,null,null,null,null,null,null,null,null,null,null,{"$f":"'INGRESO DE DATOS'!Q55","v":0.8},{"$f":"'INGRESO DE DATOS'!R55","v":0.8}]
[null,null,null,null,null,null,null,null,null,null,null,null,null,null,null,null,null,null,null,null,null,null,null,null,null,{"$f":"'INGRESO DE DATOS'!Q56","v":0.8},{"$f":"'INGRESO DE DATOS'!R56","v":0.8}]
[null,null,null,null,null,null,null,null,null,null,null,null,null,null,null,null,null,null,null,null,null,null,null,null,null,{"$f":"'INGRESO DE DATOS'!Q57","v":0.8},{"$f":"'INGRESO DE DATOS'!R57","v":0.8}]
["BUPA COMPLETE  CARE",null,null,null,null,null,null,null,null,null,null,null,null,null,null,null,null,null,null,null,null,null,null,null,null,null,{"$f":"'INGRESO DE DATOS'!R58","v":0.8}]
["TARIFAS ANUALES"]
[]
["EDAD",null,null,"CW1","CW2","CW3","CW4"]
[18,"18-24",null,{"$f":"R10","v":0},{"$f":"S10","v":0},{"$f":"T10","v":0},{"$f":"U10","v":0},null,null,null,null,{"$f":"DR!D9","v":0},{"$f":"DR!E9","v":0},{"$f":"DR!F9","v":0},{"$f":"DR!G9","v":0},null,null,{"$f":"L10*$Y$2","v":0},{"$f":"M10*$Y$2","v":0},0,0]
[25,"25-29",null,0,0,0,0,null,null,null,null,{"$f":"DR!D10","v":0},{"$f":"DR!E10","v":0},{"$f":"DR!F10","v":0},{"$f":"DR!G10","v":0},null,null,{"$f":"L11*$Y$2","v":0},{"$f":"M11*$Y$2","v":0},{"$f":"N11*$Y$2","v":0},{"$f":"O11*$Y$2","v":0}]
[30,"30-34",null,0,0,0,0,null,null,null,null,{"$f":"DR!D11","v":0},{"$f":"DR!E11","v":0},{"$f":"DR!F11","v":0},{"$f":"DR!G11","v":0},null,null,0,0,0,0]
[35,"35-39",null,0,0,0,0,null,null,null,null,{"$f":"DR!D12","v":0},{"$f":"DR!E12","v":0},{"$f":"DR!F12","v":0},{"$f":"DR!G12","v":0},null,null,0,0,0,0]
[40,"40-44",null,0,0,0,0,null,null,null,null,{"$f":"DR!D13","v":0},{"$f":"DR!E13","v":0},{"$f":"DR!F13","v":0},{"$f":"DR!G13","v":0},null,null,0,0,0,0]
[45,"45-49",null,0,0,0,0,null,null,null,null,{"$f":"DR!D14","v":0},{"$f":"DR!E14","v":0},{"$f":"DR!F14","v":0},{"$f":"DR!G14","v":0},null,null,0,0,0,0]
[50,"50-54",null,0,0,0,0,null,null,null,null,{"$f":"DR!D15","v":0},{"$f":"DR!E15","v":0},{"$f":"DR!F15","v":0},{"$f":"DR!G15","v":0},null,null,0,0,0,0]
[55,"55-59",null,0,0,0,0,null,null,null,null,{"$f":"DR!D16","v":0},{"$f":"DR!E16","v":0},{"$f":"DR!F16","v":0},{"$f":"DR!G16","v":0},null,null,0,0,0,0]
[60,"60",null,0,0,0,0,null,null,null,null,{"$f":"DR!D17","v":0},{"$f":"DR!E17","v":0},{"$f":"DR!F17","v":0},{"$f":"DR!G17","v":0},null,null,0,0,0,0]
[61,"61",null,0,0,0,0,null,null,null,null,{"$f":"DR!D18","v":0},{"$f":"DR!E18","v":0},{"$f":"DR!F18","v":0},{"$f":"DR!G18","v":0},null,null,0,0,0,0]
[62,"62",null,0,0,0,0,null,null,null,null,{"$f":"DR!D19","v":0},{"$f":"DR!E19","v":0},{"$f":"DR!F19","v":0},{"$f":"DR!G19","v":0},null,null,0,0,0,0]
[63,"63",null,0,0,0,0,null,null,null,null,{"$f":"DR!D20","v":0},{"$f":"DR!E20","v":0},{"$f":"DR!F20","v":0},{"$f":"DR!G20","v":0},null,null,0,0,0,0]
[64,"64",null,0,0,0,0,null,null,null,null,{"$f":"DR!D21","v":0},{"$f":"DR!E21","v":0},{"$f":"DR!F21","v":0},{"$f":"DR!G21","v":0},null,null,0,0,0,0]
[65,"65",null,0,0,0,0,null,null,null,null,{"$f":"DR!D22","v":0},{"$f":"DR!E22","v":0},{"$f":"DR!F22","v":0},{"$f":"DR!G22","v":0},null,null,0,0,0,0]
[66,"66",null,0,0,0,0,null,null,null,null,{"$f":"DR!D23","v":0},{"$f":"DR!E23","v":0},{"$f":"DR!F23","v":0},{"$f":"DR!G23","v":0},null,null,0,0,0,0]
[67,"67",null,0,0,0,0,null,null,null,null,{"$f":"DR!D24","v":0},{"$f":"DR!E24","v":0},{"$f":"DR!F24","v":0},{"$f":"DR!G24","v":0},null,null,0,0,0,0]
[68,"68",null,0,0,0,0,null,null,null,null,{"$f":"DR!D25","v":0},{"$f":"DR!E25","v":0},{"$f":"DR!F25","v":0},{"$f":"DR!G25","v":0},null,null,0,0,0,0]
[69,"69",null,0,0,0,0,null,null,null,null,{"$f":"DR!D26","v":0},{"$f":"DR!E26","v":0},{"$f":"DR!F26","v":0},{"$f":"DR!G26","v":0},null,null,0,0,0,0]
[70,"70",null,0,0,0,0,null,null,null,null,{"$f":"DR!D27","v":0},{"$f":"DR!E27","v":0},{"$f":"DR!F27","v":0},{"$f":"DR!G27","v":0},null,null,0,0,0,0]
[71,"71",null,0,0,0,0,null,null,null,null,{"$f":"DR!D28","v":0},{"$f":"DR!E28","v":0},{"$f":"DR!F28","v":0},{"$f":"DR!G28","v":0},null,null,0,0,0,0]
[72,"72",null,0,0,0,0,null,null,null,null,{"$f":"DR!D29","v":0},{"$f":"DR!E29","v":0},{"$f":"DR!F29","v":0},{"$f":"DR!G29","v":0},null,null,0,0,0,0]
[73,"73",null,0,0,0,0,null,null,null,null,{"$f":"DR!D30","v":0},{"$f":"DR!E30","v":0},{"$f":"DR!F30","v":0},{"$f":"DR!G30","v":0},null,null,0,0,0,0]
[74,"74",null,0,0,0,0,null,null,null,null,{"$f":"DR!D31","v":0},{"$f":"DR!E31","v":0},{"$f":"DR!F31","v":0},{"$f":"DR!G31","v":0},null,null,0,0,0,0]
[75,"75+",null,0,0,0,0,null,null,null,null,{"$f":"DR!D32","v":0},{"$f":"DR!E32","v":0},{"$f":"DR!F32","v":0},{"$f":"DR!G32","v":0},null,null,0,0,0,0]
[1,"1 Child",null,0,0,0,0,null,null,null,null,{"$f":"DR!D33","v":0},{"$f":"DR!E33","v":0},{"$f":"DR!F33","v":0},{"$f":"DR!G33","v":0},null,null,0,0,0,0]
[2,"2 Children",null,0,0,0,0,null,null,null,null,{"$f":"DR!D34","v":0},{"$f":"DR!E34","v":0},{"$f":"DR!F34","v":0},{"$f":"DR!G34","v":0},null,null,0,0,0,0]
[3,"3+ Children",null,0,0,0,0,null,null,null,null,{"$f":"DR!D35","v":0},{"$f":"DR!E35","v":0},{"$f":"DR!F35","v":0},{"$f":"DR!G35","v":0},null,null,0,0,0,0]
[1,"Rider Comp. Maternidad",null,{"$f":"L37","v":0},0,225,225,null,null,null,null,0,0,225,225]
[1,"Transplante de organos",null,0,0,0,0,null,null,null,null,0,0,0,0]
[null,null,null,0,0,0,0]
[]
[]
["TARIFAS SEMESTRALES"]
[]
["EDAD",null,null,"CW1","CW2","CW3","CW4"]
[18,"18-24",null,{"$f":"D10*$G$1","v":0},0,0,0]
[25,"25-29",null,0,0,0,0]
[30,"30-34",null,0,0,0,0]
[35,"35-39",null,0,0,0,0]
[40,"40-44",null,0,0,0,0]
[45,"45-49",null,0,0,0,0]
[50,"50-54",null,0,0,0,0]
[55,"55-59",null,0,0,0,0]
[60,"60",null,0,0,0,0]
[61,"61",null,0,0,0,0]
[62,"62",null,0,0,0,0]
[63,"63",null,0,0,0,0]
[64,"64",null,0,0,0,0]
[65,"65",null,0,0,0,0]
[66,"66",null,0,0,0,0]
[67,"67",null,0,0,0,0]
[68,"68",null,0,0,0,0]
[69,"69",null,0,0,0,0]
[70,"70",null,0,0,0,0]
[71,"71",null,0,0,0,0]
[72,"72",null,0,0,0,0]
[73,"73",null,0,0,0,0]
[74,"74",null,0,0,0,0]
[75,"75+",null,0,0,0,0]
[1,"1 Child",null,0,0,0,0]
[2,"2 Children",null,0,0,0,0]
[3,"3+ Children",null,0,0,0,0]
[1,"Rider Comp. Maternidad",null,0,0,119.25,119.25]
[1,"Transplante de organos",null,0,0,0,0]
[]
[]
[]
["TARIFAS TRIMESTRALES"]
["EDAD",null,null,"CW1","CW2","CW3","CW4"]
[18,"18-24",null,{"$f":"D10*$G$2","v":0},0,0,0]
[25,"25-29",null,0,0,0,0]
[30,"30-34",null,0,0,0,0]
[35,"35-39",null,0,0,0,0]
[40,"40-44",null,0,0,0,0]
[45,"45-49",null,0,0,0,0]
[50,"50-54",null,0,0,0,0]
[55,"55-59",null,0,0,0,0]
[60,"60",null,0,0,0,0]
[61,"61",null,0,0,0,0]
[62,"62",null,0,0,0,0]
[63,"63",null,0,0,0,0]
[64,"64",null,0,0,0,0]
[65,"65",null,0,0,0,0]
[66,"66",null,0,0,0,0]
[67,"67",null,0,0,0,0]
[68,"68",null,0,0,0,0]
[69,"69",null,0,0,0,0]
[70,"70",null,0,0,0,0]
[71,"71",null,0,0,0,0]
[72,"72",null,0,0,0,0]
[73,"73",null,0,0,0,0]
[74,"74",null,0,0,0,0]
[75,"75+",null,0,0,0,0]
[1,"1 Child",null,0,0,0,0]
[2,"2 Children",null,0,0,0,0]
[3,"3+ Children",null,0,0,0,0]
[1,"Rider Comp. Maternidad",null,0,0,61.875000000000007,61.875000000000007]
[1,"Transplante de organos",null,0,0,0,0]
[null,null,null,0,0,0,0]
[]
["TARIFAS MENSUALES"]
["EDAD",null,null,"CW1","CW2","CW3","CW4"]
[18,"18-24",null,{"$f":"D10*$G$3","v":0},0,0,0]
[25,"25-29",null,0,0,0,0]
[30,"30-34",null,0,0,0,0]
[35,"35-39",null,0,0,0,0]
[40,"40-44",null,0,0,0,0]
[45,"45-49",null,0,0,0,0]
[50,"50-54",null,0,0,0,0]
[55,"55-59",null,0,0,0,0]
[60,"60",null,0,0,0,0]
[61,"61",null,0,0,0,0]
[62,"62",null,0,0,0,0]
[63,"63",null,0,0,0,0]
[64,"64",null,0,0,0,0]
[65,"65",null,0,0,0,0]
[66,"66",null,0,0,0,0]
[67,"67",null,0,0,0,0]
[68,"68",null,0,0,0,0]
[69,"69",null,0,0,0,0]
[70,"70",null,0,0,0,0]
[71,"71",null,0,0,0,0]
[72,"72",null,0,0,0,0]
[73,"73",null,0,0,0,0]
[74,"74",null,0,0,0,0]
[75,"75+",null,0,0,0,0]
[1,"1 Child",null,0,0,0,0]
[2,"2 Children",null,0,0,0,0]
[3,"3+ Children",null,0,0,0,0]
[1,"Rider Comp. Maternidad",null,0,0,20.999999925000001,20.999999925000001]
[1,"Transplante de organos",null,0,0,0,0]
[null,null,null,0,0,0,0]
[]
[]
[]
[]
["BUPA SECURE CARE"]
["TARIFAS ANUALES"]
[]
["EDAD",null,null,"SE2","SE3","SE4","SE5","SE6"]
[18,"18-24",null,{"$f":"R150","v":0},{"$f":"S150","v":0},0,0,0,null,null,null,{"$f":"DR!D48","v":0},{"$f":"DR!E48","v":0},{"$f":"DR!F48","v":0},{"$f":"DR!G48","v":0},{"$f":"DR!H48","v":0},null,{"$f":"L150*$AA$2","v":0},{"$f":"M150*$AA$2","v":0},{"$f":"N150*$AA$2","v":0},{"$f":"O150*$AA$2","v":0},{"$f":"P150*$AA$2","v":0}]
[25,"25-29",null,{"$f":"R151","v":0},{"$f":"S151","v":0},{"$f":"T151","v":0},{"$f":"U151","v":0},{"$f":"V151","v":0},null,null,null,{"$f":"DR!D49","v":0},{"$f":"DR!E49","v":0},{"$f":"DR!F49","v":0},{"$f":"DR!G49","v":0},{"$f":"DR!H49","v":0},null,0,0,0,0,0]
[30,"30-34",null,0,0,0,0,0,null,null,null,{"$f":"DR!D50","v":0},{"$f":"DR!E50","v":0},{"$f":"DR!F50","v":0},{"$f":"DR!G50","v":0},{"$f":"DR!H50","v":0},null,0,0,0,0,0]
[35,"35-39",null,0,0,0,0,0,null,null,null,{"$f":"DR!D51","v":0},{"$f":"DR!E51","v":0},{"$f":"DR!F51","v":0},{"$f":"DR!G51","v":0},{"$f":"DR!H51","v":0},null,0,0,0,0,0]
[40,"40-44",null,0,0,0,0,0,null,null,null,{"$f":"DR!D52","v":0},{"$f":"DR!E52","v":0},{"$f":"DR!F52","v":0},{"$f":"DR!G52","v":0},{"$f":"DR!H52","v":0},null,0,0,0,0,0]
[45,"45-49",null,0,0,0,0,0,null,null,null,{"$f":"DR!D53","v":0},{"$f":"DR!E53","v":0},{"$f":"DR!F53","v":0},{"$f":"DR!G53","v":0},{"$f":"DR!H53","v":0},null,0,0,0,0,0]
[50,"50-54",null,0,0,0,0,0,null,null,null,{"$f":"DR!D54","v":0},{"$f":"DR!E54","v":0},{"$f":"DR!F54","v":0},{"$f":"DR!G54","v":0},{"$f":"DR!H54","v":0},null,0,0,0,0,0]
[55,"55-59",null,0,0,0,0,0,null,null,null,{"$f":"DR!D55","v":0},{"$f":"DR!E55","v":0},{"$f":"DR!F55","v":0},{"$f":"DR!G55","v":0},{"$f":"DR!H55","v":0},null,0,0,0,0,0]
[60,"60",null,0,0,0,0,0,null,null,null,{"$f":"DR!D56","v":0},{"$f":"DR!E56","v":0},{"$f":"DR!F56","v":0},{"$f":"DR!G56","v":0},{"$f":"DR!H56","v":0},null,0,0,0,0,0]
[61,"61",null,0,0,0,0,0,null,null,null,{"$f":"DR!D57","v":0},{"$f":"DR!E57","v":0},{"$f":"DR!F57","v":0},{"$f":"DR!G57","v":0},{"$f":"DR!H57","v":0},null,0,0,0,0,0]
[62,"62",null,0,0,0,0,0,null,null,null,{"$f":"DR!D58","v":0},{"$f":"DR!E58","v":0},{"$f":"DR!F58","v":0},{"$f":"DR!G58","v":0},{"$f":"DR!H58","v":0},null,0,0,0,0,0]
[63,"63",null,0,0,0,0,0,null,null,null,{"$f":"DR!D59","v":0},{"$f":"DR!E59","v":0},{"$f":"DR!F59","v":0},{"$f":"DR!G59","v":0},{"$f":"DR!H59","v":0},null,0,0,0,0,0]
[64,"64",null,0,0,0,0,0,null,null,null,{"$f":"DR!D60","v":0},{"$f":"DR!E60","v":0},{"$f":"DR!F60","v":0},{"$f":"DR!G60","v":0},{"$f":"DR!H60","v":0},null,0,0,0,0,0]
[65,"65",null,0,0,0,0,0,null,null,null,{"$f":"DR!D61","v":0},{"$f":"DR!E61","v":0},{"$f":"DR!F61","v":0},{"$f":"DR!G61","v":0},{"$f":"DR!H61","v":0},null,0,0,0,0,0]
[66,"66",null,0,0,0,0,0,null,null,null,{"$f":"DR!D62","v":0},{"$f":"DR!E62","v":0},{"$f":"DR!F62","v":0},{"$f":"DR!G62","v":0},{"$f":"DR!H62","v":0},null,0,0,0,0,0]
[67,"67",null,0,0,0,0,0,null,null,null,{"$f":"DR!D63","v":0},{"$f":"DR!E63","v":0},{"$f":"DR!F63","v":0},{"$f":"DR!G63","v":0},{"$f":"DR!H63","v":0},null,0,0,0,0,0]
[68,"68",null,0,0,0,0,0,null,null,null,{"$f":"DR!D64","v":0},{"$f":"DR!E64","v":0},{"$f":"DR!F64","v":0},{"$f":"DR!G64","v":0},{"$f":"DR!H64","v":0},null,0,0,0,0,0]
[69,"69",null,0,0,0,0,0,null,null,null,{"$f":"DR!D65","v":0},{"$f":"DR!E65","v":0},{"$f":"DR!F65","v":0},{"$f":"DR!G65","v":0},{"$f":"DR!H65","v":0},null,0,0,0,0,0]
[70,"70",null,0,0,0,0,0,null,null,null,{"$f":"DR!D66","v":0},{"$f":"DR!E66","v":0},{"$f":"DR!F66","v":0},{"$f":"DR!G66","v":0},{"$f":"DR!H66","v":0},null,0,0,0,0,0]
[71,"71",null,0,0,0,0,0,null,null,null,{"$f":"DR!D67","v":0},{"$f":"DR!E67","v":0},{"$f":"DR!F67","v":0},{"$f":"DR!G67","v":0},{"$f":"DR!H67","v":0},null,0,0,0,0,0]
[72,"72",null,0,0,0,0,0,null,null,null,{"$f":"DR!D68","v":0},{"$f":"DR!E68","v":0},{"$f":"DR!F68","v":0},{"$f":"DR!G68","v":0},{"$f":"DR!H68","v":0},null,0,0,0,0,0]
[73,"73",null,0,0,0,0,0,null,null,null,{"$f":"DR!D69","v":0},{"$f":"DR!E69","v":0},{"$f":"DR!F69","v":0},{"$f":"DR!G69","v":0},{"$f":"DR!H69","v":0},null,0,0,0,0,0]
[74,"74",null,0,0,0,0,0,null,null,null,{"$f":"DR!D70","v":0},{"$f":"DR!E70","v":0},{"$f":"DR!F70","v":0},{"$f":"DR!G70","v":0},{"$f":"DR!H70","v":0},null,0,0,0,0,0]
[75,"75+",null,0,0,0,0,0,null,null,null,{"$f":"DR!D71","v":0},{"$f":"DR!E71","v":0},{"$f":"DR!F71","v":0},{"$f":"DR!G71","v":0},{"$f":"DR!H71","v":0},null,0,0,0,0,0]
[1,"1 Child",null,0,0,0,0,0,null,null,null,{"$f":"DR!D72","v":0},{"$f":"DR!E72","v":0},{"$f":"DR!F72","v":0},{"$f":"DR!G72","v":0},{"$f":"DR!H72","v":0},null,0,0,0,0,0]
[2,"2 Children",null,0,0,0,0,0,null,null,null,{"$f":"DR!D73","v":0},{"$f":"DR!E73","v":0},{"$f":"DR!F73","v":0},{"$f":"DR!G73","v":0},{"$f":"DR!H73","v":0},null,0,0,0,0,0]
[3,"3+ Children",null,{"$f":"R176","v":0},{"$f":"S176","v":0},{"$f":"T176","v":0},{"$f":"U176","v":0},{"$f":"V176","v":0},null,null,null,{"$f":"DR!D74","v":0},{"$f":"DR!E74","v":0},{"$f":"DR!F74","v":0},{"$f":"DR!G74","v":0},{"$f":"DR!H74","v":0},null,0,0,0,0,0]
[1,"Rider Comp. Maternidad",null,{"$f":"L177","v":225},{"$f":"M177","v":225},225,225,225,null,null,null,225,225,225,225,225]
[1,"Transplante de organos",null,{"$f":"L178","v":300},{"$f":"M178","v":300},{"$f":"N178","v":300},{"$f":"O178","v":300},{"$f":"P178","v":300},null,null,null,300,300,300,300,300]
[]
[]
["TARIFAS SEMESTRALES"]
[]
["EDAD",null,null,"SE2","SE3","SE4","SE5","SE6"]
[18,"18-24",null,{"$f":"D150*$G$1","v":0},0,0,0,0]
[25,"25-29",null,0,0,0,0,0]
[30,"30-34",null,0,0,0,0,0]
[35,"35-39",null,0,0,0,0,0]
[40,"40-44",null,0,0,0,0,0]
[45,"45-49",null,0,0,0,0,0]
[50,"50-54",null,0,0,0,0,0]
[55,"55-59",null,0,0,0,0,0]
[60,"60",null,0,0,0,0,0]
[61,"61",null,0,0,0,0,0]
[62,"62",null,{"$f":"D160*$G$1","v":0},0,0,0,0]
[63,"63",null,0,0,0,0,0]
[64,"64",null,0,0,0,0,0]
[65,"65",null,0,0,0,0,0]
[66,"66",null,0,0,0,0,0]
[67,"67",null,0,0,0,0,0]
[68,"68",null,0,0,0,0,0]
[69,"69",null,0,0,0,0,0]
[70,"70",null,0,0,0,0,0]
[71,"71",null,0,0,0,0,0]
[72,"72",null,{"$f":"D170*$G$1","v":0},0,0,0,0]
[73,"73",null,0,0,0,0,0]
[74,"74",null,0,0,0,0,0]
[75,"75+",null,0,0,0,0,0]
[1,"1 Child",null,0,0,0,0,0]
[2,"2 Children",null,0,0,0,0,0]
[3,"3+ Children",null,0,0,0,0,0]
[1,"Rider Comp. Maternidad",null,119.25,119.25,119.25,119.25,119.25]
[1,"Transplante de organos",null,159,159,159,159,159]
[]
[]
[]
["TARIFAS TRIMESTRALES"]
[]
["EDAD",null,null,"SE2","SE3","SE4","SE5","SE6"]
[18,"18-24",null,{"$f":"D150*$G$2","v":0},0,0,0,0]
[25,"25-29",null,0,0,0,0,0]
[30,"30-34",null,0,0,0,0,0]
[35,"35-39",null,0,0,0,0,0]
[40,"40-44",null,0,0,0,0,0]
[45,"45-49",null,0,0,0,0,0]
[50,"50-54",null,0,0,0,0,0]
[55,"55-59",null,0,0,0,0,0]
[60,"60",null,0,0,0,0,0]
[61,"61",null,0,0,0,0,0]
[62,"62",null,{"$f":"D160*$G$2","v":0},0,0,0,0]
[63,"63",null,0,0,0,0,0]
[64,"64",null,0,0,0,0,0]
[65,"65",null,0,0,0,0,0]
[66,"66",null,0,0,0,0,0]
[67,"67",null,0,0,0,0,0]
[68,"68",null,0,0,0,0,0]
[69,"69",null,0,0,0,0,0]
[70,"70",null,0,0,0,0,0]
[71,"71",null,0,0,0,0,0]
[72,"72",null,{"$f":"D170*$G$2","v":0},0,0,0,0]
[73,"73",null,0,0,0,0,0]
[74,"74",null,0,0,0,0,0]
[75,"75+",null,0,0,0,0,0]
[1,"1 Child",null,0,0,0,0,0]
[2,"2 Children",null,0,0,0,0,0]
[3,"3+ Children",null,0,0,0,0,0]
[1,"Rider Comp. Maternidad",null,61.875000000000007,61.875000000000007,61.875000000000007,61.875000000000007,61.875000000000007]
[1,"Transplante de organos",null,82.5,82.5,82.5,82.5,82.5]
[]
[]
[]
[]
["BUPA ESSENTIAL CARE",null,null,null,null,null,null,null,null,null,null,null,null,null,null,null,null,null,null,null,null,null,null,null,null,null,{"$f":"'INGRESO DE DATOS'!R58","v":0.8}]
["TARIFAS ANUALES"]
[]
["EDAD",null,"ET1","ET2","ET3","ET4","ET5","ET6"]
[18,null,{"$f":"R256","v":1874},{"$f":"S256","v":1702},1545,1332,0,null,null,null,{"$f":"DR!C86","v":1874},{"$f":"DR!D86","v":1702},{"$f":"DR!E86","v":1545},{"$f":"DR!F86","v":1332},{"$f":"DR!G86","v":0},null,null,{"$f":"K256*$Y$2","v":1874},{"$f":"L256*$Y$2","v":1702},1545,1332,{"$f":"O256*$AA$6","v":0},{"$f":"P256*$AB$2","v":0}]
[19,null,{"$f":"R257","v":1874},{"$f":"S257","v":1702},{"$f":"T257","v":1545},{"$f":"U257","v":1332},{"$f":"V257","v":0},null,null,null,{"$f":"DR!C87","v":1874},{"$f":"DR!D87","v":1702},{"$f":"DR!E87","v":1545},{"$f":"DR!F87","v":1332},{"$f":"DR!G87","v":0},null,null,{"$f":"K257*$Y$2","v":1874},{"$f":"L257*$Y$2","v":1702},{"$f":"M257*$Y$2","v":1545},{"$f":"N257*$Y$2","v":1332},{"$f":"O257*$AA$6","v":0},0]
[20,null,1874,1702,1545,1332,0,null,null,null,{"$f":"DR!C88","v":1874},{"$f":"DR!D88","v":1702},{"$f":"DR!E88","v":1545},{"$f":"DR!F88","v":1332},{"$f":"DR!G88","v":0},null,null,1874,1702,1545,1332,0,0]
[21,null,1874,1702,1545,1332,0,null,null,null,{"$f":"DR!C89","v":1874},{"$f":"DR!D89","v":1702},{"$f":"DR!E89","v":1545},{"$f":"DR!F89","v":1332},{"$f":"DR!G89","v":0},null,null,1874,1702,1545,1332,0,0]
[22,null,1874,1702,1545,1332,0,null,null,null,{"$f":"DR!C90","v":1874},{"$f":"DR!D90","v":1702},{"$f":"DR!E90","v":1545},{"$f":"DR!F90","v":1332},{"$f":"DR!G90","v":0},null,null,1874,1702,1545,1332,0,0]
[23,null,1874,1702,1545,1332,0,null,null,null,{"$f":"DR!C91","v":1874},{"$f":"DR!D91","v":1702},{"$f":"DR!E91","v":1545},{"$f":"DR!F91","v":1332},{"$f":"DR!G91","v":0},null,null,1874,1702,1545,1332,0,0]
[24,null,1874,1702,1545,1332,0,null,null,null,{"$f":"DR!C92","v":1874},{"$f":"DR!D92","v":1702},{"$f":"DR!E92","v":1545},{"$f":"DR!F92","v":1332},{"$f":"DR!G92","v":0},null,null,1874,1702,1545,1332,0,0]
[25,null,2106,1913,1738,1499,0,null,null,null,{"$f":"DR!C93","v":2106},{"$f":"DR!D93","v":1913},{"$f":"DR!E93","v":1738},{"$f":"DR!F93","v":1499},{"$f":"DR!G93","v":0},null,null,2106,1913,1738,1499,0,0]
[26,null,2106,1913,1738,1499,0,null,null,null,{"$f":"DR!C94","v":2106},{"$f":"DR!D94","v":1913},{"$f":"DR!E94","v":1738},{"$f":"DR!F94","v":1499},{"$f":"DR!G94","v":0},null,null,2106,1913,1738,1499,0,0]
[27,null,2106,1913,1738,1499,0,null,null,null,{"$f":"DR!C95","v":2106},{"$f":"DR!D95","v":1913},{"$f":"DR!E95","v":1738},{"$f":"DR!F95","v":1499},{"$f":"DR!G95","v":0},null,null,2106,1913,1738,1499,0,0]
[28,null,2106,1913,1738,1499,0,null,null,null,{"$f":"DR!C96","v":2106},{"$f":"DR!D96","v":1913},{"$f":"DR!E96","v":1738},{"$f":"DR!F96","v":1499},{"$f":"DR!G96","v":0},null,null,2106,1913,1738,1499,0,0]
[29,null,2106,1913,1738,1499,0,null,null,null,{"$f":"DR!C97","v":2106},{"$f":"DR!D97","v":1913},{"$f":"DR!E97","v":1738},{"$f":"DR!F97","v":1499},{"$f":"DR!G97","v":0},null,null,2106,1913,1738,1499,0,0]
[30,null,2361,2145,1951,1682,0,null,null,null,{"$f":"DR!C98","v":2361},{"$f":"DR!D98","v":2145},{"$f":"DR!E98","v":1951},{"$f":"DR!F98","v":1682},{"$f":"DR!G98","v":0},null,null,2361,2145,1951,1682,0,0]
[31,null,2361,2145,1951,1682,0,null,null,null,{"$f":"DR!C99","v":2361},{"$f":"DR!D99","v":2145},{"$f":"DR!E99","v":1951},{"$f":"DR!F99","v":1682},{"$f":"DR!G99","v":0},null,null,2361,2145,1951,1682,0,0]
[32,null,2361,2145,1951,1682,0,null,null,null,{"$f":"DR!C100","v":2361},{"$f":"DR!D100","v":2145},{"$f":"DR!E100","v":1951},{"$f":"DR!F100","v":1682},{"$f":"DR!G100","v":0},null,null,2361,2145,1951,1682,0,0]
[33,null,2361,2145,1951,1682,0,null,null,null,{"$f":"DR!C101","v":2361},{"$f":"DR!D101","v":2145},{"$f":"DR!E101","v":1951},{"$f":"DR!F101","v":1682},{"$f":"DR!G101","v":0},null,null,2361,2145,1951,1682,0,0]
[34,null,2361,2145,1951,1682,0,null,null,null,{"$f":"DR!C102","v":2361},{"$f":"DR!D102","v":2145},{"$f":"DR!E102","v":1951},{"$f":"DR!F102","v":1682},{"$f":"DR!G102","v":0},null,null,2361,2145,1951,1682,0,0]
[35,null,2696,2448,2225,1919,0,null,null,null,{"$f":"DR!C103","v":2696},{"$f":"DR!D103","v":2448},{"$f":"DR!E103","v":2225},{"$f":"DR!F103","v":1919},{"$f":"DR!G103","v":0},null,null,2696,2448,2225,1919,0,0]
[36,null,2696,2448,2225,1919,0,null,null,null,{"$f":"DR!C104","v":2696},{"$f":"DR!D104","v":2448},{"$f":"DR!E104","v":2225},{"$f":"DR!F104","v":1919},{"$f":"DR!G104","v":0},null,null,2696,2448,2225,1919,0,0]
[37,null,2696,2448,2225,1919,0,null,null,null,{"$f":"DR!C105","v":2696},{"$f":"DR!D105","v":2448},{"$f":"DR!E105","v":2225},{"$f":"DR!F105","v":1919},{"$f":"DR!G105","v":0},null,null,2696,2448,2225,1919,0,0]
[38,null,2696,2448,2225,1919,0,null,null,null,{"$f":"DR!C106","v":2696},{"$f":"DR!D106","v":2448},{"$f":"DR!E106","v":2225},{"$f":"DR!F106","v":1919},{"$f":"DR!G106","v":0},null,null,2696,2448,2225,1919,0,0]
[39,null,2696,2448,2225,1919,0,null,null,null,{"$f":"DR!C107","v":2696},{"$f":"DR!D107","v":2448},{"$f":"DR!E107","v":2225},{"$f":"DR!F107","v":1919},{"$f":"DR!G107","v":0},null,null,2696,2448,2225,1919,0,0]
[40,null,3126,2838,2578,2223,0,null,null,null,{"$f":"DR!C108","v":3126},{"$f":"DR!D108","v":2838},{"$f":"DR!E108","v":2578},{"$f":"DR!F108","v":2223},{"$f":"DR!G108","v":0},null,null,3126,2838,2578,2223,0,0]
[41,null,3126,2838,2578,2223,0,null,null,null,{"$f":"DR!C109","v":3126},{"$f":"DR!D109","v":2838},{"$f":"DR!E109","v":2578},{"$f":"DR!F109","v":2223},{"$f":"DR!G109","v":0},null,null,3126,2838,2578,2223,0,0]
[42,null,3126,2838,2578,2223,0,null,null,null,{"$f":"DR!C110","v":3126},{"$f":"DR!D110","v":2838},{"$f":"DR!E110","v":2578},{"$f":"DR!F110","v":2223},{"$f":"DR!G110","v":0},null,null,3126,2838,2578,2223,0,0]
[43,null,3126,2838,2578,2223,0,null,null,null,{"$f":"DR!C111","v":3126},{"$f":"DR!D111","v":2838},{"$f":"DR!E111","v":2578},{"$f":"DR!F111","v":2223},{"$f":"DR!G111","v":0},null,null,3126,2838,2578,2223,0,0]
[44,null,3126,2838,2578,2223,0,null,null,null,{"$f":"DR!C112","v":3126},{"$f":"DR!D112","v":2838},{"$f":"DR!E112","v":2578},{"$f":"DR!F112","v":2223},{"$f":"DR!G112","v":0},null,null,3126,2838,2578,2223,0,0]
[45,null,3735,3391,3082,2657,0,null,null,null,{"$f":"DR!C113","v":3735},{"$f":"DR!D113","v":3391},{"$f":"DR!E113","v":3082},{"$f":"DR!F113","v":2657},{"$f":"DR!G113","v":0},null,null,3735,3391,3082,2657,0,0]
[46,null,3735,3391,3082,2657,0,null,null,null,{"$f":"DR!C114","v":3735},{"$f":"DR!D114","v":3391},{"$f":"DR!E114","v":3082},{"$f":"DR!F114","v":2657},{"$f":"DR!G114","v":0},null,null,3735,3391,3082,2657,0,0]
[47,null,3735,3391,3082,2657,0,null,null,null,{"$f":"DR!C115","v":3735},{"$f":"DR!D115","v":3391},{"$f":"DR!E115","v":3082},{"$f":"DR!F115","v":2657},{"$f":"DR!G115","v":0},null,null,3735,3391,3082,2657,0,0]
[48,null,3735,3391,3082,2657,0,null,null,null,{"$f":"DR!C116","v":3735},{"$f":"DR!D116","v":3391},{"$f":"DR!E116","v":3082},{"$f":"DR!F116","v":2657},{"$f":"DR!G116","v":0},null,null,3735,3391,3082,2657,0,0]
[49,null,3735,3391,3082,2657,0,null,null,null,{"$f":"DR!C117","v":3735},{"$f":"DR!D117","v":3391},{"$f":"DR!E117","v":3082},{"$f":"DR!F117","v":2657},{"$f":"DR!G117","v":0},null,null,3735,3391,3082,2657,0,0]
[50,null,4458,4048,3677,3170,0,null,null,null,{"$f":"DR!C118","v":4458},{"$f":"DR!D118","v":4048},{"$f":"DR!E118","v":3677},{"$f":"DR!F118","v":3170},{"$f":"DR!G118","v":0},null,null,4458,4048,3677,3170,0,{"$f":"P288*$AB$2","v":0}]
[51,null,4458,4048,3677,3170,0,null,null,null,{"$f":"DR!C119","v":4458},{"$f":"DR!D119","v":4048},{"$f":"DR!E119","v":3677},{"$f":"DR!F119","v":3170},{"$f":"DR!G119","v":0},null,null,4458,4048,3677,3170,0,0]
[52,null,4458,4048,3677,3170,0,null,null,null,{"$f":"DR!C120","v":4458},{"$f":"DR!D120","v":4048},{"$f":"DR!E120","v":3677},{"$f":"DR!F120","v":3170},{"$f":"DR!G120","v":0},null,null,4458,4048,3677,3170,0,0]
[53,null,4458,4048,3677,3170,0,null,null,null,{"$f":"DR!C121","v":4458},{"$f":"DR!D121","v":4048},{"$f":"DR!E121","v":3677},{"$f":"DR!F121","v":3170},{"$f":"DR!G121","v":0},null,null,4458,4048,3677,3170,0,0]
[54,null,4458,4048,3677,3170,0,null,null,null,{"$f":"DR!C122","v":4458},{"$f":"DR!D122","v":4048},{"$f":"DR!E122","v":3677},{"$f":"DR!F122","v":3170},{"$f":"DR!G122","v":0},null,null,4458,4048,3677,3170,0,0]
[55,null,5303,4816,4377,3773,0,null,null,null,{"$f":"DR!C123","v":5303},{"$f":"DR!D123","v":4816},{"$f":"DR!E123","v":4377},{"$f":"DR!F123","v":3773},{"$f":"DR!G123","v":0},null,null,5303,4816,4377,3773,0,0]
[56,null,5303,4816,4377,3773,0,null,null,null,{"$f":"DR!C124","v":5303},{"$f":"DR!D124","v":4816},{"$f":"DR!E124","v":4377},{"$f":"DR!F124","v":3773},{"$f":"DR!G124","v":0},null,null,5303,4816,4377,3773,0,0]
[57,null,5303,4816,4377,3773,0,null,null,null,{"$f":"DR!C125","v":5303},{"$f":"DR!D125","v":4816},{"$f":"DR!E125","v":4377},{"$f":"DR!F125","v":3773},{"$f":"DR!G125","v":0},null,null,5303,4816,4377,3773,0,0]
[58,null,5303,4816,4377,3773,0,null,null,null,{"$f":"DR!C126","v":5303},{"$f":"DR!D126","v":4816},{"$f":"DR!E126","v":4377},{"$f":"DR!F126","v":3773},{"$f":"DR!G126","v":0},null,null,5303,4816,4377,3773,0,0]
[59,null,5303,4816,4377,3773,0,null,null,null,{"$f":"DR!C127","v":5303},{"$f":"DR!D127","v":4816},{"$f":"DR!E127","v":4377},{"$f":"DR!F127","v":3773},{"$f":"DR!G127","v":0},null,null,5303,4816,4377,3773,0,0]
[60,null,5883,5344,4854,4185,0,null,null,null,{"$f":"DR!C128","v":5883},{"$f":"DR!D128","v":5344},{"$f":"DR!E128","v":4854},{"$f":"DR!F128","v":4185},{"$f":"DR!G128","v":0},null,null,5883,5344,4854,4185,0,0]
[61,null,6128,5564,5055,4358,0,null,null,null,6128,5564,5055,4358,{"$f":"DR!G129","v":0},null,null,6128,5564,5055,4358,0,0]
[62,null,6422,5832,5300,4569,0,null,null,null,6422,5832,5300,4569,{"$f":"DR!G130","v":0},null,null,6422,5832,5300,4569,0,0]
[63,null,6742,6123,5563,4795,0,null,null,null,6742,6123,5563,4795,{"$f":"DR!G131","v":0},null,null,6742,6123,5563,4795,0,0]
[64,null,7127,6473,5880,5069,0,null,null,null,7127,6473,5880,5069,{"$f":"DR!G132","v":0},null,null,7127,6473,5880,5069,0,0]
[65,null,7660,6955,6318,5447,0,null,null,null,7660,6955,6318,5447,{"$f":"DR!G133","v":0},null,null,7660,6955,6318,5447,0,0]
[66,null,8274,7513,6826,5883,0,null,null,null,8274,7513,6826,5883,{"$f":"DR!G134","v":0},null,null,8274,7513,6826,5883,0,0]
[67,null,8931,8110,7369,6351,0,null,null,null,8931,8110,7369,6351,{"$f":"DR!G135","v":0},null,null,8931,8110,7369,6351,0,0]
[68,null,9681,8788,7986,6883,0,null,null,null,9681,8788,7986,6883,{"$f":"DR!G136","v":0},null,null,9681,8788,7986,6883,0,0]
[69,null,10563,9591,8715,7512,0,null,null,null,10563,9591,8715,7512,{"$f":"DR!G137","v":0},null,null,10563,9591,8715,7512,0,0]
[70,null,11657,10584,9618,8289,0,null,null,null,11657,10584,9618,8289,{"$f":"DR!G138","v":0},null,null,11657,10584,9618,8289,0,0]
[71,null,12940,11749,10675,9201,0,null,null,null,12940,11749,10675,9201,{"$f":"DR!G139","v":0},null,null,12940,11749,10675,9201,0,0]
[72,null,14313,12997,11808,10177,0,null,null,null,14313,12997,11808,10177,{"$f":"DR!G140","v":0},null,null,14313,12997,11808,10177,0,0]
[73,null,15880,14419,13100,11292,0,null,null,null,15880,14419,13100,11292,{"$f":"DR!G141","v":0},null,null,15880,14419,13100,11292,0,0]
[74,null,17697,16068,14599,12585,0,null,null,null,17697,16068,14599,12585,{"$f":"DR!G142","v":0},null,null,17697,16068,14599,12585,0,0]
[75,null,19828,18003,16358,14100,0,null,null,null,19828,18003,16358,14100,{"$f":"DR!G143","v":0},null,null,19828,18003,16358,14100,0,0]
[76,null,19828,18003,16358,14100,0,null,null,null,19828,18003,16358,14100,{"$f":"DR!G144","v":0},null,null,19828,18003,16358,14100,0,0]
[77,null,19828,18003,16358,14100,0,null,null,null,19828,18003,16358,14100,{"$f":"DR!G145","v":0},null,null,19828,18003,16358,14100,0,0]
[78,null,19828,18003,16358,14100,0,null,null,null,19828,18003,16358,14100,{"$f":"DR!G146","v":0},null,null,19828,18003,16358,14100,0,0]
[79,null,19828,18003,16358,14100,0,null,null,null,19828,18003,16358,14100,{"$f":"DR!G147","v":0},null,null,19828,18003,16358,14100,0,0]
[80,"o mas",19828,18003,16358,14100,0,null,null,null,19828,18003,16358,14100,{"$f":"DR!G148","v":0},null,null,19828,18003,16358,14100,0,0]
[1,"Hijo",664,601,547,472,0,null,null,null,664,601,547,472,{"$f":"DR!G149","v":0},null,null,664,601,547,472,0,0]
[2,"Hijos",1022,927,843,726,0,null,null,null,1022,927,843,726,{"$f":"DR!G150","v":0},null,null,1022,927,843,726,0,0]
[3,"Hijos o más",{"$f":"R321","v":1483},{"$f":"S321","v":1348},{"$f":"T321","v":1225},{"$f":"U321","v":1056},{"$f":"V321","v":0},null,null,null,1483,1348,1225,1056,{"$f":"DR!G151","v":0},null,null,{"$f":"K321*$Y$2","v":1483},{"$f":"L321*$Y$2","v":1348},{"$f":"M321*$Y$2","v":1225},{"$f":"N321*$Y$2","v":1056},{"$f":"O321*$AA$6","v":0},0]
[1,"Rider Comp. Maternidad",{"$f":"K322","v":0},{"$f":"L322","v":0},0,0,null,null,null,null,0,0,0,0]
[1,"Transplante de organos",{"$f":"K323","v":0},{"$f":"L323","v":0},{"$f":"M323","v":0},{"$f":"N323","v":0},null,null,null,null,0,0,0,0]
[null,"Eliminación de Deducible",{"$f":"K324","v":0},0,0,0,null,null,null,null,0,0,0,0]
[]
[]
["TARIFAS SEMESTRALES"]
[]
["EDAD",null,"ET1","ET2","ET3","ET4","ET5","ET6"]
[18,null,{"$f":"C256*$G$1","v":993.22},{"$f":"D256*$G$1","v":902.06000000000006},{"$f":"E256*$G$1","v":818.85},{"$f":"F256*$G$1","v":705.96},{"$f":"G256*$G$1","v":0}]
[19,null,993.22,902.06000000000006,818.85,705.96,0]
[20,null,993.22,902.06000000000006,818.85,705.96,0]
[21,null,993.22,902.06000000000006,818.85,705.96,0,null,null,null,null,"18",1874,1702,1545,1332]
[22,null,993.22,902.06000000000006,818.85,705.96,0,null,null,null,null,"25",2106,1913,1738,1499]
[23,null,993.22,902.06000000000006,818.85,705.96,0,null,null,null,null,"30",2361,2145,1951,1682]
[24,null,993.22,902.06000000000006,818.85,705.96,0,null,null,null,null,"35",2696,2448,2225,1919]
[25,null,{"$f":"C263*$G$1","v":1116.18},{"$f":"D263*$G$1","v":1013.8900000000001},{"$f":"E263*$G$1","v":921.1400000000001},{"$f":"F263*$G$1","v":794.47},0,null,null,null,null,"40",3126,2838,2578,2223]
[26,null,1116.18,1013.8900000000001,921.1400000000001,794.47,0,null,null,null,null,"45",3735,3391,3082,2657]
[27,null,1116.18,1013.8900000000001,921.1400000000001,794.47,0,null,null,null,null,"50",4458,4048,3677,3170]
[28,null,{"$f":"C266*$G$1","v":1116.18},1013.8900000000001,921.1400000000001,794.47,0,null,null,null,null,"55",5303,4816,4377,3773]
[29,null,1116.18,1013.8900000000001,921.1400000000001,794.47,0,null,null,null,null,"60",5883,5344,4854,4185]
[30,null,{"$f":"C268*$G$1","v":1251.3300000000002},{"$f":"D268*$G$1","v":1136.8500000000001},{"$f":"E268*$G$1","v":1034.03},{"$f":"F268*$G$1","v":891.46},0]
[31,null,1251.3300000000002,1136.8500000000001,1034.03,891.46,0]
[32,null,1251.3300000000002,1136.8500000000001,1034.03,891.46,0]
[33,null,1251.3300000000002,1136.8500000000001,1034.03,891.46,0]
[34,null,1251.3300000000002,1136.8500000000001,1034.03,891.46,0]
[35,null,1428.88,1297.44,1179.25,1017.07,0]
[36,null,1428.88,1297.44,1179.25,1017.07,0]
[37,null,1428.88,1297.44,1179.25,1017.07,0]
[38,null,{"$f":"C276*$G$1","v":1428.88},1297.44,1179.25,1017.07,0]
[39,null,1428.88,1297.44,1179.25,1017.07,0]
[40,null,1656.78,1504.14,1366.3400000000001,1178.19,0]
[41,null,1656.78,1504.14,1366.3400000000001,1178.19,0]
[42,null,1656.78,1504.14,1366.3400000000001,1178.19,0]
[43,null,1656.78,1504.14,1366.3400000000001,1178.19,0]
[44,null,1656.78,1504.14,1366.3400000000001,1178.19,0]
[45,null,1979.5500000000002,1797.23,1633.46,1408.21,0]
[46,null,1979.5500000000002,1797.23,1633.46,1408.21,0]
[47,null,1979.5500000000002,1797.23,1633.46,1408.21,0]
[48,null,{"$f":"C286*$G$1","v":1979.5500000000002},1797.23,1633.46,1408.21,0]
[49,null,1979.5500000000002,1797.23,1633.46,1408.21,0]
[50,null,2362.7400000000002,2145.44,1948.8100000000002,1680.1000000000001,0]
[51,null,2362.7400000000002,2145.44,1948.8100000000002,1680.1000000000001,0]
[52,null,2362.7400000000002,2145.44,1948.8100000000002,1680.1000000000001,0]
[53,null,2362.7400000000002,2145.44,1948.8100000000002,1680.1000000000001,0]
[54,null,2362.7400000000002,2145.44,1948.8100000000002,1680.1000000000001,0,null,"CR3",null,null,"CR4",null,null,"CR5"]
[55,null,2810.59,2552.48,2319.81,1999.69,0,null,"INDIVIDUAL","2 PERSONAS","FAMILIAR","INDIVIDUAL","2 PERSONAS","FAMILIAR","INDIVIDUAL","2 PERSONAS","FAMILIAR"]
[56,null,2810.59,2552.48,2319.81,1999.69,0,null,{"$f":"AU368","v":0},{"$f":"AV368","v":0},{"$f":"AW368","v":0},{"$f":"AX368","v":0},{"$f":"AY368","v":0},{"$f":"AZ368","v":0},{"$f":"BA368","v":0},{"$f":"BB368","v":0},{"$f":"BC368","v":0}]
[57,null,2810.59,2552.48,2319.81,1999.69,0,null,0,0,0,0,0,0,0,0,0]
[58,null,{"$f":"C296*$G$1","v":2810.59},2552.48,2319.81,1999.69,0]
[59,null,2810.59,2552.48,2319.81,1999.69,0]
[60,null,3117.9900000000002,2832.32,2572.6200000000003,2218.0500000000002,0]
[61,null,3247.84,2948.92,2679.15,2309.7400000000002,0]
[62,null,3403.6600000000003,3090.96,2809,2421.5700000000002,0]
[63,null,3573.26,3245.19,2948.3900000000003,2541.35,0]
[64,null,3777.3100000000004,3430.69,3116.4,2686.57,0]
[65,null,4059.8,3686.15,3348.54,2886.9100000000003,0]
[66,null,4385.22,3981.8900000000003,3617.78,3117.9900000000002,0]
[67,null,4733.43,4298.3,3905.57,3366.03,0]
[68,null,{"$f":"C306*$G$1","v":5130.93},4657.6400000000003,4232.58,3647.9900000000002,0]
[69,null,5598.39,5083.2300000000005,4618.95,3981.36,0]
[70,null,6178.21,5609.52,5097.54,4393.17,0]
[71,null,6858.2000000000007,6226.97,5657.75,4876.5300000000007,0]
[72,null,7585.89,6888.4100000000008,6258.2400000000007,5393.81,0]
[73,null,8416.4,7642.0700000000006,6943,5984.76,0]
[74,null,9379.41,8516.0400000000009,7737.47,6670.05,0]
[75,null,10508.84,9541.59,8669.74,7473,0]
[76,null,10508.84,9541.59,8669.74,7473,0]
[77,null,10508.84,9541.59,8669.74,7473,0]
[78,null,{"$f":"C316*$G$1","v":10508.84},9541.59,8669.74,7473,0]
[79,null,10508.84,9541.59,8669.74,7473,0]
[80,"o mas",10508.84,9541.59,8669.74,7473,0]
[1,"Hijo",351.92,318.53000000000003,289.91000000000003,250.16000000000003,0]
[2,"Hijos",541.66000000000008,491.31,446.79,384.78000000000003,0]
[3,"Hijos o más",785.99,714.44,649.25,559.68000000000006,0]
[1,"Rider Comp. Maternidad",0,0,0,0,0]
[1,"Transplante de organos",0,0,0,0,0]
[null,"Elliminación de Deducible",{"$f":"C324*$G$1","v":0},{"$f":"D324*$G$1","v":0},0,0,0]
[]
[]
[]
["TARIFAS TRIMESTRALES"]
[]
["EDAD",null,"ET1","ET2","ET3","ET4","ET5","ET6"]
[18,null,{"$f":"C256*$G$2","v":515.35},{"$f":"D256*$G$2","v":468.05},{"$f":"E256*$G$2","v":424.87500000000006},{"$f":"F256*$G$2","v":366.3},{"$f":"G256*$G$2","v":0}]
[19,null,515.35,468.05,424.87500000000006,366.3,0]
[20,null,515.35,468.05,424.87500000000006,366.3,0]
[21,null,515.35,468.05,424.87500000000006,366.3,0]
[22,null,515.35,468.05,424.87500000000006,366.3,0]
[23,null,515.35,468.05,424.87500000000006,366.3,0]
[24,null,515.35,468.05,424.87500000000006,366.3,0]
[25,null,{"$f":"C263*$G$2","v":579.15000000000009},{"$f":"D263*$G$2","v":526.07500000000005},{"$f":"E263*$G$2","v":477.95000000000005},{"$f":"F263*$G$2","v":412.22500000000002},0]
[26,null,579.15000000000009,526.07500000000005,477.95000000000005,412.22500000000002,0]
[27,null,579.15000000000009,526.07500000000005,477.95000000000005,412.22500000000002,0]
[28,null,{"$f":"C266*$G$2","v":579.15000000000009},526.07500000000005,477.95000000000005,412.22500000000002,0]
[29,null,579.15000000000009,526.07500000000005,477.95000000000005,412.22500000000002,0]
[30,null,{"$f":"C268*$G$2","v":649.27500000000009},{"$f":"D268*$G$2","v":589.875},{"$f":"E268*$G$2","v":536.52500000000009},{"$f":"F268*$G$2","v":462.55},0]
[31,null,649.27500000000009,589.875,536.52500000000009,462.55,0]
[32,null,649.27500000000009,589.875,536.52500000000009,462.55,0]
[33,null,649.27500000000009,589.875,536.52500000000009,462.55,0]
[34,null,649.27500000000009,589.875,536.52500000000009,462.55,0]
[35,null,741.40000000000009,673.2,611.875,527.72500000000002,0]
[36,null,741.40000000000009,673.2,611.875,527.72500000000002,0]
[37,null,741.40000000000009,673.2,611.875,527.72500000000002,0]
[38,null,{"$f":"C276*$G$2","v":741.40000000000009},673.2,611.875,527.72500000000002,0]
[39,null,741.40000000000009,673.2,611.875,527.72500000000002,0]
[40,null,859.65000000000009,780.45,708.95,611.32500000000005,0]
[41,null,859.65000000000009,780.45,708.95,611.32500000000005,0]
[42,null,859.65000000000009,780.45,708.95,611.32500000000005,0]
[43,null,859.65000000000009,780.45,708.95,611.32500000000005,0]
[44,null,859.65000000000009,780.45,708.95,611.32500000000005,0]
[45,null,1027.125,932.52500000000009,847.55000000000007,730.67500000000007,0]
[46,null,1027.125,932.52500000000009,847.55000000000007,730.67500000000007,0]
[47,null,1027.125,932.52500000000009,847.55000000000007,730.67500000000007,0]
[48,null,{"$f":"C286*$G$2","v":1027.125},932.52500000000009,847.55000000000007,730.67500000000007,0]
[49,null,1027.125,932.52500000000009,847.55000000000007,730.67500000000007,0]
[50,null,1225.95,1113.2,1011.1750000000001,871.75000000000011,0]
[51,null,1225.95,1113.2,1011.1750000000001,871.75000000000011,0]
[52,null,1225.95,1113.2,1011.1750000000001,871.75000000000011,0]
[53,null,1225.95,1113.2,1011.1750000000001,871.75000000000011,0]
[54,null,1225.95,1113.2,1011.1750000000001,871.75000000000011,0,null,"CR3",null,null,"CR4",null,null,"CR5"]
[55,null,1458.325,1324.4,1203.6750000000002,1037.575,0,null,"INDIVIDUAL","2 PERSONAS","FAMILIAR","INDIVIDUAL","2 PERSONAS","FAMILIAR","INDIVIDUAL","2 PERSONAS","FAMILIAR"]
[56,null,1458.325,1324.4,1203.6750000000002,1037.575,0,null,{"$f":"AU443","v":0},{"$f":"AV443","v":0},{"$f":"AW443","v":0},{"$f":"AX443","v":0},{"$f":"AY443","v":0},{"$f":"AZ443","v":0},{"$f":"BA443","v":0},{"$f":"BB443","v":0},{"$f":"BC443","v":0}]
[57,null,1458.325,1324.4,1203.6750000000002,1037.575,0,null,0,0,0,0,0,0,0,0,0]
[58,null,{"$f":"C296*$G$2","v":1458.325},1324.4,1203.6750000000002,1037.575,0]
[59,null,1458.325,1324.4,1203.6750000000002,1037.575,0]
[60,null,1617.825,1469.6000000000001,1334.8500000000001,1150.875,0]
[61,null,1685.2,1530.1000000000001,1390.125,1198.45,0]
[62,null,1766.0500000000002,1603.8000000000002,1457.5000000000002,1256.4750000000001,0]
[63,null,1854.0500000000002,1683.825,1529.825,1318.625,0]
[64,null,1959.9250000000002,1780.075,1617.0000000000002,1393.9750000000001,0]
[65,null,2106.5,1912.6250000000002,1737.45,1497.9250000000002,0]
[66,null,2275.3500000000004,2066.0750000000003,1877.15,1617.825,0]
[67,null,2456.0250000000001,2230.25,2026.4750000000001,1746.5250000000001,0]
[68,null,{"$f":"C306*$G$2","v":2662.2750000000001},2416.7000000000003,2196.15,1892.825,0]
[69,null,2904.8250000000003,2637.5250000000001,2396.625,2065.8000000000002,0]
[70,null,3205.6750000000002,2910.6000000000004,2644.9500000000003,2279.4750000000004,0]
[71,null,3558.5000000000005,3230.9750000000004,2935.6250000000005,2530.2750000000001,0]
[72,null,3936.0750000000003,3574.1750000000002,3247.2000000000003,2798.6750000000002,0]
[73,null,4367,3965.2250000000004,3602.5000000000005,3105.3,0]
[74,null,4866.6750000000002,4418.7000000000007,4014.7250000000004,3460.8750000000005,0]
[75,null,5452.7000000000007,4950.8250000000007,4498.4500000000007,3877.5000000000005,0]
[76,null,5452.7000000000007,4950.8250000000007,4498.4500000000007,3877.5000000000005,0]
[77,null,5452.7000000000007,4950.8250000000007,4498.4500000000007,3877.5000000000005,0]
[78,null,{"$f":"C316*$G$2","v":5452.7000000000007},4950.8250000000007,4498.4500000000007,3877.5000000000005,0]
[79,null,5452.7000000000007,4950.8250000000007,4498.4500000000007,3877.5000000000005,0]
[80,"o mas",5452.7000000000007,4950.8250000000007,4498.4500000000007,3877.5000000000005,0]
[1,"Hijo",182.60000000000002,165.27500000000001,150.42500000000001,129.80000000000001,0]
[2,"Hijos",281.05,254.92500000000001,231.82500000000002,199.65,0]
[3,"Hijos o más",407.82500000000005,370.70000000000005,336.875,290.40000000000003,0]
[1,"Rider Comp. Maternidad",0,0,0,0,0]
[1,"Transplante de organos",0,0,0,0,0]
[null,"Eeliminación de Deducible",{"$f":"C324*$G$2","v":0},{"$f":"D324*$G$2","v":0},0,0,0]
[]
[]
[]
["TARIFAS MENSUALES"]
[]
["EDAD",null,"ET1","ET2","ET3","ET4","ET5","ET6"]
[18,null,{"$f":"C256*$G$3","v":174.90666604200001},{"$f":"D256*$G$3","v":158.85333276599999},{"$f":"E256*$G$3","v":144.19999948500001},{"$f":"F256*$G$3","v":124.319999556},{"$f":"G256*$G$3","v":0}]
[19,null,{"$f":"C257*$G$3","v":174.90666604200001},158.85333276599999,144.19999948500001,124.319999556,0]
[20,null,{"$f":"C258*$G$3","v":174.90666604200001},158.85333276599999,144.19999948500001,124.319999556,0]
[21,null,{"$f":"C259*$G$3","v":174.90666604200001},158.85333276599999,144.19999948500001,124.319999556,0]
[22,null,{"$f":"C260*$G$3","v":174.90666604200001},158.85333276599999,144.19999948500001,124.319999556,0]
[23,null,{"$f":"C261*$G$3","v":174.90666604200001},158.85333276599999,144.19999948500001,124.319999556,0]
[24,null,{"$f":"C262*$G$3","v":174.90666604200001},158.85333276599999,144.19999948500001,124.319999556,0]
[25,null,{"$f":"C263*$G$3","v":196.55999929800001},{"$f":"D263*$G$3","v":178.54666602900002},{"$f":"E263*$G$3","v":162.21333275400002},{"$f":"F263*$G$3","v":139.906666167},{"$f":"G263*$G$3","v":0}]
[26,null,{"$f":"C264*$G$3","v":196.55999929800001},178.54666602900002,162.21333275400002,139.906666167,0]
[27,null,{"$f":"C265*$G$3","v":196.55999929800001},178.54666602900002,162.21333275400002,139.906666167,0]
[28,null,{"$f":"C266*$G$3","v":196.55999929800001},178.54666602900002,162.21333275400002,139.906666167,0]
[29,null,{"$f":"C267*$G$3","v":196.55999929800001},178.54666602900002,162.21333275400002,139.906666167,0]
[30,null,{"$f":"C268*$G$3","v":220.35999921300001},{"$f":"D268*$G$3","v":200.19999928500002},{"$f":"E268*$G$3","v":182.093332683},{"$f":"F268*$G$3","v":156.986666106},{"$f":"G268*$G$3","v":0}]
[31,null,{"$f":"C269*$G$3","v":220.35999921300001},200.19999928500002,182.093332683,156.986666106,0]
[32,null,{"$f":"C270*$G$3","v":220.35999921300001},200.19999928500002,182.093332683,156.986666106,0]
[33,null,{"$f":"C271*$G$3","v":220.35999921300001},200.19999928500002,182.093332683,156.986666106,0]
[34,null,{"$f":"C272*$G$3","v":220.35999921300001},200.19999928500002,182.093332683,156.986666106,0]
[35,null,{"$f":"C273*$G$3","v":251.62666576800001},228.47999918400001,207.66666592500002,179.10666602700002,0]
[36,null,{"$f":"C274*$G$3","v":251.62666576800001},228.47999918400001,207.66666592500002,179.10666602700002,0]
[37,null,{"$f":"C275*$G$3","v":251.62666576800001},228.47999918400001,207.66666592500002,179.10666602700002,0]
[38,null,{"$f":"C276*$G$3","v":251.62666576800001},228.47999918400001,207.66666592500002,179.10666602700002,0]
[39,null,{"$f":"C277*$G$3","v":251.62666576800001},228.47999918400001,207.66666592500002,179.10666602700002,0]
[40,null,{"$f":"C278*$G$3","v":291.75999895800004},264.879999054,240.613332474,207.47999925900001,0]
[41,null,{"$f":"C279*$G$3","v":291.75999895800004},264.879999054,240.613332474,207.47999925900001,0]
[42,null,{"$f":"C280*$G$3","v":291.75999895800004},264.879999054,240.613332474,207.47999925900001,0]
[43,null,{"$f":"C281*$G$3","v":291.75999895800004},264.879999054,240.613332474,207.47999925900001,0]
[44,null,{"$f":"C282*$G$3","v":291.75999895800004},264.879999054,240.613332474,207.47999925900001,0]
[45,null,{"$f":"C283*$G$3","v":348.599998755},316.49333220300002,287.65333230600004,247.986665781,0]
[46,null,{"$f":"C284*$G$3","v":348.599998755},316.49333220300002,287.65333230600004,247.986665781,0]
[47,null,{"$f":"C285*$G$3","v":348.599998755},316.49333220300002,287.65333230600004,247.986665781,0]
[48,null,{"$f":"C286*$G$3","v":348.599998755},316.49333220300002,287.65333230600004,247.986665781,0]
[49,null,{"$f":"C287*$G$3","v":348.599998755},316.49333220300002,287.65333230600004,247.986665781,0]
[50,null,{"$f":"C288*$G$3","v":416.07999851400001},377.813331984,343.186665441,295.86666561000004,0]
[51,null,{"$f":"C289*$G$3","v":416.07999851400001},377.813331984,343.186665441,295.86666561000004,0]
[52,null,{"$f":"C290*$G$3","v":416.07999851400001},377.813331984,343.186665441,295.86666561000004,0]
[53,null,{"$f":"C291*$G$3","v":416.07999851400001},377.813331984,343.186665441,295.86666561000004,0]
[54,null,{"$f":"C292*$G$3","v":416.07999851400001},377.813331984,343.186665441,295.86666561000004,0,null,"CR3",null,null,"CR4",null,null,"CR5"]
[55,null,{"$f":"C293*$G$3","v":494.94666489900004},449.49333172800004,408.51999854100001,352.14666540900004,0,null,"INDIVIDUAL","2 PERSONAS","FAMILIAR","INDIVIDUAL","2 PERSONAS","FAMILIAR","INDIVIDUAL","2 PERSONAS","FAMILIAR"]
[56,null,{"$f":"C294*$G$3","v":494.94666489900004},449.49333172800004,408.51999854100001,352.14666540900004,0,null,{"$f":"AU518","v":0},{"$f":"AV518","v":0},{"$f":"AW518","v":0},{"$f":"AX518","v":0},{"$f":"AY518","v":0},{"$f":"AZ518","v":0},{"$f":"BA518","v":0},{"$f":"BB518","v":0},{"$f":"BC518","v":0}]
[57,null,{"$f":"C295*$G$3","v":494.94666489900004},449.49333172800004,408.51999854100001,352.14666540900004,0,null,0,0,0,0,0,0,0,0,0]
[58,null,{"$f":"C296*$G$3","v":494.94666489900004},449.49333172800004,408.51999854100001,352.14666540900004,0]
[59,null,{"$f":"C297*$G$3","v":494.94666489900004},449.49333172800004,408.51999854100001,352.14666540900004,0]
[60,null,{"$f":"C298*$G$3","v":549.07999803899997},498.773331552,453.03999838200002,390.599998605,0]
[61,null,{"$f":"C299*$G$3","v":571.94666462400005},519.30666481200001,471.79999831500004,406.74666521400002,0]
[62,null,{"$f":"C300*$G$3","v":599.386664526},544.31999805600003,494.6666649,426.43999847700002,0]
[63,null,{"$f":"C301*$G$3","v":629.253331086},571.479997959,519.21333147899998,447.53333173500005,0]
[64,null,{"$f":"C302*$G$3","v":665.18666429100006},604.14666450900006,548.79999803999999,473.10666497700004,0]
[65,null,{"$f":"C303*$G$3","v":714.93333078000001},649.13333101500007,589.67999789400005,508.38666485100003,0]
[66,null,{"$f":"C304*$G$3","v":772.23999724200007},701.21333082900003,637.09333105799999,549.07999803899997,0]
[67,null,{"$f":"C305*$G$3","v":833.55999702300005},756.93333063,687.77333087700003,592.75999788299998,0]
[68,null,{"$f":"C306*$G$3","v":903.55999677300008},820.21333040400009,745.35999733800008,642.41333103900001,0]
[69,null,{"$f":"C307*$G$3","v":985.87999647900006},895.15999680300001,813.399997095,701.119997496,0]
[70,null,{"$f":"C308*$G$3","v":1087.9866627809999},987.83999647200005,897.67999679400009,773.63999723699999,0]
[71,null,{"$f":"C309*$G$3","v":1207.7333290200002},1096.573329417,996.33332977500004,858.75999693300002,0]
[72,null,{"$f":"C310*$G$3","v":1335.8799952290001},1213.0533290010001,1102.0799960639999,949.85332994100008,0]
[73,null,{"$f":"C311*$G$3","v":1482.1333280400002},1345.7733285270001,1222.6666623000001,1053.9199962360001,0]
[74,null,{"$f":"C312*$G$3","v":1651.7199941010001},1499.6799946440001,1362.573328467,1174.5999958050002,0]
[75,null,{"$f":"C313*$G$3","v":1850.613326724},1680.279993999,1526.7466612140001,1315.9999953000001,0]
[76,null,{"$f":"C314*$G$3","v":1850.613326724},1680.279993999,1526.7466612140001,1315.9999953000001,0]
[77,null,{"$f":"C315*$G$3","v":1850.613326724},1680.279993999,1526.7466612140001,1315.9999953000001,0]
[78,null,{"$f":"C316*$G$3","v":1850.613326724},1680.279993999,1526.7466612140001,1315.9999953000001,0]
[79,null,{"$f":"C317*$G$3","v":1850.613326724},1680.279993999,1526.7466612140001,1315.9999953000001,0]
[80,"o mas",{"$f":"C318*$G$3","v":1850.613326724},1680.279993999,1526.7466612140001,1315.9999953000001,0]
[1,"Hijo",{"$f":"C319*$G$3","v":61.973333112000006},56.093333133000002,51.053333151000004,44.053333176000002,0]
[2,"Hijos",{"$f":"C320*$G$3","v":95.386666326000011},86.51999969100001,78.679999719000008,67.759999758000006,0]
[3,"Hijos o más",{"$f":"C321*$G$3","v":138.41333283900002},125.813332884,114.33333292500001,98.559999648000002,0]
[1,"Rider Comp. Maternidad",{"$f":"C322*$G$3","v":0},0,0,0,0]
[1,"Transplante de organos",{"$f":"C323*$G$3","v":0},0,0,0,0]
[null,null,{"$f":"C324*$G$3","v":0},{"$f":"D324*$G$3","v":0},0,0,0]
[]
[]
[]
[]
[]
["BUPA ELITE"]
["TARIFAS ANUALES"]
[]
["EDAD",null,null,"ET2","ET3","ET4","ET5","ET6"]
[18,null,null,{"$f":"R558","v":9588},{"$f":"S558","v":6148},4873,4025,2924,null,null,null,{"$f":"DR!D159","v":9588},{"$f":"DR!E159","v":6148},{"$f":"DR!F159","v":4873},{"$f":"DR!G159","v":4025},{"$f":"DR!H159","v":2924},null,{"$f":"L558*$AB$2","v":9588},{"$f":"M558*$AB$2","v":6148},4873,4025,2924]
[19,null,null,{"$f":"R559","v":9775},{"$f":"S559","v":6265},{"$f":"T559","v":4969},{"$f":"U559","v":4099},{"$f":"V559","v":2978},null,null,null,{"$f":"DR!D160","v":9775},{"$f":"DR!E160","v":6265},{"$f":"DR!F160","v":4969},{"$f":"DR!G160","v":4099},{"$f":"DR!H160","v":2978},null,{"$f":"L559*$AB$2","v":9775},{"$f":"M559*$AB$2","v":6265},{"$f":"N559*$AB$2","v":4969},{"$f":"O559*$AB$2","v":4099},{"$f":"P559*$AB$2","v":2978}]
[20,null,null,9973,6378,5066,4179,3033,null,null,null,{"$f":"DR!D161","v":9973},{"$f":"DR!E161","v":6378},{"$f":"DR!F161","v":5066},{"$f":"DR!G161","v":4179},{"$f":"DR!H161","v":3033},null,9973,6378,5066,4179,3033]
[21,null,null,10166,6500,5157,4255,3093,null,null,null,{"$f":"DR!D162","v":10166},{"$f":"DR!E162","v":6500},{"$f":"DR!F162","v":5157},{"$f":"DR!G162","v":4255},{"$f":"DR!H162","v":3093},null,10166,6500,5157,4255,3093]
[22,null,null,10373,6624,5254,4338,3150,null,null,null,{"$f":"DR!D163","v":10373},{"$f":"DR!E163","v":6624},{"$f":"DR!F163","v":5254},{"$f":"DR!G163","v":4338},{"$f":"DR!H163","v":3150},null,10373,6624,5254,4338,3150]
[23,null,null,10565,6738,5356,4415,3205,null,null,null,{"$f":"DR!D164","v":10565},{"$f":"DR!E164","v":6738},{"$f":"DR!F164","v":5356},{"$f":"DR!G164","v":4415},{"$f":"DR!H164","v":3205},null,10565,6738,5356,4415,3205]
[24,null,null,10769,6862,5451,4491,3263,null,null,null,{"$f":"DR!D165","v":10769},{"$f":"DR!E165","v":6862},{"$f":"DR!F165","v":5451},{"$f":"DR!G165","v":4491},{"$f":"DR!H165","v":3263},null,10769,6862,5451,4491,3263]
[25,null,null,10963,6979,5550,4575,3326,null,null,null,{"$f":"DR!D166","v":10963},{"$f":"DR!E166","v":6979},{"$f":"DR!F166","v":5550},{"$f":"DR!G166","v":4575},{"$f":"DR!H166","v":3326},null,10963,6979,5550,4575,3326]
[26,null,null,11165,7099,5653,4653,3385,null,null,null,{"$f":"DR!D167","v":11165},{"$f":"DR!E167","v":7099},{"$f":"DR!F167","v":5653},{"$f":"DR!G167","v":4653},{"$f":"DR!H167","v":3385},null,11165,7099,5653,4653,3385]
[27,null,null,11366,7223,5750,4733,3438,null,null,null,{"$f":"DR!D168","v":11366},{"$f":"DR!E168","v":7223},{"$f":"DR!F168","v":5750},{"$f":"DR!G168","v":4733},{"$f":"DR!H168","v":3438},null,11366,7223,5750,4733,3438]
[28,null,null,11609,7365,5871,4838,3523,null,null,null,{"$f":"DR!D169","v":11609},{"$f":"DR!E169","v":7365},{"$f":"DR!F169","v":5871},{"$f":"DR!G169","v":4838},{"$f":"DR!H169","v":3523},null,11609,7365,5871,4838,3523]
[29,null,null,11859,7508,5989,4945,3606,null,null,null,{"$f":"DR!D170","v":11859},{"$f":"DR!E170","v":7508},{"$f":"DR!F170","v":5989},{"$f":"DR!G170","v":4945},{"$f":"DR!H170","v":3606},null,11859,7508,5989,4945,3606]
[30,null,null,12107,7648,6093,5054,3693,null,null,null,{"$f":"DR!D171","v":12107},{"$f":"DR!E171","v":7648},{"$f":"DR!F171","v":6093},{"$f":"DR!G171","v":5054},{"$f":"DR!H171","v":3693},null,12107,7648,6093,5054,3693]
[31,null,null,12355,7789,6213,5159,3781,null,null,null,{"$f":"DR!D172","v":12355},{"$f":"DR!E172","v":7789},{"$f":"DR!F172","v":6213},{"$f":"DR!G172","v":5159},{"$f":"DR!H172","v":3781},null,12355,7789,6213,5159,3781]
[32,null,null,12602,7934,6330,5271,3862,null,null,null,{"$f":"DR!D173","v":12602},{"$f":"DR!E173","v":7934},{"$f":"DR!F173","v":6330},{"$f":"DR!G173","v":5271},{"$f":"DR!H173","v":3862},null,12602,7934,6330,5271,3862]
[33,null,null,12955,8122,6485,5400,3980,null,null,null,{"$f":"DR!D174","v":12955},{"$f":"DR!E174","v":8122},{"$f":"DR!F174","v":6485},{"$f":"DR!G174","v":5400},{"$f":"DR!H174","v":3980},null,12955,8122,6485,5400,3980]
[34,null,null,13315,8315,6642,5529,4098,null,null,null,{"$f":"DR!D175","v":13315},{"$f":"DR!E175","v":8315},{"$f":"DR!F175","v":6642},{"$f":"DR!G175","v":5529},{"$f":"DR!H175","v":4098},null,13315,8315,6642,5529,4098]
[35,null,null,13666,8503,6798,5656,4214,null,null,null,{"$f":"DR!D176","v":13666},{"$f":"DR!E176","v":8503},{"$f":"DR!F176","v":6798},{"$f":"DR!G176","v":5656},{"$f":"DR!H176","v":4214},null,13666,8503,6798,5656,4214]
[36,null,null,14020,8690,6957,5786,4327,null,null,null,{"$f":"DR!D177","v":14020},{"$f":"DR!E177","v":8690},{"$f":"DR!F177","v":6957},{"$f":"DR!G177","v":5786},{"$f":"DR!H177","v":4327},null,14020,8690,6957,5786,4327]
[37,null,null,14371,8881,7112,5913,4444,null,null,null,{"$f":"DR!D178","v":14371},{"$f":"DR!E178","v":8881},{"$f":"DR!F178","v":7112},{"$f":"DR!G178","v":5913},{"$f":"DR!H178","v":4444},null,14371,8881,7112,5913,4444]
[38,null,null,14849,9191,7372,6093,4587,null,null,null,{"$f":"DR!D179","v":14849},{"$f":"DR!E179","v":9191},{"$f":"DR!F179","v":7372},{"$f":"DR!G179","v":6093},{"$f":"DR!H179","v":4587},null,14849,9191,7372,6093,4587]
[39,null,null,15322,9499,7625,6284,4733,null,null,null,{"$f":"DR!D180","v":15322},{"$f":"DR!E180","v":9499},{"$f":"DR!F180","v":7625},{"$f":"DR!G180","v":6284},{"$f":"DR!H180","v":4733},null,15322,9499,7625,6284,4733]
[40,null,null,15800,9808,7885,6464,4881,null,null,null,{"$f":"DR!D181","v":15800},{"$f":"DR!E181","v":9808},{"$f":"DR!F181","v":7885},{"$f":"DR!G181","v":6464},{"$f":"DR!H181","v":4881},null,15800,9808,7885,6464,4881]
[41,null,null,16271,10122,8143,6653,5021,null,null,null,{"$f":"DR!D182","v":16271},{"$f":"DR!E182","v":10122},{"$f":"DR!F182","v":8143},{"$f":"DR!G182","v":6653},{"$f":"DR!H182","v":5021},null,16271,10122,8143,6653,5021]
[42,null,null,16749,10428,8393,6836,5168,null,null,null,{"$f":"DR!D183","v":16749},{"$f":"DR!E183","v":10428},{"$f":"DR!F183","v":8393},{"$f":"DR!G183","v":6836},{"$f":"DR!H183","v":5168},null,16749,10428,8393,6836,5168]
[43,null,null,17346,10792,8683,7039,5330,null,null,null,{"$f":"DR!D184","v":17346},{"$f":"DR!E184","v":10792},{"$f":"DR!F184","v":8683},{"$f":"DR!G184","v":7039},{"$f":"DR!H184","v":5330},null,17346,10792,8683,7039,5330]
[44,null,null,17934,11151,8976,7248,5494,null,null,null,{"$f":"DR!D185","v":17934},{"$f":"DR!E185","v":11151},{"$f":"DR!F185","v":8976},{"$f":"DR!G185","v":7248},{"$f":"DR!H185","v":5494},null,17934,11151,8976,7248,5494]
[45,null,null,18535,11511,9265,7443,5657,null,null,null,{"$f":"DR!D186","v":18535},{"$f":"DR!E186","v":11511},{"$f":"DR!F186","v":9265},{"$f":"DR!G186","v":7443},{"$f":"DR!H186","v":5657},null,18535,11511,9265,7443,5657]
[46,null,null,19125,11871,9557,7648,5817,null,null,null,{"$f":"DR!D187","v":19125},{"$f":"DR!E187","v":11871},{"$f":"DR!F187","v":9557},{"$f":"DR!G187","v":7648},{"$f":"DR!H187","v":5817},null,19125,11871,9557,7648,5817]
[47,null,null,19719,12229,9842,7847,5990,null,null,null,{"$f":"DR!D188","v":19719},{"$f":"DR!E188","v":12229},{"$f":"DR!F188","v":9842},{"$f":"DR!G188","v":7847},{"$f":"DR!H188","v":5990},null,19719,12229,9842,7847,5990]
[48,null,null,20457,12646,10200,8119,6202,null,null,null,{"$f":"DR!D189","v":20457},{"$f":"DR!E189","v":12646},{"$f":"DR!F189","v":10200},{"$f":"DR!G189","v":8119},{"$f":"DR!H189","v":6202},null,20457,12646,10200,8119,6202]
[49,null,null,21191,13065,10551,8393,6413,null,null,null,{"$f":"DR!D190","v":21191},{"$f":"DR!E190","v":13065},{"$f":"DR!F190","v":10551},{"$f":"DR!G190","v":8393},{"$f":"DR!H190","v":6413},null,21191,13065,10551,8393,6413]
[50,null,null,21930,13486,10902,8664,6625,null,null,null,{"$f":"DR!D191","v":21930},{"$f":"DR!E191","v":13486},{"$f":"DR!F191","v":10902},{"$f":"DR!G191","v":8664},{"$f":"DR!H191","v":6625},null,21930,13486,10902,8664,6625]
[51,null,null,22669,13912,11252,8943,6836,null,null,null,{"$f":"DR!D192","v":22669},{"$f":"DR!E192","v":13912},{"$f":"DR!F192","v":11252},{"$f":"DR!G192","v":8943},{"$f":"DR!H192","v":6836},null,22669,13912,11252,8943,6836]
[52,null,null,23400,14322,11608,9213,7047,null,null,null,{"$f":"DR!D193","v":23400},{"$f":"DR!E193","v":14322},{"$f":"DR!F193","v":11608},{"$f":"DR!G193","v":9213},{"$f":"DR!H193","v":7047},null,23400,14322,11608,9213,7047]
[53,null,null,24297,14884,12025,9547,7318,null,null,null,{"$f":"DR!D194","v":24297},{"$f":"DR!E194","v":14884},{"$f":"DR!F194","v":12025},{"$f":"DR!G194","v":9547},{"$f":"DR!H194","v":7318},null,24297,14884,12025,9547,7318]
[54,null,null,25192,15453,12444,9873,7579,null,null,null,{"$f":"DR!D195","v":25192},{"$f":"DR!E195","v":15453},{"$f":"DR!F195","v":12444},{"$f":"DR!G195","v":9873},{"$f":"DR!H195","v":7579},null,25192,15453,12444,9873,7579]
[55,null,null,26083,16019,12867,10210,7845,null,null,null,{"$f":"DR!D196","v":26083},{"$f":"DR!E196","v":16019},{"$f":"DR!F196","v":12867},{"$f":"DR!G196","v":10210},{"$f":"DR!H196","v":7845},null,26083,16019,12867,10210,7845]
[56,null,null,26979,16584,13287,10543,8114,null,null,null,{"$f":"DR!D197","v":26979},{"$f":"DR!E197","v":16584},{"$f":"DR!F197","v":13287},{"$f":"DR!G197","v":10543},{"$f":"DR!H197","v":8114},null,26979,16584,13287,10543,8114]
[57,null,null,27870,17146,13706,10880,8381,null,null,null,{"$f":"DR!D198","v":27870},{"$f":"DR!E198","v":17146},{"$f":"DR!F198","v":13706},{"$f":"DR!G198","v":10880},{"$f":"DR!H198","v":8381},null,27870,17146,13706,10880,8381]
[58,null,null,28955,17899,14250,11314,8723,null,null,null,{"$f":"DR!D199","v":28955},{"$f":"DR!E199","v":17899},{"$f":"DR!F199","v":14250},{"$f":"DR!G199","v":11314},{"$f":"DR!H199","v":8723},null,28955,17899,14250,11314,8723]
[59,null,null,30043,18651,14790,11762,9074,null,null,null,{"$f":"DR!D200","v":30043},{"$f":"DR!E200","v":18651},{"$f":"DR!F200","v":14790},{"$f":"DR!G200","v":11762},{"$f":"DR!H200","v":9074},null,30043,18651,14790,11762,9074]
[60,null,null,31129,19402,15330,12196,9422,null,null,null,{"$f":"DR!D201","v":31129},{"$f":"DR!E201","v":19402},{"$f":"DR!F201","v":15330},{"$f":"DR!G201","v":12196},{"$f":"DR!H201","v":9422},null,31129,19402,15330,12196,9422]
[61,null,null,32416,20337,16050,12758,9865,null,null,null,{"$f":"DR!D202","v":32416},{"$f":"DR!E202","v":20337},{"$f":"DR!F202","v":16050},{"$f":"DR!G202","v":12758},{"$f":"DR!H202","v":9865},null,32416,20337,16050,12758,9865]
[62,null,null,33931,21469,16958,13455,10530,null,null,null,{"$f":"DR!D203","v":33931},{"$f":"DR!E203","v":21469},{"$f":"DR!F203","v":16958},{"$f":"DR!G203","v":13455},{"$f":"DR!H203","v":10530},null,33931,21469,16958,13455,10530]
[63,null,null,35701,22843,18089,14304,11313,null,null,null,{"$f":"DR!D204","v":35701},{"$f":"DR!E204","v":22843},{"$f":"DR!F204","v":18089},{"$f":"DR!G204","v":14304},{"$f":"DR!H204","v":11313},null,35701,22843,18089,14304,11313]
[64,null,null,37732,24457,19446,15351,12234,null,null,null,{"$f":"DR!D205","v":37732},{"$f":"DR!E205","v":24457},{"$f":"DR!F205","v":19446},{"$f":"DR!G205","v":15351},{"$f":"DR!H205","v":12234},null,37732,24457,19446,15351,12234]
[65,null,null,40070,26326,21043,16628,13301,null,null,null,{"$f":"DR!D206","v":40070},{"$f":"DR!E206","v":26326},{"$f":"DR!F206","v":21043},{"$f":"DR!G206","v":16628},{"$f":"DR!H206","v":13301},null,40070,26326,21043,16628,13301]
[66,null,null,42755,28461,22906,18160,14599,null,null,null,{"$f":"DR!D207","v":42755},{"$f":"DR!E207","v":28461},{"$f":"DR!F207","v":22906},{"$f":"DR!G207","v":18160},{"$f":"DR!H207","v":14599},null,42755,28461,22906,18160,14599]
[67,null,null,45828,30912,25050,19973,16144,null,null,null,{"$f":"DR!D208","v":45828},{"$f":"DR!E208","v":30912},{"$f":"DR!F208","v":25050},{"$f":"DR!G208","v":19973},{"$f":"DR!H208","v":16144},null,45828,30912,25050,19973,16144]
[68,null,null,49438,33814,27554,22100,17959,null,null,null,{"$f":"DR!D209","v":49438},{"$f":"DR!E209","v":33814},{"$f":"DR!F209","v":27554},{"$f":"DR!G209","v":22100},{"$f":"DR!H209","v":17959},null,49438,33814,27554,22100,17959]
[69,null,null,53602,37225,30460,24587,20076,null,null,null,{"$f":"DR!D210","v":53602},{"$f":"DR!E210","v":37225},{"$f":"DR!F210","v":30460},{"$f":"DR!G210","v":24587},{"$f":"DR!H210","v":20076},null,53602,37225,30460,24587,20076]
[70,null,null,58370,41146,33824,27479,22548,null,null,null,{"$f":"DR!D211","v":58370},{"$f":"DR!E211","v":41146},{"$f":"DR!F211","v":33824},{"$f":"DR!G211","v":27479},{"$f":"DR!H211","v":22548},null,58370,41146,33824,27479,22548]
[71,null,null,63805,45611,37672,30813,25402,null,null,null,{"$f":"DR!D212","v":63805},{"$f":"DR!E212","v":45611},{"$f":"DR!F212","v":37672},{"$f":"DR!G212","v":30813},{"$f":"DR!H212","v":25402},null,63805,45611,37672,30813,25402]
[72,null,null,69977,50676,42060,34617,28677,null,null,null,{"$f":"DR!D213","v":69977},{"$f":"DR!E213","v":50676},{"$f":"DR!F213","v":42060},{"$f":"DR!G213","v":34617},{"$f":"DR!H213","v":28677},null,69977,50676,42060,34617,28677]
[73,null,null,76883,56365,47015,38921,32421,null,null,null,{"$f":"DR!D214","v":76883},{"$f":"DR!E214","v":56365},{"$f":"DR!F214","v":47015},{"$f":"DR!G214","v":38921},{"$f":"DR!H214","v":32421},null,76883,56365,47015,38921,32421]
[74,null,null,84701,62798,52618,43757,36678,null,null,null,{"$f":"DR!D215","v":84701},{"$f":"DR!E215","v":62798},{"$f":"DR!F215","v":52618},{"$f":"DR!G215","v":43757},{"$f":"DR!H215","v":36678},null,84701,62798,52618,43757,36678]
[75,null,null,93490,69988,58940,49206,41476,null,null,null,{"$f":"DR!D216","v":93490},{"$f":"DR!E216","v":69988},{"$f":"DR!F216","v":58940},{"$f":"DR!G216","v":49206},{"$f":"DR!H216","v":41476},null,93490,69988,58940,49206,41476]
[76,null,null,103541,78321,66056,55344,46848,null,null,null,{"$f":"DR!D217","v":103541},{"$f":"DR!E217","v":78321},{"$f":"DR!F217","v":66056},{"$f":"DR!G217","v":55344},{"$f":"DR!H217","v":46848},null,103541,78321,66056,55344,46848]
[77,null,null,115609,87947,74253,62405,52959,null,null,null,{"$f":"DR!D218","v":115609},{"$f":"DR!E218","v":87947},{"$f":"DR!F218","v":74253},{"$f":"DR!G218","v":62405},{"$f":"DR!H218","v":52959},null,115609,87947,74253,62405,52959]
[78,null,null,130178,99446,83608,70534,59975,null,null,null,{"$f":"DR!D219","v":130178},{"$f":"DR!E219","v":99446},{"$f":"DR!F219","v":83608},{"$f":"DR!G219","v":70534},{"$f":"DR!H219","v":59975},null,130178,99446,83608,70534,59975]
[79,null,null,147771,113119,94502,79828,68026,null,null,null,{"$f":"DR!D220","v":147771},{"$f":"DR!E220","v":113119},{"$f":"DR!F220","v":94502},{"$f":"DR!G220","v":79828},{"$f":"DR!H220","v":68026},null,147771,113119,94502,79828,68026]
[80,"o mas",null,168879,129274,107487,90908,77569,null,null,null,{"$f":"DR!D221","v":168879},{"$f":"DR!E221","v":129274},{"$f":"DR!F221","v":107487},{"$f":"DR!G221","v":90908},{"$f":"DR!H221","v":77569},null,168879,129274,107487,90908,77569]
[1,"Hijo",null,4078,2837,2071,1703,1492,null,null,null,{"$f":"DR!D222","v":4078},{"$f":"DR!E222","v":2837},{"$f":"DR!F222","v":2071},{"$f":"DR!G222","v":1703},{"$f":"DR!H222","v":1492},null,4078,2837,2071,1703,1492]
[2,"Hijos",null,6273,4608,3271,2699,2364,null,null,null,{"$f":"DR!D223","v":6273},{"$f":"DR!E223","v":4608},{"$f":"DR!F223","v":3271},{"$f":"DR!G223","v":2699},{"$f":"DR!H223","v":2364},null,6273,4608,3271,2699,2364]
[3,"Hijos o más",null,{"$f":"R623","v":9156},{"$f":"S623","v":6736},{"$f":"T623","v":4762},{"$f":"U623","v":3924},{"$f":"V623","v":3418},null,null,null,{"$f":"DR!D224","v":9156},{"$f":"DR!E224","v":6736},{"$f":"DR!F224","v":4762},{"$f":"DR!G224","v":3924},{"$f":"DR!H224","v":3418},null,{"$f":"L623*$AB$2","v":9156},{"$f":"M623*$AB$2","v":6736},{"$f":"N623*$AB$2","v":4762},{"$f":"O623*$AB$2","v":3924},{"$f":"P623*$AB$2","v":3418}]
[1,"Rider Comp. Maternidad",null,{"$f":"L624","v":0},{"$f":"M624","v":0},0,225,225,null,null,null,0,0,0,225,225]
[1,"Transplante de organos",null,{"$f":"L625","v":300},{"$f":"M625","v":300},{"$f":"N625","v":300},{"$f":"O625","v":300},{"$f":"P625","v":300},null,null,null,300,300,300,300,300]
[null,"Deductible Waiver",null,45,180,345,775,1330,null,null,null,45,180,345,775,1330]
[]
[]
["TARIFAS SEMESTRALES"]
[]
["EDAD",null,null,"ET2","ET3","ET4","ET5","ET6"]
[18,null,null,{"$f":"D558*$G$1","v":5081.6400000000003},3258.44,2582.69,2133.25,1549.72]
[19,null,null,5180.75,3320.4500000000003,2633.57,2172.4700000000003,1578.3400000000001]
[20,null,null,5285.6900000000005,3380.34,2684.98,2214.87,1607.49]
[21,null,null,5387.9800000000005,3445,2733.21,2255.15,1639.2900000000002]
[22,null,null,5497.6900000000005,3510.7200000000003,2784.6200000000003,2299.1400000000003,1669.5]
[23,null,null,5599.4500000000007,3571.1400000000003,2838.6800000000003,2339.9500000000003,1698.65]
[24,null,null,5707.5700000000006,3636.86,2889.03,2380.23,1729.39]
[25,null,null,5810.39,3698.8700000000003,2941.5,2424.75,1762.7800000000002]
[26,null,null,5917.4500000000007,3762.4700000000003,2996.09,2466.09,1794.0500000000002]
[27,null,null,6023.9800000000005,3828.19,3047.5,2508.4900000000002,1822.14]
[28,null,null,{"$f":"D568*$G$1","v":6152.77},3903.4500000000003,3111.63,2564.1400000000003,1867.19]
[29,null,null,6285.27,3979.2400000000002,3174.17,2620.85,1911.18]
[30,null,null,6416.71,4053.44,3229.29,2678.6200000000003,1957.2900000000002]
[31,null,null,6548.1500000000005,4128.17,3292.8900000000003,2734.27,2003.93]
[32,null,null,6679.06,4205.0200000000004,3354.9,2793.63,2046.8600000000001]
[33,null,null,6866.1500000000005,4304.66,3437.05,2862,2109.4]
[34,null,null,7056.9500000000007,4406.95,3520.26,2930.3700000000003,2171.94]
[35,null,null,7242.9800000000005,4506.59,3602.94,2997.6800000000003,2233.42]
[36,null,null,7430.6,4605.7,3687.21,3066.58,2293.31]
[37,null,null,7616.63,4706.93,3769.36,3133.8900000000003,2355.3200000000002]
[38,null,null,{"$f":"D578*$G$1","v":7869.97},4871.2300000000005,3907.1600000000003,3229.29,2431.11]
[39,null,null,8120.6600000000008,5034.47,4041.25,3330.52,2508.4900000000002]
[40,null,null,8374,5198.2400000000007,4179.05,3425.92,2586.9300000000003]
[41,null,null,8623.630000000001,5364.66,4315.79,3526.09,2661.13]
[42,null,null,8876.9700000000012,5526.84,4448.29,3623.0800000000004,2739.04]
[43,null,null,9193.380000000001,5719.76,4601.99,3730.67,2824.9]
[44,null,null,9505.02,5910.0300000000007,4757.2800000000007,3841.44,2911.82]
[45,null,null,9823.5500000000011,6100.83,4910.45,3944.7900000000004,2998.21]
[46,null,null,10136.25,6291.63,5065.21,4053.44,3083.01]
[47,null,null,10451.07,6481.37,5216.26,4158.91,3174.7000000000003]
[48,null,null,{"$f":"D588*$G$1","v":10842.210000000001},6702.38,5406,4303.0700000000006,3287.06]
[49,null,null,11231.230000000001,6924.4500000000007,5592.0300000000007,4448.29,3398.8900000000003]
[50,null,null,11622.900000000001,7147.58,5778.06,4591.92,3511.25]
[51,null,null,12014.57,7373.3600000000006,5963.56,4739.79,3623.0800000000004]
[52,null,null,12402,7590.6600000000008,6152.2400000000007,4882.8900000000003,3734.9100000000003]
[53,null,null,12877.41,7888.52,6373.25,5059.91,3878.5400000000004]
[54,null,null,13351.76,8190.09,6595.3200000000006,5232.6900000000005,4016.8700000000003]
[55,null,null,13823.990000000002,8490.07,6819.51,5411.3,4157.8500000000004]
[56,null,null,14298.87,8789.52,7042.1100000000006,5587.79,4300.42]
[57,null,null,14771.1,9087.380000000001,7264.18,5766.4000000000005,4441.93]
[58,null,null,{"$f":"D598*$G$1","v":15346.150000000001},9486.4700000000012,7552.5,5996.42,4623.1900000000005]
[59,null,null,15922.79,9885.0300000000007,7838.7000000000007,6233.8600000000006,4809.22]
[60,null,null,16498.370000000003,10283.060000000001,8124.9000000000005,6463.88,4993.66]
[61,null,null,17180.48,10778.61,8506.5,6761.7400000000007,5228.45]
[62,null,null,17983.43,11378.57,8987.74,7131.1500000000005,5580.9000000000005]
[63,null,null,18921.530000000002,12106.79,9587.17,7581.1200000000008,5995.89]
[64,null,null,19997.960000000003,12962.210000000001,10306.380000000001,8136.0300000000007,6484.02]
[65,null,null,21237.100000000002,13952.78,11152.79,8812.84,7049.5300000000007]
[66,null,null,22660.15,15084.33,12140.18,9624.8000000000011,7737.47]
[67,null,null,24288.84,16383.36,13276.5,10585.69,8556.32]
[68,null,null,{"$f":"D608*$G$1","v":26202.140000000003},17921.420000000002,14603.62,11713,9518.27]
[69,null,null,28409.06,19729.25,16143.800000000001,13031.11,10640.28]
[70,null,null,30936.100000000002,21807.38,17926.72,14563.87,11950.44]
[71,null,null,33816.65,24173.83,19966.16,16330.890000000001,13463.060000000001]
[72,null,null,37087.810000000005,26858.280000000002,22291.800000000003,18347.010000000002,15198.810000000001]
[73,null,null,40747.990000000005,29873.45,24917.95,20628.13,17183.13]
[74,null,null,44891.53,33282.94,27887.54,23191.210000000003,19439.34]
[75,null,null,49549.700000000004,37093.64,31238.2,26079.18,21982.280000000002]
[76,null,null,54876.73,41510.130000000005,35009.68,29332.32,24829.440000000002]
[77,null,null,61272.770000000004,46611.91,39354.090000000004,33074.65,28068.27]
[78,null,null,{"$f":"D618*$G$1","v":68994.34},52706.380000000005,44312.240000000005,37383.020000000004,31786.75]
[79,null,null,78318.63,59953.07,50086.060000000005,42308.840000000004,36053.78]
[80,"o mas",null,89505.87000000001,68515.22,56968.11,48181.240000000005,41111.57]
[1,"Hijo",null,2161.34,1503.6100000000001,1097.6300000000001,902.59,790.76]
[2,"Hijos",null,3324.69,2442.2400000000002,1733.63,1430.47,1252.92]
[3,"Hijos o más",null,4852.68,3570.0800000000004,2523.86,2079.7200000000003,1811.5400000000002]
[1,"Rider Comp. Maternidad",null,0,0,0,119.25,119.25]
[1,"Transplante de organos",null,159,159,159,159,159]
[null,"Deductible Waiver",null,23.85,95.4,182.85000000000002,410.75,704.90000000000009]
[]
[]
["TARIFAS TRIMESTRALES"]
[]
["EDAD",null,null,"ET2","ET3","ET4","ET5","ET6"]
[18,null,null,{"$f":"D558*$G$2","v":2636.7000000000003},1690.7,1340.075,1106.875,804.1]
[19,null,null,2688.125,1722.8750000000002,1366.4750000000001,1127.2250000000001,818.95]
[20,null,null,2742.5750000000003,1753.95,1393.15,1149.2250000000001,834.07500000000005]
[21,null,null,2795.65,1787.5000000000002,1418.1750000000002,1170.125,850.57500000000005]
[22,null,null,2852.5750000000003,1821.6000000000001,1444.8500000000001,1192.95,866.25000000000011]
[23,null,null,2905.3750000000005,1852.95,1472.9,1214.125,881.37500000000011]
[24,null,null,2961.4750000000004,1887.0500000000002,1499.0250000000001,1235.0250000000001,897.32500000000005]
[25,null,null,3014.8250000000003,1919.2250000000001,1526.2500000000002,1258.125,914.65000000000009]
[26,null,null,3070.3750000000005,1952.2250000000001,1554.575,1279.575,930.87500000000011]
[27,null,null,3125.65,1986.3250000000003,1581.2500000000002,1301.575,945.45]
[28,null,null,{"$f":"D568*$G$2","v":3192.4750000000004},2025.3750000000002,1614.5250000000001,1330.45,968.82500000000005]
[29,null,null,3261.2250000000004,2064.7000000000003,1646.9750000000001,1359.875,991.65000000000009]
[30,null,null,3329.4250000000002,2103.2000000000003,1675.575,1389.8500000000001,1015.575]
[31,null,null,3397.6250000000005,2141.9750000000004,1708.575,1418.7250000000001,1039.7750000000001]
[32,null,null,3465.55,2181.8500000000004,1740.7500000000002,1449.5250000000001,1062.0500000000002]
[33,null,null,3562.6250000000005,2233.5500000000002,1783.3750000000002,1485.0000000000002,1094.5]
[34,null,null,3661.6250000000005,2286.625,1826.5500000000002,1520.4750000000001,1126.95]
[35,null,null,3758.15,2338.3250000000003,1869.45,1555.4,1158.8500000000001]
[36,null,null,3855.5000000000005,2389.75,1913.1750000000002,1591.15,1189.9250000000002]
[37,null,null,3952.0250000000005,2442.2750000000001,1955.8000000000002,1626.075,1222.1000000000001]
[38,null,null,{"$f":"D578*$G$2","v":4083.4750000000004},2527.5250000000001,2027.3000000000002,1675.575,1261.4250000000002]
[39,null,null,4213.55,2612.2250000000004,2096.875,1728.1000000000001,1301.575]
[40,null,null,4345,2697.2000000000003,2168.375,1777.6000000000001,1342.2750000000001]
[41,null,null,4474.5250000000005,2783.55,2239.3250000000003,1829.575,1380.7750000000001]
[42,null,null,4605.9750000000004,2867.7000000000003,2308.0750000000003,1879.9,1421.2]
[43,null,null,4770.1500000000005,2967.8,2387.8250000000003,1935.7250000000001,1465.7500000000002]
[44,null,null,4931.8500000000004,3066.5250000000001,2468.4,1993.2000000000003,1510.8500000000001]
[45,null,null,5097.125,3165.5250000000001,2547.875,2046.8250000000003,1555.6750000000002]
[46,null,null,5259.375,3264.5250000000001,2628.1750000000002,2103.2000000000003,1599.6750000000002]
[47,null,null,5422.7250000000004,3362.9750000000004,2706.55,2157.9250000000002,1647.2500000000002]
[48,null,null,{"$f":"D588*$G$2","v":5625.6750000000002},3477.65,2805,2232.7250000000004,1705.5500000000002]
[49,null,null,5827.5250000000005,3592.8750000000005,2901.5250000000001,2308.0750000000003,1763.575]
[50,null,null,6030.7500000000009,3708.65,2998.05,2382.6000000000004,1821.8750000000002]
[51,null,null,6233.9750000000004,3825.8,3094.3,2459.3250000000003,1879.9]
[52,null,null,6435.0000000000009,3938.55,3192.2000000000003,2533.5750000000003,1937.9250000000002]
[53,null,null,6681.6750000000002,4093.1000000000004,3306.8750000000005,2625.4250000000002,2012.4500000000003]
[54,null,null,6927.8,4249.5750000000007,3422.1000000000004,2715.0750000000003,2084.2250000000004]
[55,null,null,7172.8250000000007,4405.2250000000004,3538.4250000000002,2807.75,2157.375]
[56,null,null,7419.2250000000004,4560.6000000000004,3653.9250000000002,2899.3250000000003,2231.3500000000004]
[57,null,null,7664.2500000000009,4715.1500000000005,3769.15,2992.0000000000005,2304.7750000000001]
[58,null,null,{"$f":"D598*$G$2","v":7962.6250000000009},4922.2250000000004,3918.7500000000005,3111.3500000000004,2398.8250000000003]
[59,null,null,8261.8250000000007,5129.0250000000005,4067.2500000000005,3234.55,2495.3500000000004]
[60,null,null,8560.4750000000004,5335.55,4215.75,3353.9,2591.0500000000002]
[61,null,null,8914.4000000000015,5592.6750000000002,4413.75,3508.4500000000003,2712.875]
[62,null,null,9331.0250000000015,5903.9750000000004,4663.4500000000007,3700.1250000000005,2895.7500000000005]
[63,null,null,9817.7750000000015,6281.8250000000007,4974.4750000000004,3933.6000000000004,3111.0750000000003]
[64,null,null,10376.300000000001,6725.6750000000002,5347.6500000000005,4221.5250000000005,3364.3500000000004]
[65,null,null,11019.25,7239.6500000000005,5786.8250000000007,4572.7000000000007,3657.7750000000001]
[66,null,null,11757.625000000002,7826.7750000000005,6299.1500000000005,4994,4014.7250000000004]
[67,null,null,12602.7,8500.8000000000011,6888.7500000000009,5492.5750000000007,4439.6000000000004]
[68,null,null,{"$f":"D608*$G$2","v":13595.45},9298.85,7577.35,6077.5000000000009,4938.7250000000004]
[69,null,null,14740.550000000001,10236.875,8376.5,6761.4250000000002,5520.9000000000005]
[70,null,null,16051.750000000002,11315.150000000001,9301.6,7556.7250000000004,6200.7000000000007]
[71,null,null,17546.375,12543.025000000001,10359.800000000001,8473.5750000000007,6985.55]
[72,null,null,19243.675000000003,13935.900000000001,11566.500000000002,9519.6750000000011,7886.1750000000011]
[73,null,null,21142.825000000001,15500.375000000002,12929.125000000002,10703.275000000001,8915.7750000000015]
[74,null,null,23292.775000000001,17269.45,14469.95,12033.175000000001,10086.450000000001]
[75,null,null,25709.750000000004,19246.7,16208.500000000002,13531.650000000001,11405.900000000001]
[76,null,null,28473.775000000001,21538.275000000001,18165.400000000001,15219.6,12883.2]
[77,null,null,31792.475000000002,24185.425000000003,20419.575000000001,17161.375,14563.725]
[78,null,null,{"$f":"D618*$G$2","v":35798.950000000004},27347.65,22992.2,19396.850000000002,16493.125]
[79,null,null,40637.025000000001,31107.725000000002,25988.050000000003,21952.7,18707.150000000001]
[80,"o mas",null,46441.725000000006,35550.350000000006,29558.925000000003,24999.7,21331.475000000002]
[1,"Hijo",null,1121.45,780.17500000000007,569.52500000000009,468.32500000000005,410.3]
[2,"Hijos",null,1725.075,1267.2,899.52500000000009,742.22500000000002,650.1]
[3,"Hijos o más",null,2517.9,1852.4,1309.5500000000002,1079.1000000000001,939.95]
[1,"Rider Comp. Maternidad",null,0,0,0,61.875000000000007,61.875000000000007]
[1,"Transplante de organos",null,82.5,82.5,82.5,82.5,82.5]
[null,"Deductible Waiver",null,12.375000000000002,49.500000000000007,94.875000000000014,213.12500000000003,365.75000000000006]
[]
[]
["TARIFAS MENSUALES"]
[]
["EDAD",null,null,"ET2","ET3","ET4","ET5","ET6"]
[18,null,null,{"$f":"D558*$G$3","v":894.87999680400003},{"$f":"E558*$G$3","v":573.81333128400001},454.81333170900001,375.666665325,272.90666569199999]
[19,null,null,{"$f":"D559*$G$3","v":912.33333007500005},584.73333124500004,463.77333167700004,382.573331967,277.94666567400003]
[20,null,null,{"$f":"D560*$G$3","v":930.81333000900008},595.27999787400006,472.826664978,390.03999860700003,283.07999898899999]
[21,null,null,{"$f":"D561*$G$3","v":948.82666327800007},606.66666450000002,481.31999828100004,397.13333191500004,288.679998969]
[22,null,null,{"$f":"D562*$G$3","v":968.14666320900005},618.23999779200005,490.37333158200005,404.879998554,293.99999895000002]
[23,null,null,{"$f":"D563*$G$3","v":986.06666314500001},628.87999775399999,499.89333154800005,412.06666519500004,299.13333226500004]
[24,null,null,{"$f":"D564*$G$3","v":1005.106663077},640.45333104600002,508.75999818300005,419.159998503,304.54666557900003]
[25,null,null,{"$f":"D565*$G$3","v":1023.213329679},651.37333100700005,517.99999815000001,426.99999847500004,310.42666555800002]
[26,null,null,{"$f":"D566*$G$3","v":1042.066662945},662.57333096700006,527.61333144900004,434.279998449,315.933332205]
[27,null,null,{"$f":"D567*$G$3","v":1060.826662878},674.14666425899998,536.66666475,441.74666508900003,320.87999885400001]
[28,null,null,{"$f":"D568*$G$3","v":1083.506662797},687.39999754500002,547.95999804300004,451.54666505400002,328.81333215900003]
[29,null,null,{"$f":"D569*$G$3","v":1106.8399960470001},700.74666416399998,558.97333133699999,461.53333168500001,336.55999879800004]
[30,null,null,{"$f":"D570*$G$3","v":1129.9866626309999},713.81333078400007,568.67999796900006,471.70666498200001,344.67999876900001]
[31,null,null,{"$f":"D571*$G$3","v":1153.133329215},726.97333073700008,579.87999792900007,481.50666494700005,352.89333207300001]
[32,null,null,{"$f":"D572*$G$3","v":1176.1866624660001},740.506664022,590.79999788999999,491.95999824300003,360.45333204600001]
[33,null,null,{"$f":"D573*$G$3","v":1209.1333290150001},758.05333062600005,605.26666450499999,503.99999820000005,371.46666534000002]
[34,null,null,{"$f":"D574*$G$3","v":1242.7333288950001},776.06666389500003,619.91999778600007,516.03999815700001,382.47999863400003]
[35,null,null,{"$f":"D575*$G$3","v":1275.493328778},793.61333049900009,634.47999773399999,527.89333144800003,393.30666526200002]
[36,null,null,{"$f":"D576*$G$3","v":1308.5333286600001},811.06666376999999,649.31999768100002,540.02666473800002,403.85333189100004]
[37,null,null,{"$f":"D577*$G$3","v":1341.2933285430001},828.89333037300003,663.78666429600003,551.87999802900003,414.77333185200001]
[38,null,null,{"$f":"D578*$G$3","v":1385.9066617170001},857.82666360300004,688.05333087600002,568.67999796900006,428.11999847100003]
[39,null,null,{"$f":"D579*$G$3","v":1430.0533282260001},886.57333016699999,711.66666412500001,586.50666457199998,441.74666508900003]
[40,null,null,{"$f":"D580*$G$3","v":1474.6666614000001},915.41333006400009,735.933330705,603.306664512,455.55999837300004]
[41,null,null,{"$f":"D581*$G$3","v":1518.6266612430002},944.71999662600001,760.01333061900004,620.94666444900008,468.62666499300002]
[42,null,null,{"$f":"D582*$G$3","v":1563.2399944170002},973.27999652400001,783.34666386900005,638.02666438800009,482.346664944]
[43,null,null,{"$f":"D583*$G$3","v":1618.959994218},1007.2533297360001,810.41333043899999,656.97333098700005,497.46666489]
[44,null,null,{"$f":"D584*$G$3","v":1673.8399940220002},1040.759996283,837.75999700800003,676.47999758399999,512.77333150200002]
[45,null,null,{"$f":"D585*$G$3","v":1729.9333271550001},1074.359996163,864.73333024500005,694.67999751900004,527.98666478100006]
[46,null,null,{"$f":"D586*$G$3","v":1784.9999936250001},1107.959996043,891.98666348100005,713.81333078400007,542.919998061]
[47,null,null,{"$f":"D587*$G$3","v":1840.439993427},1141.373329257,918.58666338600005,732.38666405100003,559.06666467000002]
[48,null,null,{"$f":"D588*$G$3","v":1909.3199931810002},1180.293329118,951.99999660000003,757.77333062700006,578.85333126600005]
[49,null,null,{"$f":"D589*$G$3","v":1977.8266596030001},1219.399995645,984.75999648300001,783.34666386900005,598.54666452900005]
[50,null,null,{"$f":"D590*$G$3","v":2046.7999926900002},1258.6933288380001,1017.5199963660001,808.63999711200006,618.33333112500009]
[51,null,null,{"$f":"D591*$G$3","v":2115.7733257770001},1298.453328696,1050.1866629160002,834.67999701899998,638.02666438800009]
[52,null,null,{"$f":"D592*$G$3","v":2183.9999922000002},1336.719995226,1083.4133294640001,859.87999692900007,657.71999765100009]
[53,null,null,{"$f":"D593*$G$3","v":2267.719991901},1389.173328372,1122.333329325,891.05333015100007,683.01333089399998]
[54,null,null,{"$f":"D594*$G$3","v":2351.2533249359999},1442.2799948490001,1161.439995852,921.47999670900003,707.373330807]
[55,null,null,{"$f":"D595*$G$3","v":2434.4133246390002},1495.106661327,1200.919995711,952.93332993000001,732.19999738500007]
[56,null,null,{"$f":"D596*$G$3","v":2518.039991007},1547.8399944720002,1240.1199955710001,984.01332981900009,757.30666396200002]
[57,null,null,{"$f":"D597*$G$3","v":2601.1999907100003},1600.2933276180001,1279.2266620980001,1015.4666630400001,782.22666387300001]
[58,null,null,{"$f":"D598*$G$3","v":2702.4666570150002},1670.573327367,1329.99999525,1055.9733295620001,814.14666375900003]
[59,null,null,{"$f":"D599*$G$3","v":2804.0133233189999},1740.759993783,1380.3999950700002,1097.786662746,846.90666364200001]
[60,null,null,{"$f":"D600*$G$3","v":2905.3733229570003},1810.8533268660001,1430.7999948900001,1138.293329268,879.38666352600001]
[61,null,null,{"$f":"D601*$G$3","v":3025.4933225280001},1898.1199932210002,1497.99999465,1190.746662414,920.733330045]
[62,null,null,{"$f":"D602*$G$3","v":3166.8933220230001},2003.7733261770002,1582.746661014,1255.7999955150001,982.79999649000001]
[63,null,null,{"$f":"D603*$G$3","v":3332.0933214330003},2132.013325719,1688.306660637,1335.0399952320001,1055.879996229]
[64,null,null,{"$f":"D604*$G$3","v":3521.6533207560001},2282.6533251810001,1814.9599935180001,1432.759994883,1141.8399959220001]
[65,null,null,{"$f":"D605*$G$3","v":3739.8666533100004},2457.0933245579999,1964.013326319,1551.946661124,1241.4266622330001]
[66,null,null,{"$f":"D606*$G$3","v":3990.4666524150002},2656.359990513,2137.8933256979999,1694.9333272800002,1362.573328467]
[67,null,null,{"$f":"D607*$G$3","v":4277.2799847240003},2885.1199896960002,2337.9999916500001,1864.146660009,1506.773327952]
[68,null,null,{"$f":"D608*$G$3","v":4614.2133168540004},3155.9733220620001,2571.7066574820001,2062.6666593,1676.1733273470002]
[69,null,null,{"$f":"D609*$G$3","v":5002.8533154659999},3474.333320925,2842.9333231800001,2294.786658471,1873.759993308]
[70,null,null,{"$f":"D610*$G$3","v":5447.8666472100003},3840.2933196180002,3156.9066553920002,2564.7066575070003,2104.4799924839999]
[71,null,null,{"$f":"D611*$G$3","v":5955.1333120650006},4257.0266514630002,3516.053320776,2875.879989729,2370.8533248660001]
[72,null,null,{"$f":"D612*$G$3","v":6531.1866433410005},4729.7599831080006,3925.5999859800004,3230.9199884610002,2676.5199904410001]
[73,null,null,{"$f":"D613*$G$3","v":7175.7466410390007},5260.7333145450002,4388.0666509950006,3632.6266536930002,3025.9599891930002]
[74,null,null,{"$f":"D614*$G$3","v":7905.4266384330003},5861.1466457340002,4911.0133157939999,4083.9866520810001,3423.2799877740003]
[75,null,null,{"$f":"D615*$G$3","v":8725.7333021699997},6532.213310004,5501.0666470200003,4592.5599835980001,3871.0933195080001]
[76,null,null,{"$f":"D616*$G$3","v":9663.8266321530009},7309.9599738930001,6165.2266446480007,5165.4399815520001,4372.4799843840001]
[77,null,null,{"$f":"D617*$G$3","v":10790.173294797001},8208.3866373510009,6930.279975249,5824.4666458649999,4942.8399823469999]
[78,null,null,{"$f":"D618*$G$3","v":12149.946623274001},9281.6266335180007,7803.4133054640006,6583.1733098220002,5597.6666466750003]
[79,null,null,{"$f":"D619*$G$3","v":13791.959950743001},10557.773295627001,8820.186635166001,7450.6133067240007,6349.0933106580005]
[80,"o mas",null,{"$f":"D620*$G$3","v":15762.039943707001},12065.573290242,10032.119964171001,8484.7466363639996,7239.7733074770003]
[1,"Hijo",null,{"$f":"D621*$G$3","v":380.613331974},264.78666572100002,193.29333264300001,158.946666099,139.253332836]
[2,"Hijos",null,{"$f":"D622*$G$3","v":585.47999790900008},430.07999846400003,305.29333224300001,251.90666576700002,220.63999921200002]
[3,"Hijos o más",null,{"$f":"D623*$G$3","v":854.55999694800005},628.69333108800004,444.453331746,366.23999869200003,319.01333219400004]
[1,"Rider Comp. Maternidad",null,{"$f":"D624*$G$3","v":0},0,0,20.999999925000001,20.999999925000001]
[1,"Transplante de organos",null,{"$f":"D625*$G$3","v":27.999999900000002},27.999999900000002,27.999999900000002,27.999999900000002,27.999999900000002]
[null,"Deductible Waiver",null,{"$f":"D626*$G$3","v":4.1999999849999998},16.799999939999999,32.199999885000004,72.333333074999999,124.13333289000001]
[]
[]
[]
[]
["BUPA UNIQUE CARE: DEDUCIBLE CERO"]
["TARIFAS ANUALES"]
[]
["EDAD",null,null,"ET2","ET3","ET4","ET5","ET6"]
[18,null,null,{"$f":"R857","v":3100.8},{"$f":"S857","v":2729.6000000000004},{"$f":"T857","v":2441.6},{"$f":"U857","v":2155.2000000000003},{"$f":"V857","v":0},null,null,null,{"$f":"DR!D233","v":3876},{"$f":"DR!E233","v":3412},{"$f":"DR!F233","v":3052},{"$f":"DR!G233","v":2694},null,null,{"$f":"L857*$Z$2","v":3100.8},{"$f":"M857*$Z$3","v":2729.6000000000004},{"$f":"N857*$Z$4","v":2441.6},{"$f":"O857*$Z$5","v":2155.2000000000003},{"$f":"P857*$Y$2","v":0}]
[19,null,null,{"$f":"R858","v":3156},{"$f":"S858","v":2776.8},{"$f":"T858","v":2482.4},{"$f":"U858","v":2194.4},{"$f":"V858","v":0},null,null,null,{"$f":"DR!D234","v":3945},{"$f":"DR!E234","v":3471},{"$f":"DR!F234","v":3103},{"$f":"DR!G234","v":2743},null,null,{"$f":"L858*$Z$2","v":3156},{"$f":"M858*$Z$3","v":2776.8},{"$f":"N858*$Z$4","v":2482.4},{"$f":"O858*$Z$5","v":2194.4},0]
[20,null,null,3210.4,2825.6000000000004,2528,2232,0,null,null,null,{"$f":"DR!D235","v":4013},{"$f":"DR!E235","v":3532},{"$f":"DR!F235","v":3160},{"$f":"DR!G235","v":2790},null,null,3210.4,2825.6000000000004,2528,2232,0]
[21,null,null,3268.8,2877.6000000000004,2574.4,2272.8000000000002,0,null,null,null,{"$f":"DR!D236","v":4086},{"$f":"DR!E236","v":3597},{"$f":"DR!F236","v":3218},{"$f":"DR!G236","v":2841},null,null,3268.8,2877.6000000000004,2574.4,2272.8000000000002,0]
[22,null,null,3329.6000000000004,2928,2620.8000000000002,2313.6,0,null,null,null,{"$f":"DR!D237","v":4162},{"$f":"DR!E237","v":3660},{"$f":"DR!F237","v":3276},{"$f":"DR!G237","v":2892},null,null,3329.6000000000004,2928,2620.8000000000002,2313.6,0]
[23,null,null,3388,2980,2664,2354.4,0,null,null,null,{"$f":"DR!D238","v":4235},{"$f":"DR!E238","v":3725},{"$f":"DR!F238","v":3330},{"$f":"DR!G238","v":2943},null,null,3388,2980,2664,2354.4,0]
[24,null,null,3446.4,3029.6000000000004,2712.8,2393.6,0,null,null,null,{"$f":"DR!D239","v":4308},{"$f":"DR!E239","v":3787},{"$f":"DR!F239","v":3391},{"$f":"DR!G239","v":2992},null,null,3446.4,3029.6000000000004,2712.8,2393.6,0]
[25,null,null,3504.8,3081.6000000000004,2757.6000000000004,2433.6,0,null,null,null,{"$f":"DR!D240","v":4381},{"$f":"DR!E240","v":3852},{"$f":"DR!F240","v":3447},{"$f":"DR!G240","v":3042},null,null,3504.8,3081.6000000000004,2757.6000000000004,2433.6,0]
[26,null,null,3564,3135.2000000000003,2805.6000000000004,2476.8000000000002,0,null,null,null,{"$f":"DR!D241","v":4455},{"$f":"DR!E241","v":3919},{"$f":"DR!F241","v":3507},{"$f":"DR!G241","v":3096},null,null,3564,3135.2000000000003,2805.6000000000004,2476.8000000000002,0]
[27,null,null,3624,3189.6000000000004,2853.6000000000004,2519.2000000000003,0,null,null,null,{"$f":"DR!D242","v":4530},{"$f":"DR!E242","v":3987},{"$f":"DR!F242","v":3567},{"$f":"DR!G242","v":3149},null,null,3624,3189.6000000000004,2853.6000000000004,2519.2000000000003,0]
[28,null,null,3690.4,3247.2000000000003,2904.8,2562.4,0,null,null,null,{"$f":"DR!D243","v":4613},{"$f":"DR!E243","v":4059},{"$f":"DR!F243","v":3631},{"$f":"DR!G243","v":3203},null,null,3690.4,3247.2000000000003,2904.8,2562.4,0]
[29,null,null,3760,3308,2960.8,2613.6000000000004,0,null,null,null,{"$f":"DR!D244","v":4700},{"$f":"DR!E244","v":4135},{"$f":"DR!F244","v":3701},{"$f":"DR!G244","v":3267},null,null,3760,3308,2960.8,2613.6000000000004,0]
[30,null,null,3828,3368.8,3015.2000000000003,2660,0,null,null,null,{"$f":"DR!D245","v":4785},{"$f":"DR!E245","v":4211},{"$f":"DR!F245","v":3769},{"$f":"DR!G245","v":3325},null,null,3828,3368.8,3015.2000000000003,2660,0]
[31,null,null,3900,3431.2000000000003,3069.6000000000004,2709.6000000000004,0,null,null,null,{"$f":"DR!D246","v":4875},{"$f":"DR!E246","v":4289},{"$f":"DR!F246","v":3837},{"$f":"DR!G246","v":3387},null,null,3900,3431.2000000000003,3069.6000000000004,2709.6000000000004,0]
[32,null,null,3966.4,3489.6000000000004,3121.6000000000004,2755.2000000000003,0,null,null,null,{"$f":"DR!D247","v":4958},{"$f":"DR!E247","v":4362},{"$f":"DR!F247","v":3902},{"$f":"DR!G247","v":3444},null,null,3966.4,3489.6000000000004,3121.6000000000004,2755.2000000000003,0]
[33,null,null,4078.4,3588,3210.4,2833.6000000000004,0,null,null,null,{"$f":"DR!D248","v":5098},{"$f":"DR!E248","v":4485},{"$f":"DR!F248","v":4013},{"$f":"DR!G248","v":3542},null,null,4078.4,3588,3210.4,2833.6000000000004,0]
[34,null,null,4190.4000000000005,3687.2000000000003,3298.4,2908.8,0,null,null,null,{"$f":"DR!D249","v":5238},{"$f":"DR!E249","v":4609},{"$f":"DR!F249","v":4123},{"$f":"DR!G249","v":3636},null,null,4190.4000000000005,3687.2000000000003,3298.4,2908.8,0]
[35,null,null,4302.4000000000005,3783.2000000000003,3384.8,2984.8,0,null,null,null,{"$f":"DR!D250","v":5378},{"$f":"DR!E250","v":4729},{"$f":"DR!F250","v":4231},{"$f":"DR!G250","v":3731},null,null,4302.4000000000005,3783.2000000000003,3384.8,2984.8,0]
[36,null,null,4411.2,3880,3472.8,3066.4,0,null,null,null,{"$f":"DR!D251","v":5514},{"$f":"DR!E251","v":4850},{"$f":"DR!F251","v":4341},{"$f":"DR!G251","v":3833},null,null,4411.2,3880,3472.8,3066.4,0]
[37,null,null,4524,3980,3564,3145.6000000000004,0,null,null,null,{"$f":"DR!D252","v":5655},{"$f":"DR!E252","v":4975},{"$f":"DR!F252","v":4455},{"$f":"DR!G252","v":3932},null,null,4524,3980,3564,3145.6000000000004,0]
[38,null,null,4638.4000000000005,4080.8,3652,3222.4,0,null,null,null,{"$f":"DR!D253","v":5798},{"$f":"DR!E253","v":5101},{"$f":"DR!F253","v":4565},{"$f":"DR!G253","v":4028},null,null,4638.4000000000005,4080.8,3652,3222.4,0]
[39,null,null,4756,4183.2,3743.2000000000003,3304.8,0,null,null,null,{"$f":"DR!D254","v":5945},{"$f":"DR!E254","v":5229},{"$f":"DR!F254","v":4679},{"$f":"DR!G254","v":4131},null,null,4756,4183.2,3743.2000000000003,3304.8,0]
[40,null,null,4868,4285.6000000000004,3832.8,3382.4,0,null,null,null,{"$f":"DR!D255","v":6085},{"$f":"DR!E255","v":5357},{"$f":"DR!F255","v":4791},{"$f":"DR!G255","v":4228},null,null,4868,4285.6000000000004,3832.8,3382.4,0]
[41,null,null,4984.8,4387.2,3924,3464,0,null,null,null,{"$f":"DR!D256","v":6231},{"$f":"DR!E256","v":5484},{"$f":"DR!F256","v":4905},{"$f":"DR!G256","v":4330},null,null,4984.8,4387.2,3924,3464,0]
[42,null,null,5100,4487.2,4016.8,3543.2000000000003,0,null,null,null,{"$f":"DR!D257","v":6375},{"$f":"DR!E257","v":5609},{"$f":"DR!F257","v":5021},{"$f":"DR!G257","v":4429},null,null,5100,4487.2,4016.8,3543.2000000000003,0]
[43,null,null,5306.4000000000005,4668.8,4178.4000000000005,3688.8,0,null,null,null,{"$f":"DR!D258","v":6633},{"$f":"DR!E258","v":5836},{"$f":"DR!F258","v":5223},{"$f":"DR!G258","v":4611},null,null,5306.4000000000005,4668.8,4178.4000000000005,3688.8,0]
[44,null,null,5513.6,4850.4000000000005,4342.4000000000005,3832,0,null,null,null,{"$f":"DR!D259","v":6892},{"$f":"DR!E259","v":6063},{"$f":"DR!F259","v":5428},{"$f":"DR!G259","v":4790},null,null,5513.6,4850.4000000000005,4342.4000000000005,3832,0]
[45,null,null,5721.6,5034.4000000000005,4505.6000000000004,3975.2000000000003,0,null,null,null,{"$f":"DR!D260","v":7152},{"$f":"DR!E260","v":6293},{"$f":"DR!F260","v":5632},{"$f":"DR!G260","v":4969},null,null,5721.6,5034.4000000000005,4505.6000000000004,3975.2000000000003,0]
[46,null,null,5932.8,5218.4000000000005,4672,4120,0,null,null,null,{"$f":"DR!D261","v":7416},{"$f":"DR!E261","v":6523},{"$f":"DR!F261","v":5840},{"$f":"DR!G261","v":5150},null,null,5932.8,5218.4000000000005,4672,4120,0]
[47,null,null,6137.6,5399.2000000000007,4830.4000000000005,4264.8,0,null,null,null,{"$f":"DR!D262","v":7672},{"$f":"DR!E262","v":6749},{"$f":"DR!F262","v":6038},{"$f":"DR!G262","v":5331},null,null,6137.6,5399.2000000000007,4830.4000000000005,4264.8,0]
[48,null,null,6356.8,5592,5002.4000000000005,4416.8,0,null,null,null,{"$f":"DR!D263","v":7946},{"$f":"DR!E263","v":6990},{"$f":"DR!F263","v":6253},{"$f":"DR!G263","v":5521},null,null,6356.8,5592,5002.4000000000005,4416.8,0]
[49,null,null,6578.4000000000005,5788,5178.4000000000005,4571.2,0,null,null,null,{"$f":"DR!D264","v":8223},{"$f":"DR!E264","v":7235},{"$f":"DR!F264","v":6473},{"$f":"DR!G264","v":5714},null,null,6578.4000000000005,5788,5178.4000000000005,4571.2,0]
[50,null,null,6797.6,5980,5349.6,4722.4000000000005,0,null,null,null,{"$f":"DR!D265","v":8497},{"$f":"DR!E265","v":7475},{"$f":"DR!F265","v":6687},{"$f":"DR!G265","v":5903},null,null,6797.6,5980,5349.6,4722.4000000000005,{"$f":"P889*$Y$2","v":0}]
[51,null,null,7016,6173.6,5523.2000000000007,4875.2,0,null,null,null,{"$f":"DR!D266","v":8770},{"$f":"DR!E266","v":7717},{"$f":"DR!F266","v":6904},{"$f":"DR!G266","v":6094},null,null,7016,6173.6,5523.2000000000007,4875.2,0]
[52,null,null,7236.8,6364.8,5696.8,5025.6000000000004,0,null,null,null,{"$f":"DR!D267","v":9046},{"$f":"DR!E267","v":7956},{"$f":"DR!F267","v":7121},{"$f":"DR!G267","v":6282},null,null,7236.8,6364.8,5696.8,5025.6000000000004,0]
[53,null,null,7500,6596.8,5903.2000000000007,5207.2000000000007,0,null,null,null,{"$f":"DR!D268","v":9375},{"$f":"DR!E268","v":8246},{"$f":"DR!F268","v":7379},{"$f":"DR!G268","v":6509},null,null,7500,6596.8,5903.2000000000007,5207.2000000000007,0]
[54,null,null,7756.8,6824.8,6105.6,5388.8,0,null,null,null,{"$f":"DR!D269","v":9696},{"$f":"DR!E269","v":8531},{"$f":"DR!F269","v":7632},{"$f":"DR!G269","v":6736},null,null,7756.8,6824.8,6105.6,5388.8,0]
[55,null,null,8016,7052,6309.6,5566.4000000000005,0,null,null,null,{"$f":"DR!D270","v":10020},{"$f":"DR!E270","v":8815},{"$f":"DR!F270","v":7887},{"$f":"DR!G270","v":6958},null,null,8016,7052,6309.6,5566.4000000000005,0]
[56,null,null,8275.2000000000007,7279.2000000000007,6514.4000000000005,5749.6,0,null,null,null,{"$f":"DR!D271","v":10344},{"$f":"DR!E271","v":9099},{"$f":"DR!F271","v":8143},{"$f":"DR!G271","v":7187},null,null,8275.2000000000007,7279.2000000000007,6514.4000000000005,5749.6,0]
[57,null,null,8538.4,7507.2000000000007,6721.6,5930.4000000000005,0,null,null,null,{"$f":"DR!D272","v":10673},{"$f":"DR!E272","v":9384},{"$f":"DR!F272","v":8402},{"$f":"DR!G272","v":7413},null,null,8538.4,7507.2000000000007,6721.6,5930.4000000000005,0]
[58,null,null,8856,7791.2000000000007,6972,6152.8,0,null,null,null,{"$f":"DR!D273","v":11070},{"$f":"DR!E273","v":9739},{"$f":"DR!F273","v":8715},{"$f":"DR!G273","v":7691},null,null,8856,7791.2000000000007,6972,6152.8,0]
[59,null,null,9172.8000000000011,8070.4000000000005,7219.2000000000007,6368.8,0,null,null,null,{"$f":"DR!D274","v":11466},{"$f":"DR!E274","v":10088},{"$f":"DR!F274","v":9024},{"$f":"DR!G274","v":7961},null,null,9172.8000000000011,8070.4000000000005,7219.2000000000007,6368.8,0]
[60,null,null,9493.6,8348,7471.2000000000007,6592,0,null,null,null,{"$f":"DR!D275","v":11867},{"$f":"DR!E275","v":10435},{"$f":"DR!F275","v":9339},{"$f":"DR!G275","v":8240},null,null,9493.6,8348,7471.2000000000007,6592,0]
[61,null,null,9841.6,8656,7747.2000000000007,6834.4000000000005,0,null,null,null,{"$f":"DR!D276","v":12302},{"$f":"DR!E276","v":10820},{"$f":"DR!F276","v":9684},{"$f":"DR!G276","v":8543},null,null,9841.6,8656,7747.2000000000007,6834.4000000000005,0]
[62,null,null,10280.800000000001,9043.2000000000007,8092,7138.4000000000005,0,null,null,null,{"$f":"DR!D277","v":12851},{"$f":"DR!E277","v":11304},{"$f":"DR!F277","v":10115},{"$f":"DR!G277","v":8923},null,null,10280.800000000001,9043.2000000000007,8092,7138.4000000000005,0]
[63,null,null,10799.2,9500,8499.2000000000007,7501.6,0,null,null,null,{"$f":"DR!D278","v":13499},{"$f":"DR!E278","v":11875},{"$f":"DR!F278","v":10624},{"$f":"DR!G278","v":9377},null,null,10799.2,9500,8499.2000000000007,7501.6,0]
[64,null,null,11409.6,10038.400000000001,8982.4,7924.8,0,null,null,null,{"$f":"DR!D279","v":14262},{"$f":"DR!E279","v":12548},{"$f":"DR!F279","v":11228},{"$f":"DR!G279","v":9906},null,null,11409.6,10038.400000000001,8982.4,7924.8,0]
[65,null,null,12196,10730.400000000001,9599.2000000000007,8471.2000000000007,0,null,null,null,{"$f":"DR!D280","v":15245},{"$f":"DR!E280","v":13413},{"$f":"DR!F280","v":11999},{"$f":"DR!G280","v":10589},null,null,12196,10730.400000000001,9599.2000000000007,8471.2000000000007,0]
[66,null,null,13107.2,11530.400000000001,10314.400000000001,9102.4,0,null,null,null,{"$f":"DR!D281","v":16384},{"$f":"DR!E281","v":14413},{"$f":"DR!F281","v":12893},{"$f":"DR!G281","v":11378},null,null,13107.2,11530.400000000001,10314.400000000001,9102.4,0]
[67,null,null,14150.400000000001,12447.2,11136,9825.6,0,null,null,null,{"$f":"DR!D282","v":17688},{"$f":"DR!E282","v":15559},{"$f":"DR!F282","v":13920},{"$f":"DR!G282","v":12282},null,null,14150.400000000001,12447.2,11136,9825.6,0]
[68,null,null,15340.800000000001,13495.2,12074.400000000001,10656,0,null,null,null,{"$f":"DR!D283","v":19176},{"$f":"DR!E283","v":16869},{"$f":"DR!F283","v":15093},{"$f":"DR!G283","v":13320},null,null,15340.800000000001,13495.2,12074.400000000001,10656,0]
[69,null,null,16747.2,14732.800000000001,13182.400000000001,11631.2,0,null,null,null,{"$f":"DR!D284","v":20934},{"$f":"DR!E284","v":18416},{"$f":"DR!F284","v":16478},{"$f":"DR!G284","v":14539},null,null,16747.2,14732.800000000001,13182.400000000001,11631.2,0]
[70,null,null,18456.8,16235.2,14527.2,12820.800000000001,0,null,null,null,{"$f":"DR!D285","v":23071},{"$f":"DR!E285","v":20294},{"$f":"DR!F285","v":18159},{"$f":"DR!G285","v":16026},null,null,18456.8,16235.2,14527.2,12820.800000000001,0]
[71,null,null,20315.2,17871.2,15988.800000000001,14109.6,0,null,null,null,{"$f":"DR!D286","v":25394},{"$f":"DR!E286","v":22339},{"$f":"DR!F286","v":19986},{"$f":"DR!G286","v":17637},null,null,20315.2,17871.2,15988.800000000001,14109.6,0]
[72,null,null,22470.400000000001,19768,17687.2,15604.800000000001,0,null,null,null,{"$f":"DR!D287","v":28088},{"$f":"DR!E287","v":24710},{"$f":"DR!F287","v":22109},{"$f":"DR!G287","v":19506},null,null,22470.400000000001,19768,17687.2,15604.800000000001,0]
[73,null,null,24935.200000000001,21933.600000000002,19627.2,17318.400000000001,0,null,null,null,{"$f":"DR!D288","v":31169},{"$f":"DR!E288","v":27417},{"$f":"DR!F288","v":24534},{"$f":"DR!G288","v":21648},null,null,24935.200000000001,21933.600000000002,19627.2,17318.400000000001,0]
[74,null,null,27800,24453.600000000002,21880.800000000003,19305.600000000002,0,null,null,null,{"$f":"DR!D289","v":34750},{"$f":"DR!E289","v":30567},{"$f":"DR!F289","v":27351},{"$f":"DR!G289","v":24132},null,null,27800,24453.600000000002,21880.800000000003,19305.600000000002,0]
[75,null,null,31142.400000000001,27396,24511.200000000001,21628,0,null,null,null,{"$f":"DR!D290","v":38928},{"$f":"DR!E290","v":34245},{"$f":"DR!F290","v":30639},{"$f":"DR!G290","v":27035},null,null,31142.400000000001,27396,24511.200000000001,21628,0]
[76,null,null,34924,30720.800000000003,27488.800000000003,24255.200000000001,0,null,null,null,{"$f":"DR!D291","v":43655},{"$f":"DR!E291","v":38401},{"$f":"DR!F291","v":34361},{"$f":"DR!G291","v":30319},null,null,34924,30720.800000000003,27488.800000000003,24255.200000000001,0]
[77,null,null,39222.400000000001,34502.400000000001,30870.400000000001,27238.400000000001,0,null,null,null,{"$f":"DR!D292","v":49028},{"$f":"DR!E292","v":43128},{"$f":"DR!F292","v":38588},{"$f":"DR!G292","v":34048},null,null,39222.400000000001,34502.400000000001,30870.400000000001,27238.400000000001,0]
[78,null,null,44068.800000000003,38764.800000000003,34684,30605.600000000002,0,null,null,null,{"$f":"DR!D293","v":55086},{"$f":"DR!E293","v":48456},{"$f":"DR!F293","v":43355},{"$f":"DR!G293","v":38257},null,null,44068.800000000003,38764.800000000003,34684,30605.600000000002,0]
[79,null,null,49513.600000000006,43554.400000000001,38969.599999999999,34387.200000000004,0,null,null,null,{"$f":"DR!D294","v":61892},{"$f":"DR!E294","v":54443},{"$f":"DR!F294","v":48712},{"$f":"DR!G294","v":42984},null,null,49513.600000000006,43554.400000000001,38969.599999999999,34387.200000000004,0]
[80,"o mas",null,56026.400000000001,49285.600000000006,44096.800000000003,38910.400000000001,0,null,null,null,{"$f":"DR!D295","v":70033},{"$f":"DR!E295","v":61607},{"$f":"DR!F295","v":55121},{"$f":"DR!G295","v":48638},null,null,56026.400000000001,49285.600000000006,44096.800000000003,38910.400000000001,0]
[1,"Hijo",null,1463.2,1288.8000000000002,1153.6000000000001,1016,0,null,null,null,{"$f":"DR!D296","v":1829},{"$f":"DR!E296","v":1611},{"$f":"DR!F296","v":1442},{"$f":"DR!G296","v":1270},null,null,1463.2,1288.8000000000002,1153.6000000000001,1016,0]
[2,"Hijos",null,2400,2112,1890.4,1668,0,null,null,null,{"$f":"DR!D297","v":3000},{"$f":"DR!E297","v":2640},{"$f":"DR!F297","v":2363},{"$f":"DR!G297","v":2085},null,null,2400,2112,1890.4,1668,0]
[3,"Hijos o más",null,{"$f":"R922","v":3513.6000000000004},3089.6000000000004,2765.6000000000004,2439.2000000000003,0,null,null,null,{"$f":"DR!D298","v":4392},{"$f":"DR!E298","v":3862},{"$f":"DR!F298","v":3457},{"$f":"DR!G298","v":3049},null,null,{"$f":"L922*$Z$2","v":3513.6000000000004},{"$f":"M922*$Z$3","v":3089.6000000000004},{"$f":"N922*$Z$4","v":2765.6000000000004},{"$f":"O922*$Z$5","v":2439.2000000000003},0]
[1,"Rider Comp. Maternidad",null,{"$f":"L923","v":0},{"$f":"M923","v":0},0,225,0,null,null,null,0,0,0,225]
[1,"Transplante de organos",null,{"$f":"L924","v":300},{"$f":"M924","v":300},{"$f":"N924","v":300},{"$f":"O924","v":300},{"$f":"P924","v":0},null,null,null,300,300,300,300]
[null,"Deductible Waiver",null,0,0,0,0,0,null,null,null,0,0,0,0]
[]
[]
[]
["TARIFAS SEMESTRALES"]
[]
["EDAD",null,null,"ET2","ET3","ET4","ET5","ET6"]
[18,null,null,{"$f":"D857*$G$1","v":1643.4240000000002},1446.6880000000003,1294.048,1142.2560000000003,0]
[19,null,null,1672.68,1471.7040000000002,1315.672,1163.0320000000002,0]
[20,null,null,1701.5120000000002,1497.5680000000002,1339.8400000000001,1182.96,0]
[21,null,null,1732.4640000000002,1525.1280000000002,1364.432,1204.5840000000001,0]
[22,null,null,1764.6880000000003,1551.8400000000001,1389.0240000000001,1226.2080000000001,0]
[23,null,null,1795.64,1579.4,1411.92,1247.8320000000001,0]
[24,null,null,1826.5920000000001,1605.6880000000003,1437.7840000000001,1268.6079999999999,0]
[25,null,null,1857.5440000000001,1633.2480000000003,1461.5280000000002,1289.808,0]
[26,null,null,1888.92,1661.6560000000002,1486.9680000000003,1312.7040000000002,0]
[27,null,null,1920.72,1690.4880000000003,1512.4080000000004,1335.1760000000002,0]
[28,null,null,{"$f":"D867*$G$1","v":1955.912},1721.0160000000003,1539.5440000000001,1358.0720000000001,0]
[29,null,null,1992.8000000000002,1753.24,1569.2240000000002,1385.2080000000003,0]
[30,null,null,2028.8400000000001,1785.4640000000002,1598.0560000000003,1409.8000000000002,0]
[31,null,null,2067,1818.5360000000003,1626.8880000000004,1436.0880000000002,0]
[32,null,null,2102.192,1849.4880000000003,1654.4480000000003,1460.2560000000003,0]
[33,null,null,2161.5520000000001,1901.64,1701.5120000000002,1501.8080000000002,0]
[34,null,null,2220.9120000000003,1954.2160000000003,1748.152,1541.6640000000002,0]
[35,null,null,2280.2720000000004,2005.0960000000002,1793.9440000000002,1581.9440000000002,0]
[36,null,null,2337.9360000000001,2056.4,1840.5840000000003,1625.1920000000002,0]
[37,null,null,2397.7200000000003,2109.4,1888.92,1667.1680000000003,0]
[38,null,null,{"$f":"D877*$G$1","v":2458.3520000000003},2162.8240000000001,1935.5600000000002,1707.8720000000001,0]
[39,null,null,2520.6800000000003,2217.096,1983.8960000000002,1751.5440000000001,0]
[40,null,null,2580.04,2271.3680000000004,2031.3840000000002,1792.672,0]
[41,null,null,2641.9440000000004,2325.2159999999999,2079.7200000000003,1835.92,0]
[42,null,null,2703,2378.2159999999999,2128.904,1877.8960000000002,0]
[43,null,null,2812.3920000000003,2474.4640000000004,2214.5520000000006,1955.0640000000003,0]
[44,null,null,2922.2080000000005,2570.7120000000004,2301.4720000000002,2030.96,0]
[45,null,null,3032.4480000000003,2668.2320000000004,2387.9680000000003,2106.8560000000002,0]
[46,null,null,3144.3840000000005,2765.7520000000004,2476.1600000000003,2183.6,0]
[47,null,null,3252.9280000000003,2861.5760000000005,2560.1120000000005,2260.3440000000001,0]
[48,null,null,{"$f":"D887*$G$1","v":3369.1040000000003},2963.76,2651.2720000000004,2340.904,0]
[49,null,null,3486.5520000000006,3067.6400000000003,2744.5520000000006,2422.7359999999999,0]
[50,null,null,3602.7280000000005,3169.4,2835.2880000000005,2502.8720000000003,0]
[51,null,null,3718.48,3272.0080000000003,2927.2960000000007,2583.8560000000002,0]
[52,null,null,3835.5040000000004,3373.3440000000001,3019.3040000000001,2663.5680000000002,0]
[53,null,null,3975,3496.3040000000001,3128.6960000000004,2759.8160000000007,0]
[54,null,null,4111.1040000000003,3617.1440000000002,3235.9680000000003,2856.0640000000003,0]
[55,null,null,4248.4800000000005,3737.5600000000004,3344.0880000000002,2950.1920000000005,0]
[56,null,null,4385.8560000000007,3857.9760000000006,3452.6320000000005,3047.2880000000005,0]
[57,null,null,4525.3519999999999,3978.8160000000007,3562.4480000000003,3143.1120000000005,0]
[58,null,null,{"$f":"D897*$G$1","v":4693.68},4129.3360000000002,3695.1600000000003,3260.9840000000004,0]
[59,null,null,4861.5840000000007,4277.3120000000008,3826.1760000000004,3375.4640000000004,0]
[60,null,null,5031.6080000000002,4424.4400000000005,3959.7360000000008,3493.76,0]
[61,null,null,5216.0480000000007,4587.68,4106.0160000000005,3622.2320000000004,0]
[62,null,null,5448.8240000000005,4792.8960000000006,4288.76,3783.3520000000003,0]
[63,null,null,5723.5760000000009,5035,4504.5760000000009,3975.8480000000004,0]
[64,null,null,6047.0880000000006,5320.3520000000008,4760.6720000000005,4200.1440000000002,0]
[65,null,null,6463.88,5687.112000000001,5087.5760000000009,4489.7360000000008,0]
[66,null,null,6946.8160000000007,6111.112000000001,5466.6320000000014,4824.2719999999999,0]
[67,null,null,7499.7120000000014,6597.0160000000005,5902.08,5207.5680000000002,0]
[68,null,null,{"$f":"D907*$G$1","v":8130.6240000000007},7152.456000000001,6399.4320000000007,5647.68,0]
[69,null,null,8876.0160000000014,7808.3840000000009,6986.6720000000014,6164.536000000001,0]
[70,null,null,9782.1039999999994,8604.6560000000009,7699.4160000000011,6795.0240000000013,0]
[71,null,null,10767.056,9471.7360000000008,8474.0640000000003,7478.0880000000006,0]
[72,null,null,11909.312000000002,10477.040000000001,9374.2160000000003,8270.5440000000017,0]
[73,null,null,13215.656000000001,11624.808000000001,10402.416000000001,9178.7520000000004,0]
[74,null,null,14734,12960.408000000001,11596.824000000002,10231.968000000003,0]
[75,null,null,16505.472000000002,14519.880000000001,12990.936000000002,11462.84,0]
[76,null,null,18509.72,16282.024000000003,14569.064000000002,12855.256000000001,0]
[77,null,null,20787.872000000003,18286.272000000001,16361.312000000002,14436.352000000001,0]
[78,null,null,{"$f":"D917*$G$1","v":23356.464000000004},20545.344000000001,18382.52,16220.968000000003,0]
[79,null,null,26242.208000000006,23083.832000000002,20653.887999999999,18225.216000000004,0]
[80,"o mas",null,29693.992000000002,26121.368000000006,23371.304000000004,20622.512000000002,0]
[1,"Hijo",null,775.49600000000009,683.06400000000008,611.40800000000013,538.48,0]
[2,"Hijos",null,1272,1119.3600000000001,1001.9120000000001,884.04000000000008,0]
[3,"Hijos o más",null,1862.2080000000003,1637.4880000000003,1465.7680000000003,1292.7760000000003,0]
[1,"Rider Comp. Maternidad",null,0,0,0,119.25,0]
[1,"Transplante de organos",null,159,159,159,159,0]
[null,"Deductible Waiver",null,0,0,0,0,0]
[]
[]
[]
[]
["TARIFAS TRIMESTRALES"]
[]
["EDAD",null,null,"ET2","ET3","ET4","ET5","ET6"]
[18,null,null,{"$f":"D857*$G$2","v":852.72000000000014},750.64000000000021,671.44,592.68000000000018,0]
[19,null,null,867.90000000000009,763.62000000000012,682.66000000000008,603.46,0]
[20,null,null,882.86000000000013,777.04000000000019,695.2,613.80000000000007,0]
[21,null,null,898.92000000000007,791.34000000000015,707.96,625.0200000000001,0]
[22,null,null,915.64000000000021,805.2,720.72000000000014,636.24,0]
[23,null,null,931.7,819.50000000000011,732.6,647.46,0]
[24,null,null,947.7600000000001,833.14000000000021,746.0200000000001,658.24,0]
[25,null,null,963.82000000000016,847.44000000000017,758.34000000000015,669.24,0]
[26,null,null,980.1,862.18000000000018,771.54000000000019,681.12000000000012,0]
[27,null,null,996.60000000000014,877.14000000000021,784.74000000000012,692.78000000000009,0]
[28,null,null,{"$f":"D867*$G$2","v":1014.8600000000001},892.98000000000013,798.82000000000016,704.66000000000008,0]
[29,null,null,1034,909.7,814.22000000000014,718.74000000000012,0]
[30,null,null,1052.7,926.42000000000007,829.18000000000018,731.50000000000011,0]
[31,null,null,1072.5,943.58000000000015,844.14000000000021,745.14000000000021,0]
[32,null,null,1090.7600000000002,959.64000000000021,858.44000000000017,757.68000000000018,0]
[33,null,null,1121.5600000000002,986.7,882.86000000000013,779.24000000000012,0]
[34,null,null,1152.3600000000004,1013.9800000000001,907.06000000000006,799.92000000000007,0]
[35,null,null,1183.1600000000003,1040.3800000000001,930.82000000000016,820.82000000000016,0]
[36,null,null,1213.0800000000002,1067,955.0200000000001,843.2600000000001,0]
[37,null,null,1244.1000000000001,1094.5,980.1,865.04000000000019,0]
[38,null,null,{"$f":"D877*$G$2","v":1275.5600000000002},1122.22,1004.3000000000001,886.16000000000008,0]
[39,null,null,1307.9000000000001,1150.3800000000001,1029.3800000000001,908.82000000000016,0]
[40,null,null,1338.7,1178.5400000000002,1054.0200000000002,930.16000000000008,0]
[41,null,null,1370.8200000000002,1206.48,1079.1000000000001,952.6,0]
[42,null,null,1402.5,1233.98,1104.6200000000001,974.38000000000011,0]
[43,null,null,1459.2600000000002,1283.92,1149.0600000000002,1014.4200000000002,0]
[44,null,null,1516.2400000000002,1333.8600000000004,1194.1600000000003,1053.8000000000002,0]
[45,null,null,1573.4400000000003,1384.4600000000003,1239.0400000000002,1093.18,0]
[46,null,null,1631.5200000000002,1435.0600000000002,1284.8000000000002,1133,0]
[47,null,null,1687.8400000000001,1484.7800000000004,1328.3600000000004,1172.8200000000002,0]
[48,null,null,{"$f":"D887*$G$2","v":1748.1200000000001},1537.8000000000002,1375.6600000000003,1214.6200000000001,0]
[49,null,null,1809.0600000000004,1591.7,1424.0600000000002,1257.0800000000002,0]
[50,null,null,1869.3400000000001,1644.5000000000002,1471.1400000000003,1298.6600000000003,0]
[51,null,null,1929.4,1697.7400000000002,1518.8800000000003,1340.68,0]
[52,null,null,1990.1200000000001,1750.3200000000002,1566.6200000000001,1382.0400000000002,0]
[53,null,null,2062.5,1814.1200000000001,1623.3800000000003,1431.9800000000002,0]
[54,null,null,2133.1200000000003,1876.8200000000002,1679.0400000000002,1481.92,0]
[55,null,null,2204.4,1939.3000000000002,1735.1400000000003,1530.7600000000002,0]
[56,null,null,2275.6800000000003,2001.7800000000004,1791.4600000000003,1581.1400000000003,0]
[57,null,null,2348.06,2064.4800000000005,1848.4400000000003,1630.8600000000004,0]
[58,null,null,{"$f":"D897*$G$2","v":2435.4},2142.5800000000004,1917.3000000000002,1692.0200000000002,0]
[59,null,null,2522.5200000000004,2219.36,1985.2800000000004,1751.4200000000003,0]
[60,null,null,2610.7400000000002,2295.7000000000003,2054.5800000000004,1812.8000000000002,0]
[61,null,null,2706.4400000000005,2380.4,2130.4800000000005,1879.4600000000003,0]
[62,null,null,2827.2200000000007,2486.8800000000006,2225.3000000000002,1963.0600000000004,0]
[63,null,null,2969.7800000000007,2612.5,2337.2800000000002,2062.94,0]
[64,null,null,3137.6400000000003,2760.5600000000004,2470.1600000000003,2179.3200000000002,0]
[65,null,null,3353.9,2950.8600000000006,2639.78,2329.5800000000004,0]
[66,null,null,3604.4800000000005,3170.8600000000006,2836.4600000000005,2503.1600000000003,0]
[67,null,null,3891.3600000000006,3422.9800000000005,3062.4,2702.0400000000004,0]
[68,null,null,{"$f":"D907*$G$2","v":4218.72},3711.1800000000003,3320.4600000000005,2930.4,0]
[69,null,null,4605.4800000000005,4051.5200000000004,3625.1600000000008,3198.5800000000004,0]
[70,null,null,5075.62,4464.68,3994.9800000000005,3525.7200000000007,0]
[71,null,null,5586.68,4914.5800000000008,4396.920000000001,3880.1400000000003,0]
[72,null,null,6179.3600000000006,5436.2000000000007,4863.9800000000005,4291.3200000000006,0]
[73,null,null,6857.1800000000012,6031.7400000000007,5397.4800000000005,4762.5600000000004,0]
[74,null,null,7645.0000000000009,6724.7400000000007,6017.2200000000012,5309.0400000000009,0]
[75,null,null,8564.1600000000017,7533.9000000000005,6740.5800000000008,5947.7000000000007,0]
[76,null,null,9604.1,8448.2200000000012,7559.420000000001,6670.18,0]
[77,null,null,10786.160000000002,9488.1600000000017,8489.36,7490.5600000000013,0]
[78,null,null,{"$f":"D917*$G$2","v":12118.920000000002},10660.320000000002,9538.1,8416.5400000000009,0]
[79,null,null,13616.240000000003,11977.460000000001,10716.640000000001,9456.4800000000014,0]
[80,"o mas",null,15407.260000000002,13553.540000000003,12126.620000000003,10700.36,0]
[1,"Hijo",null,402.38000000000005,354.42000000000007,317.24000000000007,279.40000000000003,0]
[2,"Hijos",null,660,580.80000000000007,519.86,458.70000000000005,0]
[3,"Hijos o más",null,966.24000000000012,849.64000000000021,760.54000000000019,670.78000000000009,0]
[1,"Rider Comp. Maternidad",null,0,0,0,61.875000000000007,0]
[1,"Transplante de organos",null,82.5,82.5,82.5,82.5,0]
[null,"Deductible Waiver",null,0,0,0,0,0]
[]
[]
["TARIFAS MENSUALES"]
[]
["EDAD",null,null,"ET2","ET3","ET4","ET5","ET6"]
[18,null,null,{"$f":"D857*$G$3","v":289.40799896640004},{"$f":"E857*$G$3","v":254.76266575680003},227.88266585279999,201.15199928160004,0]
[19,null,null,{"$f":"D858*$G$3","v":294.55999894799999},259.16799907440003,231.69066583920002,204.81066593520001,0]
[20,null,null,{"$f":"D859*$G$3","v":299.63733226320005},263.72266572480004,235.94666582400001,208.31999925600002,0]
[21,null,null,{"$f":"D860*$G$3","v":305.08799891040002},268.57599904080007,240.27733247520001,212.12799924240002,0]
[22,null,null,{"$f":"D861*$G$3","v":310.76266555680007},273.27999902400001,244.60799912640002,215.9359992288,0]
[23,null,null,{"$f":"D862*$G$3","v":316.21333220400004},278.13333234000004,248.639999112,219.74399921520001,0]
[24,null,null,{"$f":"D863*$G$3","v":321.66399885120001},282.76266565680004,253.19466576240004,223.4026658688,0]
[25,null,null,{"$f":"D864*$G$3","v":327.11466549840003},287.61599897280007,257.37599908080006,227.13599918880001,0]
[26,null,null,{"$f":"D865*$G$3","v":332.63999881199999},292.61866562160003,261.85599906480007,231.16799917440002,0]
[27,null,null,{"$f":"D866*$G$3","v":338.23999879199999},297.69599893680004,266.33599904880003,235.12533249360004,0]
[28,null,null,{"$f":"D867*$G$3","v":344.43733210320005},303.07199891760001,271.11466569840002,239.15733247920002,0]
[29,null,null,{"$f":"D868*$G$3","v":350.93333208000001},308.74666556400001,276.34133234640001,243.93599912880003,0]
[30,null,null,{"$f":"D869*$G$3","v":357.279998724},314.42133221040001,281.41866566160002,248.26666578000001,0]
[31,null,null,{"$f":"D870*$G$3","v":363.99999869999999},320.24533218960005,286.49599897680002,252.89599909680004,0]
[32,null,null,{"$f":"D871*$G$3","v":370.19733201120005},325.69599883680007,291.34933229280006,257.15199908160002,0]
[33,null,null,{"$f":"D872*$G$3","v":380.65066530720003},334.87999880400002,299.63733226320005,264.46933238880007,0]
[34,null,null,{"$f":"D873*$G$3","v":391.10399860320007},344.13866543760003,307.8506655672,271.48799903040003,0]
[35,null,null,{"$f":"D874*$G$3","v":401.55733189920005},353.09866540560006,315.91466553840002,278.58133233840005,0]
[36,null,null,{"$f":"D875*$G$3","v":411.71199852960001},362.13333204000003,324.12799884240002,286.1973323112,0]
[37,null,null,{"$f":"D876*$G$3","v":422.23999849200004},371.46666534000002,332.63999881199999,293.58933228480004,0]
[38,null,null,{"$f":"D877*$G$3","v":432.91733178720006},380.87466530640006,340.85333211599999,300.75733225920004,0]
[39,null,null,{"$f":"D878*$G$3","v":443.89333174800004},390.43199860560003,349.36533208560002,308.44799889840004,0]
[40,null,null,{"$f":"D879*$G$3","v":454.34666504400002},399.98933190480005,357.72799872240006,315.69066553920004,0]
[41,null,null,{"$f":"D880*$G$3","v":465.24799833840007},409.47199853760003,366.23999869200003,323.306665512,0]
[42,null,null,{"$f":"D881*$G$3","v":475.99999830000002},418.80533183760002,374.90133199440004,330.69866548560003,0]
[43,null,null,{"$f":"D882*$G$3","v":495.26399823120005},435.75466511040003,389.98399860720008,344.28799877040001,0]
[44,null,null,{"$f":"D883*$G$3","v":514.60266482880002},452.70399838320009,405.29066521920009,357.65333205600001,0]
[45,null,null,{"$f":"D884*$G$3","v":534.01599809280003},469.87733165520007,420.52266516480006,371.01866534160007,0]
[46,null,null,{"$f":"D885*$G$3","v":553.72799802240002},487.05066492720005,436.05333177599999,384.53333196,0]
[47,null,null,{"$f":"D886*$G$3","v":572.84266462080006},503.92533153360012,450.83733172320007,398.04799857840004,0]
[48,null,null,{"$f":"D887*$G$3","v":593.30133121440008},521.919998136,466.89066499920006,412.23466519440001,0]
[49,null,null,{"$f":"D888*$G$3","v":613.98399780720013},540.21333140399997,483.31733160720006,426.64533180960001,0]
[50,null,null,{"$f":"D889*$G$3","v":634.44266440080003},558.13333134000004,499.29599821680006,440.7573317592001,0]
[51,null,null,{"$f":"D890*$G$3","v":654.82666432799999},576.20266460880009,515.49866482560014,455.0186650416,0]
[52,null,null,{"$f":"D891*$G$3","v":675.4346642544001},594.0479978784,531.7013314344,469.05599832480004,0]
[53,null,null,{"$f":"D892*$G$3","v":699.99999750000006},615.70133113439999,550.96533136560015,486.0053315976001,0]
[54,null,null,{"$f":"D893*$G$3","v":723.96799741440009},636.98133105840009,569.85599796480005,502.95466487040005,0]
[55,null,null,{"$f":"D894*$G$3","v":748.15999732800003},658.18666431600002,588.89599789680005,519.53066481120004,0]
[56,null,null,{"$f":"D895*$G$3","v":772.35199724160009},679.39199757360007,608.0106644952001,536.62933141680003,0]
[57,null,null,{"$f":"D896*$G$3","v":796.91733048720005},700.67199749760005,627.34933109280007,553.5039980232001,0]
[58,null,null,{"$f":"D897*$G$3","v":826.55999704800001},727.17866406960013,650.71999767600005,574.26133128240008,0]
[59,null,null,{"$f":"D898*$G$3","v":856.12799694240016},753.23733064320004,673.79199759360006,594.42133121040001,0]
[60,null,null,{"$f":"D899*$G$3","v":886.06933016880009},779.14666388400008,697.31199750960013,615.25333113600004,0]
[61,null,null,{"$f":"D900*$G$3","v":918.54933005280009},807.89333044800003,723.07199741760007,637.8773310552001,0]
[62,null,null,{"$f":"D901*$G$3","v":959.54132990640016},844.03199698560013,755.25333063599999,666.25066428720004,0]
[63,null,null,{"$f":"D902*$G$3","v":1007.9253297336002},886.66666350000003,793.25866383360005,700.14933083280005,0]
[64,null,null,{"$f":"D903*$G$3","v":1064.8959961968001},936.91732998720022,838.35733033919996,739.64799735840006,0]
[65,null,null,{"$f":"D904*$G$3","v":1138.293329268},1001.5039964232002,895.92533013360014,790.64533050960006,0]
[66,null,null,{"$f":"D905*$G$3","v":1223.3386622976002},1076.1706628232002,962.67732989520016,849.55733029919998,0]
[67,null,null,{"$f":"D906*$G$3","v":1320.7039952832001},1161.7386625176002,1039.359996288,917.05599672480002,0]
[68,null,null,{"$f":"D907*$G$3","v":1431.8079948864001},1259.5519955016002,1126.9439959752001,994.55999644799999,0]
[69,null,null,{"$f":"D908*$G$3","v":1563.0719944176001},1375.0613284224003,1230.3573289392002,1085.5786627896002,0]
[70,null,null,{"$f":"D909*$G$3","v":1722.6346605143999},1515.2853279216001,1355.8719951576002,1196.6079957264001,0]
[71,null,null,{"$f":"D910*$G$3","v":1896.0853265616001},1667.9786607096,1492.2879946704002,1316.8959952968,0]
[72,null,null,{"$f":"D911*$G$3","v":2097.2373258432003},1845.0133267440001,1650.8053274376002,1456.4479947984003,0]
[73,null,null,{"$f":"D912*$G$3","v":2327.2853250216003},2047.1359926888003,1831.8719934576002,1616.3839942272002,0]
[74,null,null,{"$f":"D913*$G$3","v":2594.6666574000001},2282.3359918488004,2042.2079927064003,1801.8559935648002,0]
[75,null,null,{"$f":"D914*$G$3","v":2906.6239896192001},2556.9599908680002,2287.7119918296003,2018.6133261240002,0]
[76,null,null,{"$f":"D915*$G$3","v":3259.5733216920003},2867.2746564264003,2565.6213241704004,2263.8186585816002,0]
[77,null,null,{"$f":"D916*$G$3","v":3660.7573202592002},3220.2239884992005,2881.2373230432004,2542.2506575872003,0]
[78,null,null,{"$f":"D917*$G$3","v":4113.0879853104007},3618.0479870784006,3237.1733217720002,2856.5226564648005,0]
[79,null,null,{"$f":"D918*$G$3","v":4621.2693168288006},4065.0773188152002,3637.1626536767999,3209.4719885376007,0]
[80,"o mas",null,{"$f":"D919*$G$3","v":5229.1306479912},4599.9893169048009,4115.7013186344002,3631.6373203632002,0]
[1,"Hijo",null,{"$f":"D920*$G$3","v":136.56533284560001},120.28799957040002,107.66933294880002,94.826666328000002,0]
[2,"Hijos",null,{"$f":"D921*$G$3","v":223.99999920000002},197.119999296,176.43733270320001,155.679999444,0]
[3,"Hijos o más",null,{"$f":"D922*$G$3","v":327.93599882880005},288.36266563680005,258.12266574480003,227.65866585360004,0]
[1,"Rider Comp. Maternidad",null,{"$f":"D923*$G$3","v":0},0,0,20.999999925000001,0]
[1,"Transplante de organos",null,{"$f":"D924*$G$3","v":27.999999900000002},27.999999900000002,27.999999900000002,27.999999900000002,0]
[null,"Deductible Waiver",null,{"$f":"D925*$G$3","v":0},0,0,0,0]
[]
["BUPA UNIQUE CARE"]
["TARIFAS ANUALES"]
[]
["EDAD",null,null,"ET2","ET3","ET4","ET5","ET6"]
[18,null,null,{"$f":"R1156","v":2871.2000000000003},{"$f":"S1156","v":2235.2000000000003},{"$f":"T1156","v":1740.8000000000002},{"$f":"U1156","v":1543.2},{"$f":"V1156","v":1252},null,null,null,{"$f":"DR!D307","v":3589},{"$f":"DR!E307","v":2794},{"$f":"DR!F307","v":2176},{"$f":"DR!G307","v":1929},{"$f":"DR!H307","v":1565},null,{"$f":"L1156*$AA$2","v":2871.2000000000003},{"$f":"M1156*$AA$3","v":2235.2000000000003},{"$f":"N1156*$AA$4","v":1740.8000000000002},{"$f":"O1156*$AA$5","v":1543.2},{"$f":"P1156*$AA$252","v":1252}]
[19,null,null,{"$f":"R1157","v":2923.2000000000003},{"$f":"S1157","v":2272},{"$f":"T1157","v":1779.2},{"$f":"U1157","v":1576},{"$f":"V1157","v":1272.8000000000002},null,null,null,{"$f":"DR!D308","v":3654},{"$f":"DR!E308","v":2840},{"$f":"DR!F308","v":2224},{"$f":"DR!G308","v":1970},{"$f":"DR!H308","v":1591},null,{"$f":"L1157*$AA$2","v":2923.2000000000003},{"$f":"M1157*$AA$3","v":2272},{"$f":"N1157*$AA$4","v":1779.2},{"$f":"O1157*$AA$5","v":1576},{"$f":"P1157*$AA$252","v":1272.8000000000002}]
[20,null,null,2972.8,2308.8000000000002,1811.2,1604.8000000000002,1293.6000000000001,null,null,null,{"$f":"DR!D309","v":3716},{"$f":"DR!E309","v":2886},{"$f":"DR!F309","v":2264},{"$f":"DR!G309","v":2006},{"$f":"DR!H309","v":1617},null,2972.8,2308.8000000000002,1811.2,1604.8000000000002,1293.6000000000001]
[21,null,null,3028,2348,1848,1632,1320.8000000000002,null,null,null,{"$f":"DR!D310","v":3785},{"$f":"DR!E310","v":2935},{"$f":"DR!F310","v":2310},{"$f":"DR!G310","v":2040},{"$f":"DR!H310","v":1651},null,3028,2348,1848,1632,1320.8000000000002]
[22,null,null,3081.6000000000004,2385.6,1886.4,1660.8000000000002,1346.4,null,null,null,{"$f":"DR!D311","v":3852},{"$f":"DR!E311","v":2982},{"$f":"DR!F311","v":2358},{"$f":"DR!G311","v":2076},{"$f":"DR!H311","v":1683},null,3081.6000000000004,2385.6,1886.4,1660.8000000000002,1346.4]
[23,null,null,3136,2422.4,1928.8000000000002,1689.6000000000001,1369.6000000000001,null,null,null,{"$f":"DR!D312","v":3920},{"$f":"DR!E312","v":3028},{"$f":"DR!F312","v":2411},{"$f":"DR!G312","v":2112},{"$f":"DR!H312","v":1712},null,3136,2422.4,1928.8000000000002,1689.6000000000001,1369.6000000000001]
[24,null,null,3190.4,2460,1960.8000000000002,1723.2,1392,null,null,null,{"$f":"DR!D313","v":3988},{"$f":"DR!E313","v":3075},{"$f":"DR!F313","v":2451},{"$f":"DR!G313","v":2154},{"$f":"DR!H313","v":1740},null,3190.4,2460,1960.8000000000002,1723.2,1392]
[25,null,null,3245.6000000000004,2501.6000000000004,2000,1751.2,1420,null,null,null,{"$f":"DR!D314","v":4057},{"$f":"DR!E314","v":3127},{"$f":"DR!F314","v":2500},{"$f":"DR!G314","v":2189},{"$f":"DR!H314","v":1775},null,3245.6000000000004,2501.6000000000004,2000,1751.2,1420]
[26,null,null,3299.2000000000003,2539.2000000000003,2036.8000000000002,1780.8000000000002,1442.4,null,null,null,{"$f":"DR!D315","v":4124},{"$f":"DR!E315","v":3174},{"$f":"DR!F315","v":2546},{"$f":"DR!G315","v":2226},{"$f":"DR!H315","v":1803},null,3299.2000000000003,2539.2000000000003,2036.8000000000002,1780.8000000000002,1442.4]
[27,null,null,3356,2579.2000000000003,2073.6,1810.4,1464.8000000000002,null,null,null,{"$f":"DR!D316","v":4195},{"$f":"DR!E316","v":3224},{"$f":"DR!F316","v":2592},{"$f":"DR!G316","v":2263},{"$f":"DR!H316","v":1831},null,3356,2579.2000000000003,2073.6,1810.4,1464.8000000000002]
[28,null,null,3417.6000000000004,2622.4,2124,1847.2,1499.2,null,null,null,{"$f":"DR!D317","v":4272},{"$f":"DR!E317","v":3278},{"$f":"DR!F317","v":2655},{"$f":"DR!G317","v":2309},{"$f":"DR!H317","v":1874},null,3417.6000000000004,2622.4,2124,1847.2,1499.2]
[29,null,null,3483.2000000000003,2664.8,2167.2000000000003,1885.6000000000001,1522.4,null,null,null,{"$f":"DR!D318","v":4354},{"$f":"DR!E318","v":3331},{"$f":"DR!F318","v":2709},{"$f":"DR!G318","v":2357},{"$f":"DR!H318","v":1903},null,3483.2000000000003,2664.8,2167.2000000000003,1885.6000000000001,1522.4]
[30,null,null,3544.8,2711.2000000000003,2216.8000000000002,1920.8000000000002,1553.6000000000001,null,null,null,{"$f":"DR!D319","v":4431},{"$f":"DR!E319","v":3389},{"$f":"DR!F319","v":2771},{"$f":"DR!G319","v":2401},{"$f":"DR!H319","v":1942},null,3544.8,2711.2000000000003,2216.8000000000002,1920.8000000000002,1553.6000000000001]
[31,null,null,3610.4,2755.2000000000003,2261.6,1957.6000000000001,1584.8000000000002,null,null,null,{"$f":"DR!D320","v":4513},{"$f":"DR!E320","v":3444},{"$f":"DR!F320","v":2827},{"$f":"DR!G320","v":2447},{"$f":"DR!H320","v":1981},null,3610.4,2755.2000000000003,2261.6,1957.6000000000001,1584.8000000000002]
[32,null,null,3671.2000000000003,2798.4,2309.6,1992,1612,null,null,null,{"$f":"DR!D321","v":4589},{"$f":"DR!E321","v":3498},{"$f":"DR!F321","v":2887},{"$f":"DR!G321","v":2490},{"$f":"DR!H321","v":2015},null,3671.2000000000003,2798.4,2309.6,1992,1612]
[33,null,null,3776.8,2876,2376.8000000000002,2050.4,1660,null,null,null,{"$f":"DR!D322","v":4721},{"$f":"DR!E322","v":3595},{"$f":"DR!F322","v":2971},{"$f":"DR!G322","v":2563},{"$f":"DR!H322","v":2075},null,3776.8,2876,2376.8000000000002,2050.4,1660]
[34,null,null,3879.2000000000003,2949.6000000000004,2451.2000000000003,2107.2000000000003,1704,null,null,null,{"$f":"DR!D323","v":4849},{"$f":"DR!E323","v":3687},{"$f":"DR!F323","v":3064},{"$f":"DR!G323","v":2634},{"$f":"DR!H323","v":2130},null,3879.2000000000003,2949.6000000000004,2451.2000000000003,2107.2000000000003,1704]
[35,null,null,3981.6000000000004,3026.4,2521.6000000000004,2164.8000000000002,1751.2,null,null,null,{"$f":"DR!D324","v":4977},{"$f":"DR!E324","v":3783},{"$f":"DR!F324","v":3152},{"$f":"DR!G324","v":2706},{"$f":"DR!H324","v":2189},null,3981.6000000000004,3026.4,2521.6000000000004,2164.8000000000002,1751.2]
[36,null,null,4086.4,3101.6000000000004,2592,2222.4,1799.2,null,null,null,{"$f":"DR!D325","v":5108},{"$f":"DR!E325","v":3877},{"$f":"DR!F325","v":3240},{"$f":"DR!G325","v":2778},{"$f":"DR!H325","v":2249},null,4086.4,3101.6000000000004,2592,2222.4,1799.2]
[37,null,null,4190.4000000000005,3176,2659.2000000000003,2277.6,1844,null,null,null,{"$f":"DR!D326","v":5238},{"$f":"DR!E326","v":3970},{"$f":"DR!F326","v":3324},{"$f":"DR!G326","v":2847},{"$f":"DR!H326","v":2305},null,4190.4000000000005,3176,2659.2000000000003,2277.6,1844]
[38,null,null,4295.2,3252.8,2736,2337.6,1891.2,null,null,null,{"$f":"DR!D327","v":5369},{"$f":"DR!E327","v":4066},{"$f":"DR!F327","v":3420},{"$f":"DR!G327","v":2922},{"$f":"DR!H327","v":2364},null,4295.2,3252.8,2736,2337.6,1891.2]
[39,null,null,4404,3330.4,2808,2397.6,1939.2,null,null,null,{"$f":"DR!D328","v":5505},{"$f":"DR!E328","v":4163},{"$f":"DR!F328","v":3510},{"$f":"DR!G328","v":2997},{"$f":"DR!H328","v":2424},null,4404,3330.4,2808,2397.6,1939.2]
[40,null,null,4508.8,3409.6000000000004,2884.8,2459.2000000000003,1985.6000000000001,null,null,null,{"$f":"DR!D329","v":5636},{"$f":"DR!E329","v":4262},{"$f":"DR!F329","v":3606},{"$f":"DR!G329","v":3074},{"$f":"DR!H329","v":2482},null,4508.8,3409.6000000000004,2884.8,2459.2000000000003,1985.6000000000001]
[41,null,null,4615.2,3484.8,2958.4,2520,2032,null,null,null,{"$f":"DR!D330","v":5769},{"$f":"DR!E330","v":4356},{"$f":"DR!F330","v":3698},{"$f":"DR!G330","v":3150},{"$f":"DR!H330","v":2540},null,4615.2,3484.8,2958.4,2520,2032]
[42,null,null,4722.4000000000005,3561.6000000000004,3033.6000000000004,2575.2000000000003,2084,null,null,null,{"$f":"DR!D331","v":5903},{"$f":"DR!E331","v":4452},{"$f":"DR!F331","v":3792},{"$f":"DR!G331","v":3219},{"$f":"DR!H331","v":2605},null,4722.4000000000005,3561.6000000000004,3033.6000000000004,2575.2000000000003,2084]
[43,null,null,4915.2000000000007,3698.4,3160,2680.8,2166.4,null,null,null,{"$f":"DR!D332","v":6144},{"$f":"DR!E332","v":4623},{"$f":"DR!F332","v":3950},{"$f":"DR!G332","v":3351},{"$f":"DR!H332","v":2708},null,4915.2000000000007,3698.4,3160,2680.8,2166.4]
[44,null,null,5105.6000000000004,3839.2000000000003,3292,2788,2252.8000000000002,null,null,null,{"$f":"DR!D333","v":6382},{"$f":"DR!E333","v":4799},{"$f":"DR!F333","v":4115},{"$f":"DR!G333","v":3485},{"$f":"DR!H333","v":2816},null,5105.6000000000004,3839.2000000000003,3292,2788,2252.8000000000002]
[45,null,null,5298.4000000000005,3977.6000000000004,3425.6000000000004,2898.4,2335.2000000000003,null,null,null,{"$f":"DR!D334","v":6623},{"$f":"DR!E334","v":4972},{"$f":"DR!F334","v":4282},{"$f":"DR!G334","v":3623},{"$f":"DR!H334","v":2919},null,5298.4000000000005,3977.6000000000004,3425.6000000000004,2898.4,2335.2000000000003]
[46,null,null,5492,4119.2,3556.8,3003.2000000000003,2422.4,null,null,null,{"$f":"DR!D335","v":6865},{"$f":"DR!E335","v":5149},{"$f":"DR!F335","v":4446},{"$f":"DR!G335","v":3754},{"$f":"DR!H335","v":3028},null,5492,4119.2,3556.8,3003.2000000000003,2422.4]
[47,null,null,5682.4000000000005,4257.6000000000004,3688.8,3112,2504,null,null,null,{"$f":"DR!D336","v":7103},{"$f":"DR!E336","v":5322},{"$f":"DR!F336","v":4611},{"$f":"DR!G336","v":3890},{"$f":"DR!H336","v":3130},null,5682.4000000000005,4257.6000000000004,3688.8,3112,2504]
[48,null,null,5887.2000000000007,4406.4000000000005,3823.2000000000003,3224.8,2597.6000000000004,null,null,null,{"$f":"DR!D337","v":7359},{"$f":"DR!E337","v":5508},{"$f":"DR!F337","v":4779},{"$f":"DR!G337","v":4031},{"$f":"DR!H337","v":3247},null,5887.2000000000007,4406.4000000000005,3823.2000000000003,3224.8,2597.6000000000004]
[49,null,null,6092,4556,3957.6000000000004,3336.8,2689.6000000000004,null,null,null,{"$f":"DR!D338","v":7615},{"$f":"DR!E338","v":5695},{"$f":"DR!F338","v":4947},{"$f":"DR!G338","v":4171},{"$f":"DR!H338","v":3362},null,6092,4556,3957.6000000000004,3336.8,2689.6000000000004]
[50,null,null,6294.4000000000005,4702.4000000000005,4099.2,3452,2781.6000000000004,null,null,null,{"$f":"DR!D339","v":7868},{"$f":"DR!E339","v":5878},{"$f":"DR!F339","v":5124},{"$f":"DR!G339","v":4315},{"$f":"DR!H339","v":3477},null,6294.4000000000005,4702.4000000000005,4099.2,3452,2781.6000000000004]
[51,null,null,6498.4000000000005,4850.4000000000005,4232,3561.6000000000004,2869.6000000000004,null,null,null,{"$f":"DR!D340","v":8123},{"$f":"DR!E340","v":6063},{"$f":"DR!F340","v":5290},{"$f":"DR!G340","v":4452},{"$f":"DR!H340","v":3587},null,6498.4000000000005,4850.4000000000005,4232,3561.6000000000004,2869.6000000000004]
[52,null,null,6701.6,4999.2000000000007,4370.4000000000005,3672.8,2961.6000000000004,null,null,null,{"$f":"DR!D341","v":8377},{"$f":"DR!E341","v":6249},{"$f":"DR!F341","v":5463},{"$f":"DR!G341","v":4591},{"$f":"DR!H341","v":3702},null,6701.6,4999.2000000000007,4370.4000000000005,3672.8,2961.6000000000004]
[53,null,null,6945.6,5172,4538.4000000000005,3805.6000000000004,3068,null,null,null,{"$f":"DR!D342","v":8682},{"$f":"DR!E342","v":6465},{"$f":"DR!F342","v":5673},{"$f":"DR!G342","v":4757},{"$f":"DR!H342","v":3835},null,6945.6,5172,4538.4000000000005,3805.6000000000004,3068]
[54,null,null,7182.4000000000005,5346.4000000000005,4708.8,3946.4,3176,null,null,null,{"$f":"DR!D343","v":8978},{"$f":"DR!E343","v":6683},{"$f":"DR!F343","v":5886},{"$f":"DR!G343","v":4933},{"$f":"DR!H343","v":3970},null,7182.4000000000005,5346.4000000000005,4708.8,3946.4,3176]
[55,null,null,7422.4000000000005,5523.2000000000007,4871.2,4080.8,3282.4,null,null,null,{"$f":"DR!D344","v":9278},{"$f":"DR!E344","v":6904},{"$f":"DR!F344","v":6089},{"$f":"DR!G344","v":5101},{"$f":"DR!H344","v":4103},null,7422.4000000000005,5523.2000000000007,4871.2,4080.8,3282.4]
[56,null,null,7662.4000000000005,5697.6,5040.8,4213.6000000000004,3393.6000000000004,null,null,null,{"$f":"DR!D345","v":9578},{"$f":"DR!E345","v":7122},{"$f":"DR!F345","v":6301},{"$f":"DR!G345","v":5267},{"$f":"DR!H345","v":4242},null,7662.4000000000005,5697.6,5040.8,4213.6000000000004,3393.6000000000004]
[57,null,null,7904.8,5868.8,5208,4350.4000000000005,3497.6000000000004,null,null,null,{"$f":"DR!D346","v":9881},{"$f":"DR!E346","v":7336},{"$f":"DR!F346","v":6510},{"$f":"DR!G346","v":5438},{"$f":"DR!H346","v":4372},null,7904.8,5868.8,5208,4350.4000000000005,3497.6000000000004]
[58,null,null,8201.6,6073.6,5411.2000000000007,4517.6000000000004,3632.8,null,null,null,{"$f":"DR!D347","v":10252},{"$f":"DR!E347","v":7592},{"$f":"DR!F347","v":6764},{"$f":"DR!G347","v":5647},{"$f":"DR!H347","v":4541},null,8201.6,6073.6,5411.2000000000007,4517.6000000000004,3632.8]
[59,null,null,8494.4,6274.4000000000005,5610.4000000000005,4684.8,3765.6000000000004,null,null,null,{"$f":"DR!D348","v":10618},{"$f":"DR!E348","v":7843},{"$f":"DR!F348","v":7013},{"$f":"DR!G348","v":5856},{"$f":"DR!H348","v":4707},null,8494.4,6274.4000000000005,5610.4000000000005,4684.8,3765.6000000000004]
[60,null,null,8788.8000000000011,6474.4000000000005,5814.4000000000005,4851.2,3901.6000000000004,null,null,null,{"$f":"DR!D349","v":10986},{"$f":"DR!E349","v":8093},{"$f":"DR!F349","v":7268},{"$f":"DR!G349","v":6064},{"$f":"DR!H349","v":4877},null,8788.8000000000011,6474.4000000000005,5814.4000000000005,4851.2,3901.6000000000004]
[61,null,null,9112.8000000000011,6712,6056.8,5032.8,4046.4,null,null,null,{"$f":"DR!D350","v":11391},{"$f":"DR!E350","v":8390},{"$f":"DR!F350","v":7571},{"$f":"DR!G350","v":6291},{"$f":"DR!H350","v":5058},null,9112.8000000000011,6712,6056.8,5032.8,4046.4]
[62,null,null,9518.4,7008,6345.6,5253.6,4222.4000000000005,null,null,null,{"$f":"DR!D351","v":11898},{"$f":"DR!E351","v":8760},{"$f":"DR!F351","v":7932},{"$f":"DR!G351","v":6567},{"$f":"DR!H351","v":5278},null,9518.4,7008,6345.6,5253.6,4222.4000000000005]
[63,null,null,9999.2000000000007,7361.6,6662.4000000000005,5520,4432,null,null,null,{"$f":"DR!D352","v":12499},{"$f":"DR!E352","v":9202},{"$f":"DR!F352","v":8328},{"$f":"DR!G352","v":6900},{"$f":"DR!H352","v":5540},null,9999.2000000000007,7361.6,6662.4000000000005,5520,4432]
[64,null,null,10565.6,7774.4000000000005,7043.2000000000007,5831.2000000000007,4686.4000000000005,null,null,null,{"$f":"DR!D353","v":13207},{"$f":"DR!E353","v":9718},{"$f":"DR!F353","v":8804},{"$f":"DR!G353","v":7289},{"$f":"DR!H353","v":5858},null,10565.6,7774.4000000000005,7043.2000000000007,5831.2000000000007,4686.4000000000005]
[65,null,null,11291.2,8288.8000000000011,7568,6247.2000000000007,5016,null,null,null,{"$f":"DR!D354","v":14114},{"$f":"DR!E354","v":10361},{"$f":"DR!F354","v":9460},{"$f":"DR!G354","v":7809},{"$f":"DR!H354","v":6270},null,11291.2,8288.8000000000011,7568,6247.2000000000007,5016]
[66,null,null,12136,8887.2000000000007,8175.2000000000007,6725.6,5395.2000000000007,null,null,null,{"$f":"DR!D355","v":15170},{"$f":"DR!E355","v":11109},{"$f":"DR!F355","v":10219},{"$f":"DR!G355","v":8407},{"$f":"DR!H355","v":6744},null,12136,8887.2000000000007,8175.2000000000007,6725.6,5395.2000000000007]
[67,null,null,13100,9591.2000000000007,8824.8000000000011,7263.2000000000007,5819.2000000000007,null,null,null,{"$f":"DR!D356","v":16375},{"$f":"DR!E356","v":11989},{"$f":"DR!F356","v":11031},{"$f":"DR!G356","v":9079},{"$f":"DR!H356","v":7274},null,13100,9591.2000000000007,8824.8000000000011,7263.2000000000007,5819.2000000000007]
[68,null,null,14206.400000000001,10391.200000000001,9563.2000000000007,7864,6313.6,null,null,null,{"$f":"DR!D357","v":17758},{"$f":"DR!E357","v":12989},{"$f":"DR!F357","v":11954},{"$f":"DR!G357","v":9830},{"$f":"DR!H357","v":7892},null,14206.400000000001,10391.200000000001,9563.2000000000007,7864,6313.6]
[69,null,null,15508,11344,10437.6,8593.6,6887.2000000000007,null,null,null,{"$f":"DR!D358","v":19385},{"$f":"DR!E358","v":14180},{"$f":"DR!F358","v":13047},{"$f":"DR!G358","v":10742},{"$f":"DR!H358","v":8609},null,15508,11344,10437.6,8593.6,6887.2000000000007]
[70,null,null,17089.600000000002,12432,11516.800000000001,9498.4,7612,null,null,null,{"$f":"DR!D359","v":21362},{"$f":"DR!E359","v":15540},{"$f":"DR!F359","v":14396},{"$f":"DR!G359","v":11873},{"$f":"DR!H359","v":9515},null,17089.600000000002,12432,11516.800000000001,9498.4,7612]
[71,null,null,18810.400000000001,13689.6,12784.800000000001,10456.800000000001,8376,null,null,null,{"$f":"DR!D360","v":23513},{"$f":"DR!E360","v":17112},{"$f":"DR!F360","v":15981},{"$f":"DR!G360","v":13071},{"$f":"DR!H360","v":10470},null,18810.400000000001,13689.6,12784.800000000001,10456.800000000001,8376]
[72,null,null,20807.2,15136,14141.6,11564.800000000001,9269.6,null,null,null,{"$f":"DR!D361","v":26009},{"$f":"DR!E361","v":18920},{"$f":"DR!F361","v":17677},{"$f":"DR!G361","v":14456},{"$f":"DR!H361","v":11587},null,20807.2,15136,14141.6,11564.800000000001,9269.6]
[73,null,null,23088.800000000003,16800,15688.800000000001,12831.2,10281.6,null,null,null,{"$f":"DR!D362","v":28861},{"$f":"DR!E362","v":21000},{"$f":"DR!F362","v":19611},{"$f":"DR!G362","v":16039},{"$f":"DR!H362","v":12852},null,23088.800000000003,16800,15688.800000000001,12831.2,10281.6]
[74,null,null,25740.800000000003,18724.8,17484,14303.2,11456.800000000001,null,null,null,{"$f":"DR!D363","v":32176},{"$f":"DR!E363","v":23406},{"$f":"DR!F363","v":21855},{"$f":"DR!G363","v":17879},{"$f":"DR!H363","v":14321},null,25740.800000000003,18724.8,17484,14303.2,11456.800000000001]
[75,null,null,28837.600000000002,20928,19588.8,16041.6,12851.2,null,null,null,{"$f":"DR!D364","v":36047},{"$f":"DR!E364","v":26160},{"$f":"DR!F364","v":24486},{"$f":"DR!G364","v":20052},{"$f":"DR!H364","v":16064},null,28837.600000000002,20928,19588.8,16041.6,12851.2]
[76,null,null,32336,23467.200000000001,22041.600000000002,17993.600000000002,14405.6,null,null,null,{"$f":"DR!D365","v":40420},{"$f":"DR!E365","v":29334},{"$f":"DR!F365","v":27552},{"$f":"DR!G365","v":22492},{"$f":"DR!H365","v":18007},null,32336,23467.200000000001,22041.600000000002,17993.600000000002,14405.6]
[77,null,null,36317.599999999999,26356,24771.200000000001,20202.400000000001,16183.2,null,null,null,{"$f":"DR!D366","v":45397},{"$f":"DR!E366","v":32945},{"$f":"DR!F366","v":30964},{"$f":"DR!G366","v":25253},{"$f":"DR!H366","v":20229},null,36317.599999999999,26356,24771.200000000001,20202.400000000001,16183.2]
[78,null,null,40804.800000000003,29610.400000000001,27832.800000000003,22702.400000000001,18183.2,null,null,null,{"$f":"DR!D367","v":51006},{"$f":"DR!E367","v":37013},{"$f":"DR!F367","v":34791},{"$f":"DR!G367","v":28378},{"$f":"DR!H367","v":22729},null,40804.800000000003,29610.400000000001,27832.800000000003,22702.400000000001,18183.2]
[79,null,null,45847.200000000004,33268.800000000003,31270.400000000001,25505.600000000002,20430.400000000001,null,null,null,{"$f":"DR!D368","v":57309},{"$f":"DR!E368","v":41586},{"$f":"DR!F368","v":39088},{"$f":"DR!G368","v":31882},{"$f":"DR!H368","v":25538},null,45847.200000000004,33268.800000000003,31270.400000000001,25505.600000000002,20430.400000000001]
[80,"o mas",null,51877.600000000006,37645.599999999999,35383.200000000004,28859.200000000001,23117.600000000002,null,null,null,{"$f":"DR!D369","v":64847},{"$f":"DR!E369","v":47057},{"$f":"DR!F369","v":44229},{"$f":"DR!G369","v":36074},{"$f":"DR!H369","v":28897},null,51877.600000000006,37645.599999999999,35383.200000000004,28859.200000000001,23117.600000000002]
[1,"Hijo",null,1356.8000000000002,1112.8,654.40000000000009,641.6,515.20000000000005,null,null,null,{"$f":"DR!D370","v":1696},{"$f":"DR!E370","v":1391},{"$f":"DR!F370","v":818},{"$f":"DR!G370","v":802},{"$f":"DR!H370","v":644},null,1356.8000000000002,1112.8,654.40000000000009,641.6,515.20000000000005]
[2,"Hijos",null,2223.2000000000003,1870.4,1010.4000000000001,974.40000000000009,812.80000000000007,null,null,null,{"$f":"DR!D371","v":2779},{"$f":"DR!E371","v":2338},{"$f":"DR!F371","v":1263},{"$f":"DR!G371","v":1218},{"$f":"DR!H371","v":1016},null,2223.2000000000003,1870.4,1010.4000000000001,974.40000000000009,812.80000000000007]
[3,"Hijos o más",null,{"$f":"R1221","v":3251.2000000000003},{"$f":"S1221","v":2744.8},{"$f":"T1221","v":1464},{"$f":"U1221","v":1400},{"$f":"V1221","v":1177.6000000000001},null,null,null,{"$f":"DR!D372","v":4064},{"$f":"DR!E372","v":3431},{"$f":"DR!F372","v":1830},{"$f":"DR!G372","v":1750},{"$f":"DR!H372","v":1472},null,{"$f":"L1221*$AA$2","v":3251.2000000000003},{"$f":"M1221*$AA$3","v":2744.8},{"$f":"N1221*$AA$4","v":1464},{"$f":"O1221*$AA$5","v":1400},{"$f":"P1221*$AA$252","v":1177.6000000000001}]
[1,"Rider Comp. Maternidad",null,{"$f":"L1222","v":0},{"$f":"M1222","v":0},{"$f":"N1222","v":0},{"$f":"O1222","v":225},{"$f":"P1222","v":225},null,null,null,0,0,0,225,225]
[1,"Transplante de organos",null,{"$f":"L1223","v":300},300,300,300,300,null,null,null,300,300,300,300,300]
[null,"Deductible Waiver",null,45,180,345,775,1330,null,null,null,45,180,345,775,1330]
[]
[]
[]
["TARIFAS SEMESTRALES"]
[]
["EDAD",null,null,"ET2","ET3","ET4","ET5","ET6"]
[18,null,null,{"$f":"D1156*$G$1","v":1521.7360000000003},1184.6560000000002,922.62400000000014,817.89600000000007,663.56000000000006]
[19,null,null,{"$f":"D1157*$G$1","v":1549.2960000000003},1204.1600000000001,942.97600000000011,835.28000000000009,674.58400000000017]
[20,null,null,{"$f":"D1158*$G$1","v":1575.5840000000003},1223.6640000000002,959.93600000000004,850.5440000000001,685.60800000000006]
[21,null,null,{"$f":"D1159*$G$1","v":1604.8400000000001},1244.44,979.44,864.96,700.02400000000011]
[22,null,null,{"$f":"D1160*$G$1","v":1633.2480000000003},1264.3679999999999,999.79200000000014,880.22400000000016,713.5920000000001]
[23,null,null,{"$f":"D1161*$G$1","v":1662.0800000000002},1283.8720000000001,1022.2640000000001,895.48800000000017,725.88800000000015]
[24,null,null,{"$f":"D1162*$G$1","v":1690.912},1303.8,1039.2240000000002,913.29600000000005,737.76]
[25,null,null,{"$f":"D1163*$G$1","v":1720.1680000000003},1325.8480000000002,1060,928.13600000000008,752.6]
[26,null,null,{"$f":"D1164*$G$1","v":1748.5760000000002},1345.7760000000003,1079.5040000000001,943.82400000000018,764.47200000000009]
[27,null,null,{"$f":"D1165*$G$1","v":1778.68},1366.9760000000001,1099.008,959.51200000000006,776.34400000000016]
[28,null,null,{"$f":"D1166*$G$1","v":1811.3280000000002},1389.8720000000001,1125.72,979.01600000000008,794.57600000000002]
[29,null,null,{"$f":"D1167*$G$1","v":1846.0960000000002},1412.3440000000003,1148.6160000000002,999.36800000000017,806.87200000000007]
[30,null,null,{"$f":"D1168*$G$1","v":1878.7440000000001},1436.9360000000001,1174.9040000000002,1018.0240000000001,823.40800000000013]
[31,null,null,{"$f":"D1169*$G$1","v":1913.5120000000002},1460.2560000000003,1198.6479999999999,1037.528,839.94400000000019]
[32,null,null,{"$f":"D1170*$G$1","v":1945.7360000000003},1483.152,1224.088,1055.76,854.36]
[33,null,null,{"$f":"D1171*$G$1","v":2001.7040000000002},1524.28,1259.7040000000002,1086.7120000000002,879.80000000000007]
[34,null,null,{"$f":"D1172*$G$1","v":2055.9760000000001},1563.2880000000002,1299.1360000000002,1116.8160000000003,903.12]
[35,null,null,{"$f":"D1173*$G$1","v":2110.2480000000005},1603.9920000000002,1336.4480000000003,1147.3440000000001,928.13600000000008]
[36,null,null,{"$f":"D1174*$G$1","v":2165.7920000000004},1643.8480000000002,1373.76,1177.8720000000001,953.57600000000002]
[37,null,null,{"$f":"D1175*$G$1","v":2220.9120000000003},1683.28,1409.3760000000002,1207.1279999999999,977.32]
[38,null,null,{"$f":"D1176*$G$1","v":2276.4560000000001},1723.9840000000002,1450.0800000000002,1238.9280000000001,1002.3360000000001]
[39,null,null,{"$f":"D1177*$G$1","v":2334.12},1765.1120000000001,1488.24,1270.7280000000001,1027.7760000000001]
[40,null,null,{"$f":"D1178*$G$1","v":2389.6640000000002},1807.0880000000002,1528.9440000000002,1303.3760000000002,1052.3680000000002]
[41,null,null,{"$f":"D1179*$G$1","v":2446.056},1846.9440000000002,1567.9520000000002,1335.6000000000001,1076.96]
[42,null,null,{"$f":"D1180*$G$1","v":2502.8720000000003},1887.6480000000004,1607.8080000000002,1364.8560000000002,1104.52]
[43,null,null,{"$f":"D1181*$G$1","v":2605.0560000000005},1960.152,1674.8000000000002,1420.8240000000001,1148.192]
[44,null,null,{"$f":"D1182*$G$1","v":2705.9680000000003},2034.7760000000003,1744.76,1477.64,1193.9840000000002]
[45,null,null,{"$f":"D1183*$G$1","v":2808.1520000000005},2108.1280000000002,1815.5680000000002,1536.152,1237.6560000000002]
[46,null,null,{"$f":"D1184*$G$1","v":2910.76},2183.1759999999999,1885.1040000000003,1591.6960000000001,1283.8720000000001]
[47,null,null,{"$f":"D1185*$G$1","v":3011.6720000000005},2256.5280000000002,1955.0640000000003,1649.3600000000001,1327.1200000000001]
[48,null,null,{"$f":"D1186*$G$1","v":3120.2160000000003},2335.3920000000003,2026.2960000000003,1709.1440000000002,1376.7280000000003]
[49,null,null,{"$f":"D1187*$G$1","v":3228.76},2414.6800000000003,2097.5280000000002,1768.5040000000001,1425.4880000000003]
[50,null,null,{"$f":"D1188*$G$1","v":3336.0320000000006},2492.2720000000004,2172.576,1829.5600000000002,1474.2480000000003]
[51,null,null,{"$f":"D1189*$G$1","v":3444.1520000000005},2570.7120000000004,2242.96,1887.6480000000004,1520.8880000000004]
[52,null,null,{"$f":"D1190*$G$1","v":3551.8480000000004},2649.5760000000005,2316.3120000000004,1946.5840000000003,1569.6480000000004]
[53,null,null,{"$f":"D1191*$G$1","v":3681.1680000000006},2741.1600000000003,2405.3520000000003,2016.9680000000003,1626.0400000000002]
[54,null,null,{"$f":"D1192*$G$1","v":3806.6720000000005},2833.5920000000006,2495.6640000000002,2091.5920000000001,1683.28]
[55,null,null,{"$f":"D1193*$G$1","v":3933.8720000000003},2927.2960000000007,2581.7359999999999,2162.8240000000001,1739.672]
[56,null,null,{"$f":"D1194*$G$1","v":4061.0720000000006},3019.7280000000005,2671.6240000000003,2233.2080000000001,1798.6080000000002]
[57,null,null,{"$f":"D1195*$G$1","v":4189.5439999999999},3110.4640000000004,2760.2400000000002,2305.7120000000004,1853.7280000000003]
[58,null,null,{"$f":"D1196*$G$1","v":4346.8480000000009},3219.0080000000003,2867.9360000000006,2394.3280000000004,1925.3840000000002]
[59,null,null,{"$f":"D1197*$G$1","v":4502.0320000000002},3325.4320000000002,2973.5120000000006,2482.9440000000004,1995.7680000000003]
[60,null,null,{"$f":"D1198*$G$1","v":4658.0640000000012},3431.4320000000002,3081.6320000000005,2571.136,2067.8480000000004]
[61,null,null,{"$f":"D1199*$G$1","v":4829.7840000000006},3557.36,3210.1040000000003,2667.384,2144.5920000000001]
[62,null,null,{"$f":"D1200*$G$1","v":5044.7520000000004},3714.2400000000002,3363.1680000000006,2784.4080000000004,2237.8720000000003]
[63,null,null,{"$f":"D1201*$G$1","v":5299.5760000000009},3901.6480000000006,3531.0720000000006,2925.6000000000004,2348.96]
[64,null,null,{"$f":"D1202*$G$1","v":5599.768},4120.4320000000007,3732.8960000000006,3090.5360000000005,2483.7920000000004]
[65,null,null,{"$f":"D1203*$G$1","v":5984.3360000000002},4393.0640000000012,4011.0400000000004,3311.0160000000005,2658.48]
[66,null,null,{"$f":"D1204*$G$1","v":6432.08},4710.2160000000003,4332.8560000000007,3564.5680000000002,2859.4560000000006]
[67,null,null,{"$f":"D1205*$G$1","v":6943},5083.3360000000002,4677.1440000000011,3849.4960000000005,3084.1760000000004]
[68,null,null,{"$f":"D1206*$G$1","v":7529.3920000000007},5507.3360000000002,5068.496000000001,4167.92,3346.2080000000005]
[69,null,null,{"$f":"D1207*$G$1","v":8219.24},6012.3200000000006,5531.9280000000008,4554.6080000000002,3650.2160000000003]
[70,null,null,{"$f":"D1208*$G$1","v":9057.4880000000012},6588.96,6103.9040000000005,5034.152,4034.36]
[71,null,null,{"$f":"D1209*$G$1","v":9969.5120000000006},7255.4880000000003,6775.9440000000013,5542.1040000000012,4439.2800000000007]
[72,null,null,{"$f":"D1210*$G$1","v":11027.816000000001},8022.0800000000008,7495.0480000000007,6129.344000000001,4912.8880000000008]
[73,null,null,{"$f":"D1211*$G$1","v":12237.064000000002},8904,8315.0640000000003,6800.536000000001,5449.2480000000005]
[74,null,null,{"$f":"D1212*$G$1","v":13642.624000000002},9924.1440000000002,9266.52,7580.6960000000008,6072.1040000000012]
[75,null,null,{"$f":"D1213*$G$1","v":15283.928000000002},11091.84,10382.064,8502.0480000000007,6811.1360000000004]
[76,null,null,{"$f":"D1214*$G$1","v":17138.080000000002},12437.616000000002,11682.048000000003,9536.608000000002,7634.9680000000008]
[77,null,null,{"$f":"D1215*$G$1","v":19248.328000000001},13968.68,13128.736000000001,10707.272000000001,8577.0960000000014]
[78,null,null,{"$f":"D1216*$G$1","v":21626.544000000002},15693.512000000002,14751.384000000002,12032.272000000001,9637.0960000000014]
[79,null,null,{"$f":"D1217*$G$1","v":24299.016000000003},17632.464000000004,16573.312000000002,13517.968000000003,10828.112000000001]
[80,"o mas",null,{"$f":"D1218*$G$1","v":27495.128000000004},19952.168000000001,18753.096000000005,15295.376000000002,12252.328000000001]
[1,"Hijo",null,{"$f":"D1219*$G$1","v":719.10400000000016},589.78399999999999,346.83200000000005,340.048,273.05600000000004]
[2,"Hijos",null,{"$f":"D1220*$G$1","v":1178.2960000000003},991.31200000000013,535.51200000000006,516.43200000000013,430.78400000000005]
[3,"Hijos o más",null,{"$f":"D1221*$G$1","v":1723.1360000000002},1454.7440000000001,775.92000000000007,742,624.12800000000016]
[1,"Rider Comp. Maternidad",null,{"$f":"D1222*$G$1","v":0},0,0,119.25,119.25]
[1,"Transplante de organos",null,{"$f":"D1223*$G$1","v":159},159,159,159,159]
[null,"Deductible Waiver",null,{"$f":"D1224*$G$1","v":23.85},95.4,182.85000000000002,410.75,704.90000000000009]
[]
[]
[]
[]
["TARIFAS TRIMESTRALES"]
[]
["EDAD",null,null,"ET2","ET3","ET4","ET5","ET6"]
[18,null,null,{"$f":"D1156*$G$2","v":789.58000000000015},614.68000000000018,478.72000000000008,424.38000000000005,344.3]
[19,null,null,{"$f":"D1157*$G$2","v":803.88000000000011},624.80000000000007,489.28000000000003,433.40000000000003,350.0200000000001]
[20,null,null,{"$f":"D1158*$G$2","v":817.5200000000001},634.92000000000007,498.08000000000004,441.32000000000011,355.74000000000007]
[21,null,null,{"$f":"D1159*$G$2","v":832.7},645.70000000000005,508.20000000000005,448.8,363.22000000000008]
[22,null,null,{"$f":"D1160*$G$2","v":847.44000000000017},656.04000000000008,518.7600000000001,456.72000000000008,370.26000000000005]
[23,null,null,{"$f":"D1161*$G$2","v":862.40000000000009},666.16000000000008,530.42000000000007,464.6400000000001,376.64000000000004]
[24,null,null,{"$f":"D1162*$G$2","v":877.36000000000013},676.5,539.22000000000014,473.88000000000005,382.8]
[25,null,null,{"$f":"D1163*$G$2","v":892.54000000000019},687.94000000000017,550,481.58000000000004,390.50000000000006]
[26,null,null,{"$f":"D1164*$G$2","v":907.2800000000002},698.28000000000009,560.12000000000012,489.72000000000008,396.66000000000008]
[27,null,null,{"$f":"D1165*$G$2","v":922.90000000000009},709.28000000000009,570.24,497.86000000000007,402.82000000000011]
[28,null,null,{"$f":"D1166*$G$2","v":939.84000000000015},721.16000000000008,584.1,507.98000000000008,412.28000000000003]
[29,null,null,{"$f":"D1167*$G$2","v":957.88000000000011},732.82000000000016,595.98000000000013,518.54000000000008,418.66000000000008]
[30,null,null,{"$f":"D1168*$G$2","v":974.82000000000016},745.58000000000015,609.62000000000012,528.22000000000014,427.24000000000007]
[31,null,null,{"$f":"D1169*$G$2","v":992.86000000000013},757.68000000000018,621.94000000000005,538.34,435.82000000000011]
[32,null,null,{"$f":"D1170*$G$2","v":1009.5800000000002},769.56000000000006,635.14,547.80000000000007,443.3]
[33,null,null,{"$f":"D1171*$G$2","v":1038.6200000000001},790.90000000000009,653.62000000000012,563.86000000000013,456.50000000000006]
[34,null,null,{"$f":"D1172*$G$2","v":1066.7800000000002},811.14000000000021,674.08000000000015,579.48000000000013,468.6]
[35,null,null,{"$f":"D1173*$G$2","v":1094.9400000000003},832.2600000000001,693.44000000000017,595.32000000000005,481.58000000000004]
[36,null,null,{"$f":"D1174*$G$2","v":1123.7600000000002},852.94000000000017,712.80000000000007,611.16000000000008,494.78000000000003]
[37,null,null,{"$f":"D1175*$G$2","v":1152.3600000000004},873.40000000000009,731.28000000000009,626.34,507.1]
[38,null,null,{"$f":"D1176*$G$2","v":1181.18},894.5200000000001,752.40000000000009,642.84,520.08000000000004]
[39,null,null,{"$f":"D1177*$G$2","v":1211.1000000000001},915.86000000000013,772.2,659.34,533.28000000000009]
[40,null,null,{"$f":"D1178*$G$2","v":1239.92},937.64000000000021,793.32000000000016,676.28000000000009,546.04000000000008]
[41,null,null,{"$f":"D1179*$G$2","v":1269.18},958.32000000000016,813.56000000000006,693,558.80000000000007]
[42,null,null,{"$f":"D1180*$G$2","v":1298.6600000000003},979.44000000000017,834.24000000000012,708.18000000000018,573.1]
[43,null,null,{"$f":"D1181*$G$2","v":1351.6800000000003},1017.0600000000001,869.00000000000011,737.22000000000014,595.7600000000001]
[44,null,null,{"$f":"D1182*$G$2","v":1404.0400000000002},1055.7800000000002,905.30000000000007,766.7,619.5200000000001]
[45,null,null,{"$f":"D1183*$G$2","v":1457.0600000000002},1093.8400000000001,942.04000000000019,797.06000000000006,642.18000000000018]
[46,null,null,{"$f":"D1184*$G$2","v":1510.3000000000002},1132.78,978.12000000000012,825.88000000000011,666.16000000000008]
[47,null,null,{"$f":"D1185*$G$2","v":1562.6600000000003},1170.8400000000001,1014.4200000000002,855.80000000000007,688.6]
[48,null,null,{"$f":"D1186*$G$2","v":1618.9800000000002},1211.7600000000002,1051.3800000000001,886.82000000000016,714.34000000000015]
[49,null,null,{"$f":"D1187*$G$2","v":1675.3000000000002},1252.9000000000001,1088.3400000000001,917.62000000000012,739.64000000000021]
[50,null,null,{"$f":"D1188*$G$2","v":1730.9600000000003},1293.1600000000003,1127.28,949.30000000000007,764.94000000000017]
[51,null,null,{"$f":"D1189*$G$2","v":1787.0600000000004},1333.8600000000004,1163.8000000000002,979.44000000000017,789.14000000000021]
[52,null,null,{"$f":"D1190*$G$2","v":1842.9400000000003},1374.7800000000002,1201.8600000000004,1010.0200000000001,814.44000000000017]
[53,null,null,{"$f":"D1191*$G$2","v":1910.0400000000002},1422.3000000000002,1248.0600000000002,1046.5400000000002,843.7]
[54,null,null,{"$f":"D1192*$G$2","v":1975.1600000000003},1470.2600000000002,1294.92,1085.2600000000002,873.40000000000009]
[55,null,null,{"$f":"D1193*$G$2","v":2041.1600000000003},1518.8800000000003,1339.5800000000002,1122.22,902.66000000000008]
[56,null,null,{"$f":"D1194*$G$2","v":2107.1600000000003},1566.8400000000001,1386.2200000000003,1158.7400000000002,933.24000000000012]
[57,null,null,{"$f":"D1195*$G$2","v":2173.8200000000002},1613.92,1432.2,1196.3600000000004,961.84000000000015]
[58,null,null,{"$f":"D1196*$G$2","v":2255.4400000000005},1670.2400000000002,1488.0800000000004,1242.3400000000001,999.0200000000001]
[59,null,null,{"$f":"D1197*$G$2","v":2335.96},1725.4600000000003,1542.8600000000004,1288.3200000000002,1035.5400000000002]
[60,null,null,{"$f":"D1198*$G$2","v":2416.9200000000005},1780.4600000000003,1598.9600000000003,1334.0800000000002,1072.9400000000003]
[61,null,null,{"$f":"D1199*$G$2","v":2506.0200000000004},1845.8000000000002,1665.6200000000001,1384.0200000000002,1112.7600000000002]
[62,null,null,{"$f":"D1200*$G$2","v":2617.56},1927.2,1745.0400000000002,1444.7400000000002,1161.1600000000003]
[63,null,null,{"$f":"D1201*$G$2","v":2749.78},2024.4400000000003,1832.1600000000003,1518.0000000000002,1218.8000000000002]
[64,null,null,{"$f":"D1202*$G$2","v":2905.5400000000004},2137.9600000000005,1936.8800000000003,1603.5800000000004,1288.7600000000002]
[65,null,null,{"$f":"D1203*$G$2","v":3105.0800000000004},2279.4200000000005,2081.2000000000003,1717.9800000000002,1379.4]
[66,null,null,{"$f":"D1204*$G$2","v":3337.4},2443.9800000000005,2248.1800000000003,1849.5400000000002,1483.6800000000003]
[67,null,null,{"$f":"D1205*$G$2","v":3602.5000000000005},2637.5800000000004,2426.8200000000006,1997.3800000000003,1600.2800000000004]
[68,null,null,{"$f":"D1206*$G$2","v":3906.7600000000007},2857.5800000000004,2629.8800000000006,2162.6000000000004,1736.2400000000002]
[69,null,null,{"$f":"D1207*$G$2","v":4264.7000000000007},3119.6000000000004,2870.34,2363.2400000000002,1893.9800000000002]
[70,null,null,{"$f":"D1208*$G$2","v":4699.6400000000012},3418.8,3167.1200000000003,2612.06,2093.3000000000002]
[71,null,null,{"$f":"D1209*$G$2","v":5172.8600000000006},3764.6400000000003,3515.8200000000006,2875.6200000000003,2303.4]
[72,null,null,{"$f":"D1210*$G$2","v":5721.9800000000005},4162.4000000000005,3888.9400000000005,3180.3200000000006,2549.1400000000003]
[73,null,null,{"$f":"D1211*$G$2","v":6349.420000000001},4620,4314.420000000001,3528.5800000000004,2827.4400000000005]
[74,null,null,{"$f":"D1212*$G$2","v":7078.7200000000012},5149.3200000000006,4808.1000000000004,3933.3800000000006,3150.6200000000003]
[75,null,null,{"$f":"D1213*$G$2","v":7930.3400000000011},5755.2000000000007,5386.92,4411.4400000000005,3534.0800000000004]
[76,null,null,{"$f":"D1214*$G$2","v":8892.4000000000015},6453.4800000000005,6061.4400000000014,4948.2400000000007,3961.5400000000004]
[77,null,null,{"$f":"D1215*$G$2","v":9987.34},7247.9000000000005,6812.0800000000008,5555.6600000000008,4450.38]
[78,null,null,{"$f":"D1216*$G$2","v":11221.320000000002},8142.8600000000015,7654.0200000000013,6243.1600000000008,5000.380000000001]
[79,null,null,{"$f":"D1217*$G$2","v":12607.980000000001},9148.9200000000019,8599.36,7014.0400000000009,5618.3600000000006]
[80,"o mas",null,{"$f":"D1218*$G$2","v":14266.340000000002},10352.540000000001,9730.3800000000028,7936.2800000000007,6357.3400000000011]
[1,"Hijo",null,{"$f":"D1219*$G$2","v":373.12000000000006},306.02000000000004,179.96000000000004,176.44000000000003,141.68000000000004]
[2,"Hijos",null,{"$f":"D1220*$G$2","v":611.38000000000011},514.36,277.86000000000007,267.96000000000004,223.52000000000004]
[3,"Hijos o más",null,{"$f":"D1221*$G$2","v":894.08000000000015},754.82000000000016,402.6,385.00000000000006,323.84000000000009]
[1,"Rider Comp. Maternidad",null,{"$f":"D1222*$G$2","v":0},0,0,61.875000000000007,61.875000000000007]
[1,"Transplante de organos",null,{"$f":"D1223*$G$2","v":82.5},82.5,82.5,82.5,82.5]
[null,"Deductible Waiver",null,{"$f":"D1224*$G$2","v":12.375000000000002},49.500000000000007,94.875000000000014,213.12500000000003,365.75000000000006]
[]
[]
["TARIFAS MENSUALES"]
[]
["EDAD",null,null,"ET2","ET3","ET4","ET5","ET6"]
[18,null,null,{"$f":"D1156*$G$3","v":267.97866570960002},{"$f":"E1156*$G$3","v":208.61866592160004},162.47466608640002,144.03199948560001,116.853332916]
[19,null,null,{"$f":"D1157*$G$3","v":272.83199902560006},212.053332576,166.05866607360002,147.09333280800001,118.79466624240003]
[20,null,null,{"$f":"D1158*$G$3","v":277.46133234240006},215.48799923040002,169.04533272960001,149.78133279840003,120.73599956880003]
[21,null,null,{"$f":"D1159*$G$3","v":282.613332324},219.14666588400002,172.479999384,152.31999945600001,123.27466622640003]
[22,null,null,{"$f":"D1160*$G$3","v":287.61599897280007},222.6559992048,176.06399937120003,155.00799944640002,125.66399955120002]
[23,null,null,{"$f":"D1161*$G$3","v":292.69333228800002},226.09066585920002,180.02133269040002,157.69599943680001,127.82933287680002]
[24,null,null,{"$f":"D1162*$G$3","v":297.77066560320003},229.59999918,183.00799934640003,160.8319994256,129.91999953600001]
[25,null,null,{"$f":"D1163*$G$3","v":302.92266558480003},233.48266583280005,186.66666600000002,163.4453327496,132.53333286]
[26,null,null,{"$f":"D1164*$G$3","v":307.92533223360005},236.99199915360003,190.10133265440004,166.20799940640003,134.62399951920003]
[27,null,null,{"$f":"D1165*$G$3","v":313.22666554800003},240.72533247360005,193.5359993088,168.97066606320001,136.71466617840002]
[28,null,null,{"$f":"D1166*$G$3","v":318.97599886080008},244.75733245920003,198.23999929200002,172.4053327176,139.92533283360001]
[29,null,null,{"$f":"D1167*$G$3","v":325.09866550560002},248.71466577840002,202.27199927760003,175.98933270480003,142.09066615920003]
[30,null,null,{"$f":"D1168*$G$3","v":330.84799881840001},253.04533242960005,206.90133259440003,179.27466602640001,145.00266614880002]
[31,null,null,{"$f":"D1169*$G$3","v":336.97066546320002},257.15199908160002,211.0826659128,182.70933268080003,147.91466613840004]
[32,null,null,{"$f":"D1170*$G$3","v":342.64533210960002},261.18399906720003,215.56266589680001,185.91999933600002,150.45333279600001]
[33,null,null,{"$f":"D1171*$G$3","v":352.50133207440001},268.42666570800003,221.83466587440003,191.37066598320001,154.93333278]
[34,null,null,{"$f":"D1172*$G$3","v":362.05866537360004},275.29599901680007,228.77866584960003,196.67199929760002,159.039999432]
[35,null,null,{"$f":"D1173*$G$3","v":371.61599867280006},282.46399899120001,235.34933249280004,202.04799927840003,163.4453327496]
[36,null,null,{"$f":"D1174*$G$3","v":381.3973319712},289.48266563280004,241.919999136,207.42399925920003,167.92533273360002]
[37,null,null,{"$f":"D1175*$G$3","v":391.10399860320007},296.42666560800001,248.19199911360005,212.5759992408,172.10666605200001]
[38,null,null,{"$f":"D1176*$G$3","v":400.88533190160001},303.59466558240001,255.35999908800002,218.17599922080001,176.51199936960001]
[39,null,null,{"$f":"D1177*$G$3","v":411.03999853200003},310.83733222320001,262.07999906399999,223.77599920080002,180.99199935360002]
[40,null,null,{"$f":"D1178*$G$3","v":420.82133183040003},318.22933219680004,269.24799903840005,229.52533251360003,185.32266600480003]
[41,null,null,{"$f":"D1179*$G$3","v":430.75199846160001},325.24799883840001,276.11733234720003,235.19999916,189.653332656]
[42,null,null,{"$f":"D1180*$G$3","v":440.7573317592001},332.41599881280007,283.13599898880005,240.35199914160003,194.50666597200001]
[43,null,null,{"$f":"D1181*$G$3","v":458.7519983616001},345.18399876720002,294.93333228,250.20799910640002,202.19733261120001]
[44,null,null,{"$f":"D1182*$G$3","v":476.52266496480007},358.32533205360005,307.25333223600001,260.21333240400003,210.26133258240003]
[45,null,null,{"$f":"D1183*$G$3","v":494.51733156720007},371.24266534080004,319.72266552480005,270.51733236720003,217.95199922160003]
[46,null,null,{"$f":"D1184*$G$3","v":512.58666483600007},384.45866529360001,331.9679988144,280.29866566560003,226.09066585920002]
[47,null,null,{"$f":"D1185*$G$3","v":530.35733143920004},397.37599858080006,344.28799877040001,290.45333229600004,233.706665832]
[48,null,null,{"$f":"D1186*$G$3","v":549.47199803760009},411.26399853120006,356.83199872560004,300.98133225840002,242.44266580080006]
[49,null,null,{"$f":"D1187*$G$3","v":568.58666463600002},425.226665148,369.37599868080002,311.43466555440006,251.02933243680005]
[50,null,null,{"$f":"D1188*$G$3","v":587.47733123520004},438.89066509920008,382.59199863359999,322.18666551600001,259.61599907280004]
[51,null,null,{"$f":"D1189*$G$3","v":606.51733116720004},452.70399838320009,394.98666525600004,332.41599881280007,267.82933237680004]
[52,null,null,{"$f":"D1190*$G$3","v":625.48266443280011},466.59199833360009,407.90399854320009,342.79466544240006,276.41599901280006]
[53,null,null,{"$f":"D1191*$G$3","v":648.25599768480004},482.71999827600001,423.58399848720006,355.18933206480006,286.34666564400004]
[54,null,null,{"$f":"D1192*$G$3","v":670.3573309392001},498.99733155120009,439.48799843040001,368.33066535120003,296.42666560800001]
[55,null,null,{"$f":"D1193*$G$3","v":692.75733085920012},515.49866482560014,454.64533170959999,380.87466530640006,306.35733223920005]
[56,null,null,{"$f":"D1194*$G$3","v":715.15733077920004},531.77599810080005,470.47466498640006,393.26933192880006,316.73599886880004]
[57,null,null,{"$f":"D1195*$G$3","v":737.7813306984001},547.75466471039999,486.07999826400004,406.03733188320007,326.44266550080005]
[58,null,null,{"$f":"D1196*$G$3","v":765.48266393280005},566.86933130880004,505.04533152960011,421.64266516080005,339.06133212240002]
[59,null,null,{"$f":"D1197*$G$3","v":792.81066383519999},585.61066457520008,523.6373314632001,437.24799843840003,351.45599874480007]
[60,null,null,{"$f":"D1198*$G$3","v":820.28799707040014},604.27733117520006,542.6773313952001,452.77866504960002,364.14933203280003]
[61,null,null,{"$f":"D1199*$G$3","v":850.52799696240015},626.45333109600006,565.30133131440004,469.72799832240003,377.66399865120002]
[62,null,null,{"$f":"D1200*$G$3","v":888.38399682720001},654.07999766400008,592.25599788480008,490.33599824880008,394.09066525920008]
[63,null,null,{"$f":"D1201*$G$3","v":933.25866333360011},687.08266421280007,621.82399777920011,515.19999816000006,413.65333185600002]
[64,null,null,{"$f":"D1202*$G$3","v":986.12266314480007},725.61066407520013,657.36533098560005,544.2453313896001,437.39733177120007]
[65,null,null,{"$f":"D1203*$G$3","v":1053.8453295696002},773.62133057040012,706.34666414399999,583.07199791760013,468.15999832800003]
[66,null,null,{"$f":"D1204*$G$3","v":1132.6933292880001},829.47199703760009,763.01866394160015,627.72266442480009,503.5519982016001]
[67,null,null,{"$f":"D1205*$G$3","v":1222.6666623000001},895.17866346960011,823.64799705840016,677.89866424560012,543.12533139360005]
[68,null,null,{"$f":"D1206*$G$3","v":1325.9306619312001},969.84532986960016,892.56533014560011,733.97333071200001,589.26933122880007]
[69,null,null,{"$f":"D1207*$G$3","v":1447.4133281640002},1058.773329552,974.17599652080003,802.0693304688001,642.80533103760013]
[70,null,null,{"$f":"D1208*$G$3","v":1595.0293276368002},1160.3199958560001,1074.9013294944002,886.51733016720004,710.45333079600005]
[71,null,null,{"$f":"D1209*$G$3","v":1755.6373270632002},1277.6959954368001,1193.2479957384,975.96799651440017,781.75999720800007]
[72,null,null,{"$f":"D1210*$G$3","v":1942.0053263976001},1412.693328288,1319.8826619528002,1079.3813294784002,865.16266357680013]
[73,null,null,{"$f":"D1211*$G$3","v":2154.9546589704005},1567.9999944000001,1464.2879947704002,1197.5786623896001,959.6159965728001]
[74,null,null,{"$f":"D1212*$G$3","v":2402.4746580864003},1747.6479937583999,1631.8399941720002,1334.9653285656002,1069.3013295144001]
[75,null,null,{"$f":"D1213*$G$3","v":2691.5093237208002},1953.2799930240001,1828.2879934704001,1497.2159946528002,1199.4453290496001]
[76,null,null,{"$f":"D1214*$G$3","v":3018.0266558880003},2190.2719921776002,2057.2159926528002,1679.4026606688003,1344.5226618648001]
[77,null,null,{"$f":"D1215*$G$3","v":3389.6426545608001},2459.8933245480002,2311.9786584096,1885.5573265992002,1510.4319946056]
[78,null,null,{"$f":"D1216*$G$3","v":3808.4479863984006},2763.6373234632001,2597.7279907224006,2118.8906590992001,1697.0986606056001]
[79,null,null,{"$f":"D1217*$G$3","v":4279.0719847176006},3105.0879889104003,2918.5706562432001,2380.5226581648003,1906.8373265232003]
[80,"o mas",null,{"$f":"D1218*$G$3","v":4841.9093160408011},3513.5893207847998,3302.4319882056006,2693.5253237136003,2157.6426589608004]
[1,"Hijo",null,{"$f":"D1219*$G$3","v":126.63466621440003},103.8613329624,61.077333115200013,59.882666452800002,48.085333161600005]
[2,"Hijos",null,{"$f":"D1220*$G$3","v":207.49866592560002},174.57066604320002,94.303999663200017,90.943999675200018,75.861333062400007]
[3,"Hijos o más",null,{"$f":"D1221*$G$3","v":303.44533224960003},256.18133241840002,136.639999512,130.66666620000001,109.90933294080001]
[1,"Rider Comp. Maternidad",null,{"$f":"D1222*$G$3","v":0},0,0,20.999999925000001,20.999999925000001]
[1,"Transplante de organos",null,{"$f":"D1223*$G$3","v":27.999999900000002},27.999999900000002,27.999999900000002,27.999999900000002,27.999999900000002]
[null,"Deductible Waiver",null,{"$f":"D1224*$G$3","v":4.1999999849999998},16.799999939999999,32.199999885000004,72.333333074999999,124.13333289000001]
[]
[]
[]
[]
[]
[]
[]
[]
[]
[]
[]
[]
["BUPA UNIQUE CARE: DEDUCIBLE CERO"]
["TARIFAS ANUALES"]
[]
["EDAD",null,null,"ET2","ET3","ET4","ET5","ET6"]
[18,null,null,{"$f":"L1466","v":2437},{"$f":"M1466","v":1966},1599,1412,0,null,null,null,{"$f":"DR!D384","v":2437},{"$f":"DR!E384","v":1966},{"$f":"DR!F384","v":1599},{"$f":"DR!G384","v":1412}]
[19,null,null,{"$f":"L1467","v":2481},{"$f":"M1467","v":2000},{"$f":"N1467","v":1626},{"$f":"O1467","v":1437},0,null,null,null,{"$f":"DR!D385","v":2481},{"$f":"DR!E385","v":2000},{"$f":"DR!F385","v":1626},{"$f":"DR!G385","v":1437}]
[20,null,null,2523,2035,1656,1462,0,null,null,null,{"$f":"DR!D386","v":2523},{"$f":"DR!E386","v":2035},{"$f":"DR!F386","v":1656},{"$f":"DR!G386","v":1462}]
[21,null,null,2569,2073,1686,1489,0,null,null,null,{"$f":"DR!D387","v":2569},{"$f":"DR!E387","v":2073},{"$f":"DR!F387","v":1686},{"$f":"DR!G387","v":1489}]
[22,null,null,2616,2109,1716,1515,0,null,null,null,{"$f":"DR!D388","v":2616},{"$f":"DR!E388","v":2109},{"$f":"DR!F388","v":1716},{"$f":"DR!G388","v":1515}]
[23,null,null,2662,2147,1745,1542,0,null,null,null,{"$f":"DR!D389","v":2662},{"$f":"DR!E389","v":2147},{"$f":"DR!F389","v":1745},{"$f":"DR!G389","v":1542}]
[24,null,null,2709,2183,1777,1568,0,null,null,null,{"$f":"DR!D390","v":2709},{"$f":"DR!E390","v":2183},{"$f":"DR!F390","v":1777},{"$f":"DR!G390","v":1568}]
[25,null,null,2755,2220,1806,1594,0,null,null,null,{"$f":"DR!D391","v":2755},{"$f":"DR!E391","v":2220},{"$f":"DR!F391","v":1806},{"$f":"DR!G391","v":1594}]
[26,null,null,2801,2259,1837,1622,0,null,null,null,{"$f":"DR!D392","v":2801},{"$f":"DR!E392","v":2259},{"$f":"DR!F392","v":1837},{"$f":"DR!G392","v":1622}]
[27,null,null,2848,2298,1869,1650,0,null,null,null,{"$f":"DR!D393","v":2848},{"$f":"DR!E393","v":2298},{"$f":"DR!F393","v":1869},{"$f":"DR!G393","v":1650}]
[28,null,null,2900,2339,1902,1678,0,null,null,null,{"$f":"DR!D394","v":2900},{"$f":"DR!E394","v":2339},{"$f":"DR!F394","v":1902},{"$f":"DR!G394","v":1678}]
[29,null,null,2955,2383,1939,1712,0,null,null,null,{"$f":"DR!D395","v":2955},{"$f":"DR!E395","v":2383},{"$f":"DR!F395","v":1939},{"$f":"DR!G395","v":1712}]
[30,null,null,3009,2427,1975,1742,0,null,null,null,{"$f":"DR!D396","v":3009},{"$f":"DR!E396","v":2427},{"$f":"DR!F396","v":1975},{"$f":"DR!G396","v":1742}]
[31,null,null,3065,2472,2010,1775,0,null,null,null,{"$f":"DR!D397","v":3065},{"$f":"DR!E397","v":2472},{"$f":"DR!F397","v":2010},{"$f":"DR!G397","v":1775}]
[32,null,null,3117,2514,2044,1804,0,null,null,null,{"$f":"DR!D398","v":3117},{"$f":"DR!E398","v":2514},{"$f":"DR!F398","v":2044},{"$f":"DR!G398","v":1804}]
[33,null,null,3205,2585,2103,1856,0,null,null,null,{"$f":"DR!D399","v":3205},{"$f":"DR!E399","v":2585},{"$f":"DR!F399","v":2103},{"$f":"DR!G399","v":1856}]
[34,null,null,3293,2656,2160,1905,0,null,null,null,{"$f":"DR!D400","v":3293},{"$f":"DR!E400","v":2656},{"$f":"DR!F400","v":2160},{"$f":"DR!G400","v":1905}]
[35,null,null,3381,2725,2217,1955,0,null,null,null,{"$f":"DR!D401","v":3381},{"$f":"DR!E401","v":2725},{"$f":"DR!F401","v":2217},{"$f":"DR!G401","v":1955}]
[36,null,null,3467,2796,2274,2008,0,null,null,null,{"$f":"DR!D402","v":3467},{"$f":"DR!E402","v":2796},{"$f":"DR!F402","v":2274},{"$f":"DR!G402","v":2008}]
[37,null,null,3555,2867,2334,2060,0,null,null,null,{"$f":"DR!D403","v":3555},{"$f":"DR!E403","v":2867},{"$f":"DR!F403","v":2334},{"$f":"DR!G403","v":2060}]
[38,null,null,3645,2940,2392,2110,0,null,null,null,{"$f":"DR!D404","v":3645},{"$f":"DR!E404","v":2940},{"$f":"DR!F404","v":2392},{"$f":"DR!G404","v":2110}]
[39,null,null,3737,3013,2451,2164,0,null,null,null,{"$f":"DR!D405","v":3737},{"$f":"DR!E405","v":3013},{"$f":"DR!F405","v":2451},{"$f":"DR!G405","v":2164}]
[40,null,null,3825,3087,2510,2215,0,null,null,null,{"$f":"DR!D406","v":3825},{"$f":"DR!E406","v":3087},{"$f":"DR!F406","v":2510},{"$f":"DR!G406","v":2215}]
[41,null,null,3918,3161,2570,2269,0,null,null,null,{"$f":"DR!D407","v":3918},{"$f":"DR!E407","v":3161},{"$f":"DR!F407","v":2570},{"$f":"DR!G407","v":2269}]
[42,null,null,4008,3232,2631,2320,0,null,null,null,{"$f":"DR!D408","v":4008},{"$f":"DR!E408","v":3232},{"$f":"DR!F408","v":2631},{"$f":"DR!G408","v":2320}]
[43,null,null,4171,3363,2736,2416,0,null,null,null,{"$f":"DR!D409","v":4171},{"$f":"DR!E409","v":3363},{"$f":"DR!F409","v":2736},{"$f":"DR!G409","v":2416}]
[44,null,null,4332,3494,2844,2510,0,null,null,null,{"$f":"DR!D410","v":4332},{"$f":"DR!E410","v":3494},{"$f":"DR!F410","v":2844},{"$f":"DR!G410","v":2510}]
[45,null,null,4496,3627,2951,2603,0,null,null,null,{"$f":"DR!D411","v":4496},{"$f":"DR!E411","v":3627},{"$f":"DR!F411","v":2951},{"$f":"DR!G411","v":2603}]
[46,null,null,4662,3759,3060,2698,0,null,null,null,{"$f":"DR!D412","v":4662},{"$f":"DR!E412","v":3759},{"$f":"DR!F412","v":3060},{"$f":"DR!G412","v":2698}]
[47,null,null,4823,3889,3163,2793,0,null,null,null,{"$f":"DR!D413","v":4823},{"$f":"DR!E413","v":3889},{"$f":"DR!F413","v":3163},{"$f":"DR!G413","v":2793}]
[48,null,null,4996,4029,3276,2892,0,null,null,null,{"$f":"DR!D414","v":4996},{"$f":"DR!E414","v":4029},{"$f":"DR!F414","v":3276},{"$f":"DR!G414","v":2892}]
[49,null,null,5169,4169,3391,2994,0,null,null,null,{"$f":"DR!D415","v":5169},{"$f":"DR!E415","v":4169},{"$f":"DR!F415","v":3391},{"$f":"DR!G415","v":2994}]
[50,null,null,5342,4308,3503,3093,0,null,null,null,{"$f":"DR!D416","v":5342},{"$f":"DR!E416","v":4308},{"$f":"DR!F416","v":3503},{"$f":"DR!G416","v":3093}]
[51,null,null,5514,4447,3617,3193,0,null,null,null,{"$f":"DR!D417","v":5514},{"$f":"DR!E417","v":4447},{"$f":"DR!F417","v":3617},{"$f":"DR!G417","v":3193}]
[52,null,null,5686,4585,3731,3291,0,null,null,null,{"$f":"DR!D418","v":5686},{"$f":"DR!E418","v":4585},{"$f":"DR!F418","v":3731},{"$f":"DR!G418","v":3291}]
[53,null,null,5893,4752,3866,3410,0,null,null,null,{"$f":"DR!D419","v":5893},{"$f":"DR!E419","v":4752},{"$f":"DR!F419","v":3866},{"$f":"DR!G419","v":3410}]
[54,null,null,6096,4916,3998,3529,0,null,null,null,{"$f":"DR!D420","v":6096},{"$f":"DR!E420","v":4916},{"$f":"DR!F420","v":3998},{"$f":"DR!G420","v":3529}]
[55,null,null,6299,5080,4132,3645,0,null,null,null,{"$f":"DR!D421","v":6299},{"$f":"DR!E421","v":5080},{"$f":"DR!F421","v":4132},{"$f":"DR!G421","v":3645}]
[56,null,null,6503,5243,4266,3765,0,null,null,null,{"$f":"DR!D422","v":6503},{"$f":"DR!E422","v":5243},{"$f":"DR!F422","v":4266},{"$f":"DR!G422","v":3765}]
[57,null,null,6709,5408,4402,3883,0,null,null,null,{"$f":"DR!D423","v":6709},{"$f":"DR!E423","v":5408},{"$f":"DR!F423","v":4402},{"$f":"DR!G423","v":3883}]
[58,null,null,6959,5613,4565,4029,0,null,null,null,{"$f":"DR!D424","v":6959},{"$f":"DR!E424","v":5613},{"$f":"DR!F424","v":4565},{"$f":"DR!G424","v":4029}]
[59,null,null,7208,5813,4727,4171,0,null,null,null,{"$f":"DR!D425","v":7208},{"$f":"DR!E425","v":5813},{"$f":"DR!F425","v":4727},{"$f":"DR!G425","v":4171}]
[60,null,null,7460,6013,4892,4317,0,null,null,null,{"$f":"DR!D426","v":7460},{"$f":"DR!E426","v":6013},{"$f":"DR!F426","v":4892},{"$f":"DR!G426","v":4317}]
[61,null,null,7733,6235,5073,4475,0,null,null,null,{"$f":"DR!D427","v":7733},{"$f":"DR!E427","v":6235},{"$f":"DR!F427","v":5073},{"$f":"DR!G427","v":4475}]
[62,null,null,8079,6514,5299,4674,0,null,null,null,{"$f":"DR!D428","v":8079},{"$f":"DR!E428","v":6514},{"$f":"DR!F428","v":5299},{"$f":"DR!G428","v":4674}]
[63,null,null,8486,6842,5565,4912,0,null,null,null,{"$f":"DR!D429","v":8486},{"$f":"DR!E429","v":6842},{"$f":"DR!F429","v":5565},{"$f":"DR!G429","v":4912}]
[64,null,null,8965,7231,5882,5189,0,null,null,null,{"$f":"DR!D430","v":8965},{"$f":"DR!E430","v":7231},{"$f":"DR!F430","v":5882},{"$f":"DR!G430","v":5189}]
[65,null,null,9584,7729,6286,5547,0,null,null,null,{"$f":"DR!D431","v":9584},{"$f":"DR!E431","v":7729},{"$f":"DR!F431","v":6286},{"$f":"DR!G431","v":5547}]
[66,null,null,10299,8305,6754,5960,0,null,null,null,{"$f":"DR!D432","v":10299},{"$f":"DR!E432","v":8305},{"$f":"DR!F432","v":6754},{"$f":"DR!G432","v":5960}]
[67,null,null,11118,8965,7292,6434,0,null,null,null,{"$f":"DR!D433","v":11118},{"$f":"DR!E433","v":8965},{"$f":"DR!F433","v":7292},{"$f":"DR!G433","v":6434}]
[68,null,null,12054,9720,7906,6978,0,null,null,null,{"$f":"DR!D434","v":12054},{"$f":"DR!E434","v":9720},{"$f":"DR!F434","v":7906},{"$f":"DR!G434","v":6978}]
[69,null,null,13160,10612,8632,7616,0,null,null,null,{"$f":"DR!D435","v":13160},{"$f":"DR!E435","v":10612},{"$f":"DR!F435","v":8632},{"$f":"DR!G435","v":7616}]
[70,null,null,14503,11693,9512,8395,0,null,null,null,{"$f":"DR!D436","v":14503},{"$f":"DR!E436","v":11693},{"$f":"DR!F436","v":9512},{"$f":"DR!G436","v":8395}]
[71,null,null,15963,12873,10469,9239,0,null,null,null,{"$f":"DR!D437","v":15963},{"$f":"DR!E437","v":12873},{"$f":"DR!F437","v":10469},{"$f":"DR!G437","v":9239}]
[72,null,null,17655,14239,11581,10218,0,null,null,null,{"$f":"DR!D438","v":17655},{"$f":"DR!E438","v":14239},{"$f":"DR!F438","v":11581},{"$f":"DR!G438","v":10218}]
[73,null,null,19593,15799,12852,11340,0,null,null,null,{"$f":"DR!D439","v":19593},{"$f":"DR!E439","v":15799},{"$f":"DR!F439","v":12852},{"$f":"DR!G439","v":11340}]
[74,null,null,21843,17614,14327,12641,0,null,null,null,{"$f":"DR!D440","v":21843},{"$f":"DR!E440","v":17614},{"$f":"DR!F440","v":14327},{"$f":"DR!G440","v":12641}]
[75,null,null,24470,19732,16049,14162,0,null,null,null,{"$f":"DR!D441","v":24470},{"$f":"DR!E441","v":19732},{"$f":"DR!F441","v":16049},{"$f":"DR!G441","v":14162}]
[76,null,null,27441,22127,17999,15882,0,null,null,null,{"$f":"DR!D442","v":27441},{"$f":"DR!E442","v":22127},{"$f":"DR!F442","v":17999},{"$f":"DR!G442","v":15882}]
[77,null,null,30818,24851,20213,17835,0,null,null,null,{"$f":"DR!D443","v":30818},{"$f":"DR!E443","v":24851},{"$f":"DR!F443","v":20213},{"$f":"DR!G443","v":17835}]
[78,null,null,34626,27921,22710,20040,0,null,null,null,{"$f":"DR!D444","v":34626},{"$f":"DR!E444","v":27921},{"$f":"DR!F444","v":22710},{"$f":"DR!G444","v":20040}]
[79,null,null,38904,31370,25516,22516,0,null,null,null,{"$f":"DR!D445","v":38904},{"$f":"DR!E445","v":31370},{"$f":"DR!F445","v":25516},{"$f":"DR!G445","v":22516}]
[80,"o mas",null,44021,35499,28873,25478,0,null,null,null,{"$f":"DR!D446","v":44021},{"$f":"DR!E446","v":35499},{"$f":"DR!F446","v":28873},{"$f":"DR!G446","v":25478}]
[1,"Hijo",null,1150,929,756,666,0,null,null,null,{"$f":"DR!D447","v":1150},{"$f":"DR!E447","v":929},{"$f":"DR!F447","v":756},{"$f":"DR!G447","v":666}]
[2,"Hijos",null,1887,1522,1238,1093,0,null,null,null,{"$f":"DR!D448","v":1887},{"$f":"DR!E448","v":1522},{"$f":"DR!F448","v":1238},{"$f":"DR!G448","v":1093}]
[3,"Hijos o más",null,{"$f":"L1531","v":2761},{"$f":"M1531","v":2226},{"$f":"N1531","v":1811},{"$f":"O1531","v":1598},0,null,null,null,{"$f":"DR!D449","v":2761},{"$f":"DR!E449","v":2226},{"$f":"DR!F449","v":1811},{"$f":"DR!G449","v":1598}]
[1,"Rider Comp. Maternidad",null,0,0,0,225,0,null,null,null,0,0,0,225]
[1,"Transplante de organos",null,300,300,300,300,0,null,null,null,300,300,300,300]
[null,"Deductible Waiver",null,0,0,0,0,0,null,null,null,0,0,0,0]
[]
[]
[]
["TARIFAS SEMESTRALES"]
[]
["EDAD",null,null,"ET2","ET3","ET4","ET5","ET6"]
[18,null,null,{"$f":"D1466*$G$1","v":1291.6100000000001},{"$f":"E1466*$G$1","v":1041.98},847.47,748.36,0]
[19,null,null,{"$f":"D1467*$G$1","v":1314.93},1060,861.78000000000009,761.61,0]
[20,null,null,{"$f":"D1468*$G$1","v":1337.19},1078.55,877.68000000000006,774.86,0]
[21,null,null,{"$f":"D1469*$G$1","v":1361.5700000000002},1098.69,893.58,789.17000000000007,0]
[22,null,null,{"$f":"D1470*$G$1","v":1386.48},1117.77,909.48,802.95,0]
[23,null,null,{"$f":"D1471*$G$1","v":1410.8600000000001},1137.9100000000001,924.85,817.26,0]
[24,null,null,{"$f":"D1472*$G$1","v":1435.77},1156.99,941.81000000000006,831.04000000000008,0]
[25,null,null,{"$f":"D1473*$G$1","v":1460.15},1176.6000000000001,957.18000000000006,844.82,0]
[26,null,null,{"$f":"D1474*$G$1","v":1484.53},1197.27,973.61,859.66000000000008,0]
[27,null,null,{"$f":"D1475*$G$1","v":1509.44},1217.94,990.57,874.5,0]
[28,null,null,{"$f":"D1476*$G$1","v":1537},1239.67,1008.0600000000001,889.34,0]
[29,null,null,{"$f":"D1477*$G$1","v":1566.15},1262.99,1027.67,907.36,0]
[30,null,null,{"$f":"D1478*$G$1","v":1594.77},1286.3100000000002,1046.75,923.26,0]
[31,null,null,{"$f":"D1479*$G$1","v":1624.45},1310.1600000000001,1065.3,940.75,0]
[32,null,null,{"$f":"D1480*$G$1","v":1652.01},1332.42,1083.3200000000002,956.12,0]
[33,null,null,{"$f":"D1481*$G$1","v":1698.65},1370.0500000000002,1114.5900000000001,983.68000000000006,0]
[34,null,null,{"$f":"D1482*$G$1","v":1745.2900000000002},1407.68,1144.8,1009.6500000000001,0]
[35,null,null,{"$f":"D1483*$G$1","v":1791.93},1444.25,1175.01,1036.1500000000001,0]
[36,null,null,{"$f":"D1484*$G$1","v":1837.51},1481.88,1205.22,1064.24,0]
[37,null,null,{"$f":"D1485*$G$1","v":1884.15},1519.51,1237.02,1091.8,0]
[38,null,null,{"$f":"D1486*$G$1","v":1931.8500000000001},1558.2,1267.76,1118.3,0]
[39,null,null,{"$f":"D1487*$G$1","v":1980.6100000000001},1596.89,1299.03,1146.92,0]
[40,null,null,{"$f":"D1488*$G$1","v":2027.25},1636.1100000000001,1330.3,1173.95,0]
[41,null,null,{"$f":"D1489*$G$1","v":2076.54},1675.3300000000002,1362.1000000000001,1202.5700000000002,0]
[42,null,null,{"$f":"D1490*$G$1","v":2124.2400000000002},1712.96,1394.43,1229.6000000000001,0]
[43,null,null,{"$f":"D1491*$G$1","v":2210.63},1782.39,1450.0800000000002,1280.48,0]
[44,null,null,{"$f":"D1492*$G$1","v":2295.96},1851.8200000000002,1507.3200000000002,1330.3,0]
[45,null,null,{"$f":"D1493*$G$1","v":2382.88},1922.3100000000002,1564.03,1379.5900000000001,0]
[46,null,null,{"$f":"D1494*$G$1","v":2470.86},1992.2700000000002,1621.8000000000002,1429.94,0]
[47,null,null,{"$f":"D1495*$G$1","v":2556.19},2061.17,1676.39,1480.29,0]
[48,null,null,{"$f":"D1496*$G$1","v":2647.88},2135.37,1736.2800000000002,1532.76,0]
[49,null,null,{"$f":"D1497*$G$1","v":2739.57},2209.5700000000002,1797.23,1586.8200000000002,0]
[50,null,null,{"$f":"D1498*$G$1","v":2831.26},2283.2400000000002,1856.5900000000001,1639.2900000000002,0]
[51,null,null,{"$f":"D1499*$G$1","v":2922.42},2356.9100000000003,1917.01,1692.2900000000002,0]
[52,null,null,{"$f":"D1500*$G$1","v":3013.58},2430.0500000000002,1977.43,1744.23,0]
[53,null,null,{"$f":"D1501*$G$1","v":3123.29},{"$f":"E1501*$G$1","v":2518.56},2048.98,1807.3000000000002,0]
[54,null,null,{"$f":"D1502*$G$1","v":3230.88},2605.48,2118.94,1870.3700000000001,0]
[55,null,null,{"$f":"D1503*$G$1","v":3338.4700000000003},2692.4,2189.96,1931.8500000000001,0]
[56,null,null,{"$f":"D1504*$G$1","v":3446.59},2778.79,2260.98,1995.45,0]
[57,null,null,{"$f":"D1505*$G$1","v":3555.77},2866.2400000000002,2333.06,2057.9900000000002,0]
[58,null,null,{"$f":"D1506*$G$1","v":3688.27},2974.8900000000003,2419.4500000000003,2135.37,0]
[59,null,null,{"$f":"D1507*$G$1","v":3820.2400000000002},3080.8900000000003,2505.31,2210.63,0]
[60,null,null,{"$f":"D1508*$G$1","v":3953.8},3186.8900000000003,2592.7600000000002,2288.0100000000002,0]
[61,null,null,{"$f":"D1509*$G$1","v":4098.49},3304.55,2688.69,2371.75,0]
[62,null,null,{"$f":"D1510*$G$1","v":4281.87},3452.42,2808.4700000000003,2477.2200000000003,0]
[63,null,null,{"$f":"D1511*$G$1","v":4497.58},3626.26,2949.4500000000003,2603.36,0]
[64,null,null,{"$f":"D1512*$G$1","v":4751.45},3832.4300000000003,3117.46,2750.17,0]
[65,null,null,{"$f":"D1513*$G$1","v":5079.5200000000004},4096.37,3331.5800000000004,2939.9100000000003,0]
[66,null,null,{"$f":"D1514*$G$1","v":5458.47},4401.6500000000005,3579.6200000000003,3158.8,0]
[67,null,null,{"$f":"D1515*$G$1","v":5892.54},4751.45,3864.76,3410.02,0]
[68,null,null,{"$f":"D1516*$G$1","v":6388.62},5151.6000000000004,4190.18,3698.34,0]
[69,null,null,{"$f":"D1517*$G$1","v":6974.8},5624.3600000000006,4574.96,4036.48,0]
[70,null,null,{"$f":"D1518*$G$1","v":7686.59},6197.29,5041.3600000000006,4449.3500000000004,0]
[71,null,null,{"$f":"D1519*$G$1","v":8460.3900000000012},6822.6900000000005,5548.5700000000006,4896.67,0]
[72,null,null,{"$f":"D1520*$G$1","v":9357.15},7546.67,6137.93,5415.54,0]
[73,null,null,{"$f":"D1521*$G$1","v":10384.290000000001},8373.4700000000012,6811.56,6010.2000000000007,0]
[74,null,null,{"$f":"D1522*$G$1","v":11576.79},9335.42,7593.31,6699.7300000000005,0]
[75,null,null,{"$f":"D1523*$G$1","v":12969.1},10457.960000000001,8505.9700000000012,7505.8600000000006,0]
[76,null,null,{"$f":"D1524*$G$1","v":14543.730000000001},11727.310000000001,9539.4700000000012,8417.4600000000009,0]
[77,null,null,{"$f":"D1525*$G$1","v":16333.54},13171.03,10712.890000000001,9452.5500000000011,0]
[78,null,null,{"$f":"D1526*$G$1","v":18351.780000000002},14798.130000000001,12036.300000000001,10621.2,0]
[79,null,null,{"$f":"D1527*$G$1","v":20619.120000000003},16626.100000000002,13523.480000000001,11933.480000000001,0]
[80,"o mas",null,{"$f":"D1528*$G$1","v":23331.13},18814.47,15302.69,13503.34,0]
[1,"Hijo",null,{"$f":"D1529*$G$1","v":609.5},{"$f":"E1529*$G$1","v":492.37},400.68,352.98,0]
[2,"Hijos",null,{"$f":"D1530*$G$1","v":1000.11},806.66000000000008,656.14,579.29000000000008,0]
[3,"Hijos o más",null,{"$f":"D1531*$G$1","v":1463.3300000000002},1179.78,959.83,846.94,0]
[1,"Rider Comp. Maternidad",null,0,0,0,119.25,0]
[1,"Transplante de organos",null,159,159,159,159,0]
[null,"Deductible Waiver",null,0,0,0,0,0]
[]
[]
[]
[]
["TARIFAS TRIMESTRALES"]
[]
["EDAD",null,null,"ET2","ET3","ET4","ET5","ET6"]
[18,null,null,{"$f":"D1466*$G$2","v":670.17500000000007},{"$f":"E1466*$G$2","v":540.65000000000009},439.72500000000002,388.3,0]
[19,null,null,{"$f":"D1467*$G$2","v":682.27500000000009},550,447.15000000000003,395.17500000000001,0]
[20,null,null,{"$f":"D1468*$G$2","v":693.82500000000005},559.625,455.40000000000003,402.05,0]
[21,null,null,{"$f":"D1469*$G$2","v":706.47500000000002},570.07500000000005,463.65000000000003,409.47500000000002,0]
[22,null,null,{"$f":"D1470*$G$2","v":719.40000000000009},579.97500000000002,471.90000000000003,416.62500000000006,0]
[23,null,null,{"$f":"D1471*$G$2","v":732.05000000000007},590.42500000000007,479.87500000000006,424.05,0]
[24,null,null,{"$f":"D1472*$G$2","v":744.97500000000002},600.32500000000005,488.67500000000001,431.20000000000005,0]
[25,null,null,{"$f":"D1473*$G$2","v":757.62500000000011},610.5,496.65000000000003,438.35,0]
[26,null,null,{"$f":"D1474*$G$2","v":770.27500000000009},621.22500000000002,505.17500000000007,446.05,0]
[27,null,null,{"$f":"D1475*$G$2","v":783.2},631.95000000000005,513.97500000000002,453.75000000000006,0]
[28,null,null,{"$f":"D1476*$G$2","v":797.50000000000011},643.22500000000002,523.05000000000007,461.45000000000005,0]
[29,null,null,{"$f":"D1477*$G$2","v":812.62500000000011},655.32500000000005,533.22500000000002,470.8,0]
[30,null,null,{"$f":"D1478*$G$2","v":827.47500000000002},667.42500000000007,543.125,479.05,0]
[31,null,null,{"$f":"D1479*$G$2","v":842.87500000000011},679.80000000000007,552.75,488.12500000000006,0]
[32,null,null,{"$f":"D1480*$G$2","v":857.17500000000007},691.35,562.1,496.1,0]
[33,null,null,{"$f":"D1481*$G$2","v":881.37500000000011},710.87500000000011,578.32500000000005,510.40000000000003,0]
[34,null,null,{"$f":"D1482*$G$2","v":905.57500000000005},730.40000000000009,594,523.875,0]
[35,null,null,{"$f":"D1483*$G$2","v":929.77500000000009},749.37500000000011,609.67500000000007,537.625,0]
[36,null,null,{"$f":"D1484*$G$2","v":953.42500000000007},768.90000000000009,625.35,552.20000000000005,0]
[37,null,null,{"$f":"D1485*$G$2","v":977.62500000000011},788.42500000000007,641.85,566.5,0]
[38,null,null,{"$f":"D1486*$G$2","v":1002.3750000000001},808.50000000000011,657.80000000000007,580.25,0]
[39,null,null,{"$f":"D1487*$G$2","v":1027.6750000000002},828.57500000000005,674.02500000000009,595.1,0]
[40,null,null,{"$f":"D1488*$G$2","v":1051.875},848.92500000000007,690.25,609.125,0]
[41,null,null,{"$f":"D1489*$G$2","v":1077.45},869.27500000000009,706.75000000000011,623.97500000000002,0]
[42,null,null,{"$f":"D1490*$G$2","v":1102.2},888.80000000000007,723.52500000000009,638,0]
[43,null,null,{"$f":"D1491*$G$2","v":1147.0250000000001},924.82500000000005,752.40000000000009,664.40000000000009,0]
[44,null,null,{"$f":"D1492*$G$2","v":1191.3000000000002},960.85,782.1,690.25,0]
[45,null,null,{"$f":"D1493*$G$2","v":1236.4000000000001},997.42500000000007,811.52500000000009,715.82500000000005,0]
[46,null,null,{"$f":"D1494*$G$2","v":1282.0500000000002},1033.7250000000001,841.50000000000011,741.95,0]
[47,null,null,{"$f":"D1495*$G$2","v":1326.325},1069.4750000000001,869.82500000000005,768.07500000000005,0]
[48,null,null,{"$f":"D1496*$G$2","v":1373.9},1107.9750000000001,900.90000000000009,795.30000000000007,0]
[49,null,null,{"$f":"D1497*$G$2","v":1421.4750000000001},1146.4750000000001,932.52500000000009,823.35,0]
[50,null,null,{"$f":"D1498*$G$2","v":1469.0500000000002},1184.7,963.32500000000005,850.57500000000005,0]
[51,null,null,{"$f":"D1499*$G$2","v":1516.3500000000001},1222.9250000000002,994.67500000000007,878.07500000000005,0]
[52,null,null,{"$f":"D1500*$G$2","v":1563.65},1260.875,1026.0250000000001,905.02500000000009,0]
[53,null,null,{"$f":"D1501*$G$2","v":1620.575},1306.8000000000002,1063.1500000000001,937.75000000000011,0]
[54,null,null,{"$f":"D1502*$G$2","v":1676.4},1351.9,1099.45,970.47500000000002,0]
[55,null,null,{"$f":"D1503*$G$2","v":1732.2250000000001},1397,1136.3000000000002,1002.3750000000001,0]
[56,null,null,{"$f":"D1504*$G$2","v":1788.325},1441.825,1173.1500000000001,1035.375,0]
[57,null,null,{"$f":"D1505*$G$2","v":1844.9750000000001},1487.2,1210.5500000000002,1067.825,0]
[58,null,null,{"$f":"D1506*$G$2","v":1913.7250000000001},1543.575,1255.375,1107.9750000000001,0]
[59,null,null,{"$f":"D1507*$G$2","v":1982.2000000000003},1598.575,1299.9250000000002,1147.0250000000001,0]
[60,null,null,{"$f":"D1508*$G$2","v":2051.5},1653.575,1345.3000000000002,1187.1750000000002,0]
[61,null,null,{"$f":"D1509*$G$2","v":2126.5750000000003},1714.6250000000002,1395.075,1230.625,0]
[62,null,null,{"$f":"D1510*$G$2","v":2221.7250000000004},1791.3500000000001,1457.2250000000001,1285.3500000000001,0]
[63,null,null,{"$f":"D1511*$G$2","v":2333.65},1881.5500000000002,1530.3750000000002,1350.8000000000002,0]
[64,null,null,{"$f":"D1512*$G$2","v":2465.375},1988.5250000000001,1617.5500000000002,1426.9750000000001,0]
[65,null,null,{"$f":"D1513*$G$2","v":2635.6000000000004},2125.4750000000004,1728.65,1525.4250000000002,0]
[66,null,null,{"$f":"D1514*$G$2","v":2832.2250000000004},2283.875,1857.3500000000001,1639.0000000000002,0]
[67,null,null,{"$f":"D1515*$G$2","v":3057.4500000000003},2465.375,2005.3000000000002,1769.3500000000001,0]
[68,null,null,{"$f":"D1516*$G$2","v":3314.8500000000004},2673,2174.15,1918.95,0]
[69,null,null,{"$f":"D1517*$G$2","v":3619.0000000000005},2918.3,2373.8000000000002,2094.4,0]
[70,null,null,{"$f":"D1518*$G$2","v":3988.3250000000003},3215.5750000000003,2615.8000000000002,2308.625,0]
[71,null,null,{"$f":"D1519*$G$2","v":4389.8250000000007},3540.0750000000003,2878.9750000000004,2540.7250000000004,0]
[72,null,null,{"$f":"D1520*$G$2","v":4855.125},3915.7250000000004,3184.7750000000001,2809.9500000000003,0]
[73,null,null,{"$f":"D1521*$G$2","v":5388.0750000000007},4344.7250000000004,3534.3,3118.5000000000005,0]
[74,null,null,{"$f":"D1522*$G$2","v":6006.8250000000007},4843.8500000000004,3939.9250000000002,3476.2750000000001,0]
[75,null,null,{"$f":"D1523*$G$2","v":6729.2500000000009},5426.3,4413.4750000000004,3894.55,0]
[76,null,null,{"$f":"D1524*$G$2","v":7546.2750000000005},6084.9250000000002,4949.7250000000004,4367.55,0]
[77,null,null,{"$f":"D1525*$G$2","v":8474.9500000000007},6834.0250000000005,5558.5750000000007,4904.625,0]
[78,null,null,{"$f":"D1526*$G$2","v":9522.1500000000015},7678.2750000000005,6245.2500000000009,5511,0]
[79,null,null,{"$f":"D1527*$G$2","v":10698.6},8626.75,7016.9000000000005,6191.9000000000005,0]
[80,"o mas",null,{"$f":"D1528*$G$2","v":12105.775000000001},9762.2250000000004,7940.0750000000007,7006.4500000000007,0]
[1,"Hijo",null,{"$f":"D1529*$G$2","v":316.25},255.47500000000002,207.9,183.15,0]
[2,"Hijos",null,{"$f":"D1530*$G$2","v":518.92500000000007},418.55,340.45000000000005,300.57500000000005,0]
[3,"Hijos o más",null,{"$f":"D1531*$G$2","v":759.27500000000009},612.15000000000009,498.02500000000003,439.45000000000005,0]
[1,"Rider Comp. Maternidad",null,0,0,0,61.875000000000007,0]
[1,"Transplante de organos",null,82.5,82.5,82.5,82.5,0]
[null,"Deductible Waiver",null,0,0,0,0,0]
[]
[]
["TARIFAS MENSUALES"]
[]
["EDAD",null,null,"ET2","ET3","ET4","ET5","ET6"]
[18,null,null,{"$f":"D1466*$G$3","v":227.45333252100002},{"$f":"E1466*$G$3","v":183.493332678},149.23999946700002,131.786666196,0]
[19,null,null,{"$f":"D1467*$G$3","v":231.55999917300002},186.66666600000002,151.75999945800001,134.11999952100001,0]
[20,null,null,{"$f":"D1468*$G$3","v":235.47999915900002},189.93333265500002,154.55999944800001,136.453332846,0]
[21,null,null,{"$f":"D1469*$G$3","v":239.77333247700003},193.47999930900002,157.35999943800002,138.97333283700002,0]
[22,null,null,{"$f":"D1470*$G$3","v":244.15999912800001},196.83999929700002,160.15999942800002,141.399999495,0]
[23,null,null,{"$f":"D1471*$G$3","v":248.45333244600002},200.386665951,162.86666608500002,143.91999948599999,0]
[24,null,null,{"$f":"D1472*$G$3","v":252.839999097},203.746665939,165.853332741,146.34666614400001,0]
[25,null,null,{"$f":"D1473*$G$3","v":257.13333241499998},207.19999926,168.559999398,148.773332802,0]
[26,null,null,{"$f":"D1474*$G$3","v":261.42666573299999},210.83999924700001,171.45333272100001,151.38666612599999,0]
[27,null,null,{"$f":"D1475*$G$3","v":265.81333238400003},214.47999923400002,174.43999937700002,153.99999945000002,0]
[28,null,null,{"$f":"D1476*$G$3","v":270.66666570000001},218.30666588700001,177.51999936600001,156.61333277400001,0]
[29,null,null,{"$f":"D1477*$G$3","v":275.79999901500003},222.41333253900001,180.97333268700001,159.786666096,0]
[30,null,null,{"$f":"D1478*$G$3","v":280.83999899700001},226.51999919100001,184.33333267500001,162.58666608600001,0]
[31,null,null,{"$f":"D1479*$G$3","v":286.066665645},230.71999917600002,187.59999933,165.66666607499999,0]
[32,null,null,{"$f":"D1480*$G$3","v":290.91999896100003},234.63999916200001,190.77333265200002,168.37333273199999,0]
[33,null,null,{"$f":"D1481*$G$3","v":299.13333226500004},241.266665805,196.279999299,173.226666048,0]
[34,null,null,{"$f":"D1482*$G$3","v":307.34666556900004},247.89333244800002,201.59999928000002,177.79999936500002,0]
[35,null,null,{"$f":"D1483*$G$3","v":315.55999887300004},254.33333242500001,206.91999926100002,182.46666601500002,0]
[36,null,null,{"$f":"D1484*$G$3","v":323.58666551100004},260.959999068,212.23999924200001,187.413332664,0]
[37,null,null,{"$f":"D1485*$G$3","v":331.79999881500004},267.58666571100002,217.83999922200002,192.26666598,0]
[38,null,null,{"$f":"D1486*$G$3","v":340.19999878499999},274.39999902,223.25333253600002,196.93333263,0]
[39,null,null,{"$f":"D1487*$G$3","v":348.78666542100001},281.21333232900002,228.75999918300002,201.97333261200001,0]
[40,null,null,{"$f":"D1488*$G$3","v":356.99999872500001},288.11999897100003,234.26666583000002,206.73333259500001,0]
[41,null,null,{"$f":"D1489*$G$3","v":365.67999869400001},295.02666561300003,239.86666581,211.77333257700002,0]
[42,null,null,{"$f":"D1490*$G$3","v":374.07999866400002},301.653332256,245.55999912300001,216.53333256000002,0]
[43,null,null,{"$f":"D1491*$G$3","v":389.293331943},313.87999887900003,255.35999908800002,225.49333252800002,0]
[44,null,null,{"$f":"D1492*$G$3","v":404.31999855600003},326.106665502,265.43999905200002,234.26666583000002,0]
[45,null,null,{"$f":"D1493*$G$3","v":419.62666516800005},338.51999879100003,275.42666568300001,242.94666579900002,0]
[46,null,null,{"$f":"D1494*$G$3","v":435.11999844600001},350.83999874700004,285.59999898000001,251.81333243400002,0]
[47,null,null,{"$f":"D1495*$G$3","v":450.14666505900004},362.97333203700003,295.21333227900004,260.67999906900002,0]
[48,null,null,{"$f":"D1496*$G$3","v":466.29333166800001},376.03999865700001,305.759998908,269.91999903600004,0]
[49,null,null,{"$f":"D1497*$G$3","v":482.43999827700003},389.10666527699999,316.49333220300002,279.43999900200004,0]
[50,null,null,{"$f":"D1498*$G$3","v":498.58666488600005},402.07999856399999,326.94666549900001,288.679998969,0]
[51,null,null,{"$f":"D1499*$G$3","v":514.63999816199998},415.053331851,337.586665461,298.01333226899999,0]
[52,null,null,{"$f":"D1500*$G$3","v":530.69333143799997},427.93333180500002,348.22666542300004,307.15999890300003,0]
[53,null,null,{"$f":"D1501*$G$3","v":550.01333136900007},443.51999841600002,360.82666537800003,318.26666553000001,0]
[54,null,null,{"$f":"D1502*$G$3","v":568.95999796800004},458.82666502800004,373.14666533400003,329.37333215699999,0]
[55,null,null,{"$f":"D1503*$G$3","v":587.90666456700001},474.13333163999999,385.65333195600005,340.19999878499999,0]
[56,null,null,{"$f":"D1504*$G$3","v":606.94666449900001},489.34666491900003,398.159998578,351.399998745,0]
[57,null,null,{"$f":"D1505*$G$3","v":626.17333109700007},504.74666486400002,410.85333186600002,362.41333203900001,0]
[58,null,null,{"$f":"D1506*$G$3","v":649.50666434700008},523.879998129,426.066665145,376.03999865700001,0]
[59,null,null,{"$f":"D1507*$G$3","v":672.74666426400006},542.54666472899999,441.18666509100001,389.293331943,0]
[60,null,null,{"$f":"D1508*$G$3","v":696.26666418000002},561.21333132899997,456.586665036,402.919998561,0]
[61,null,null,{"$f":"D1509*$G$3","v":721.74666408899998},581.93333125499998,473.479998309,417.66666517499999,0]
[62,null,null,{"$f":"D1510*$G$3","v":754.03999730700002},607.97333116200002,494.57333156700003,436.239998442,0]
[63,null,null,{"$f":"D1511*$G$3","v":792.02666383799999},638.58666438600005,519.39999814500004,458.45333169600002,0]
[64,null,null,{"$f":"D1512*$G$3","v":836.73333034500001},674.89333092300001,548.98666470600006,484.30666493700005,0]
[65,null,null,{"$f":"D1513*$G$3","v":894.50666347200001},721.37333075700008,586.69333123800004,517.71999815100003,0]
[66,null,null,{"$f":"D1514*$G$3","v":961.23999656700005},775.13333056500005,630.37333108200005,556.26666468000008,0]
[67,null,null,{"$f":"D1515*$G$3","v":1037.6799962940001},836.73333034500001,680.58666423600005,600.50666452200005,0]
[68,null,null,{"$f":"D1516*$G$3","v":1125.0399959820002},907.19999676000009,737.893330698,651.27999767400001,0]
[69,null,null,{"$f":"D1517*$G$3","v":1228.26666228},990.45332979600005,805.65333045600005,710.82666412800006,0]
[70,null,null,{"$f":"D1518*$G$3","v":1353.6133284990001},1091.346662769,887.78666349600007,783.533330535,0]
[71,null,null,{"$f":"D1519*$G$3","v":1489.879994679},1201.4799957090001,977.10666317700009,862.306663587,0]
[72,null,null,{"$f":"D1520*$G$3","v":1647.7999941150001},1328.973328587,1080.893329473,953.67999659400004,0]
[73,null,null,{"$f":"D1521*$G$3","v":1828.679993469},1474.5733280670001,1199.519995716,1058.39999622,0]
[74,null,null,{"$f":"D1522*$G$3","v":2038.679992719},1643.973327462,1337.1866618910001,1179.8266624530002,0]
[75,null,null,{"$f":"D1523*$G$3","v":2283.86665851},1841.6533267560001,1497.906661317,1321.7866619460001,0]
[76,null,null,{"$f":"D1524*$G$3","v":2561.1599908530002},2065.1866592910001,1679.9066606670001,1482.319994706,0]
[77,null,null,{"$f":"D1525*$G$3","v":2876.3466563940001},2319.4266583829999,1886.546659929,1664.599994055,0]
[78,null,null,{"$f":"D1526*$G$3","v":3231.759988458},2605.9599906930002,2119.5999924299999,1870.39999332,0]
[79,null,null,{"$f":"D1527*$G$3","v":3631.0399870320002},2927.8666562100002,2381.4933248279999,2101.4933258280003,0]
[80,"o mas",null,{"$f":"D1528*$G$3","v":4108.6266519930005},3313.2399881670003,2694.8133237090001,2377.9466581740003,0]
[1,"Hijo",null,{"$f":"D1529*$G$3","v":107.33333295},86.706666357000003,70.55999974800001,62.159999778,0]
[2,"Hijos",null,{"$f":"D1530*$G$3","v":176.11999937100001},142.053332826,115.546666254,102.013332969,0]
[3,"Hijos o más",null,{"$f":"D1531*$G$3","v":257.69333241300001},207.75999925800002,169.02666606300002,149.14666613400001,0]
[1,"Rider Comp. Maternidad",null,0,0,0,20.999999925000001,0]
[1,"Transplante de organos",null,27.999999900000002,27.999999900000002,27.999999900000002,27.999999900000002,0]
[null,"Deductible Waiver",null,0,0,0,0,0]
[]
["BUPA UNIQUE CARE"]
["TARIFAS ANUALES"]
[]
["EDAD",null,null,"ET2","ET3","ET4","ET5","ET6"]
[18,null,null,{"$f":"L1765","v":2257},{"$f":"M1765","v":1614},1144,1014,824,null,null,null,{"$f":"DR!D458","v":2257},{"$f":"DR!E458","v":1614},{"$f":"DR!F458","v":1144},{"$f":"DR!G458","v":1014},{"$f":"DR!H458","v":824}]
[19,null,null,{"$f":"L1766","v":2297},{"$f":"M1766","v":1641},{"$f":"N1766","v":1169},{"$f":"O1766","v":1036},{"$f":"P1766","v":837},null,null,null,{"$f":"DR!D459","v":2297},{"$f":"DR!E459","v":1641},{"$f":"DR!F459","v":1169},{"$f":"DR!G459","v":1036},{"$f":"DR!H459","v":837}]
[20,null,null,2337,1668,1190,1055,851,null,null,null,{"$f":"DR!D460","v":2337},{"$f":"DR!E460","v":1668},{"$f":"DR!F460","v":1190},{"$f":"DR!G460","v":1055},{"$f":"DR!H460","v":851}]
[21,null,null,2380,1695,1214,1072,869,null,null,null,{"$f":"DR!D461","v":2380},{"$f":"DR!E461","v":1695},{"$f":"DR!F461","v":1214},{"$f":"DR!G461","v":1072},{"$f":"DR!H461","v":869}]
[22,null,null,2422,1723,1240,1091,885,null,null,null,{"$f":"DR!D462","v":2422},{"$f":"DR!E462","v":1723},{"$f":"DR!F462","v":1240},{"$f":"DR!G462","v":1091},{"$f":"DR!H462","v":885}]
[23,null,null,2464,1749,1267,1111,901,null,null,null,{"$f":"DR!D463","v":2464},{"$f":"DR!E463","v":1749},{"$f":"DR!F463","v":1267},{"$f":"DR!G463","v":1111},{"$f":"DR!H463","v":901}]
[24,null,null,2507,1776,1288,1133,915,null,null,null,{"$f":"DR!D464","v":2507},{"$f":"DR!E464","v":1776},{"$f":"DR!F464","v":1288},{"$f":"DR!G464","v":1133},{"$f":"DR!H464","v":915}]
[25,null,null,2550,1806,1313,1151,934,null,null,null,{"$f":"DR!D465","v":2550},{"$f":"DR!E465","v":1806},{"$f":"DR!F465","v":1313},{"$f":"DR!G465","v":1151},{"$f":"DR!H465","v":934}]
[26,null,null,2593,1833,1338,1170,948,null,null,null,{"$f":"DR!D466","v":2593},{"$f":"DR!E466","v":1833},{"$f":"DR!F466","v":1338},{"$f":"DR!G466","v":1170},{"$f":"DR!H466","v":948}]
[27,null,null,2637,1862,1362,1189,964,null,null,null,{"$f":"DR!D467","v":2637},{"$f":"DR!E467","v":1862},{"$f":"DR!F467","v":1362},{"$f":"DR!G467","v":1189},{"$f":"DR!H467","v":964}]
[28,null,null,2686,1893,1395,1213,986,null,null,null,{"$f":"DR!D468","v":2686},{"$f":"DR!E468","v":1893},{"$f":"DR!F468","v":1395},{"$f":"DR!G468","v":1213},{"$f":"DR!H468","v":986}]
[29,null,null,2737,1924,1423,1239,1001,null,null,null,{"$f":"DR!D469","v":2737},{"$f":"DR!E469","v":1924},{"$f":"DR!F469","v":1423},{"$f":"DR!G469","v":1239},{"$f":"DR!H469","v":1001}]
[30,null,null,2786,1957,1455,1262,1022,null,null,null,{"$f":"DR!D470","v":2786},{"$f":"DR!E470","v":1957},{"$f":"DR!F470","v":1455},{"$f":"DR!G470","v":1262},{"$f":"DR!H470","v":1022}]
[31,null,null,2837,1989,1485,1286,1042,null,null,null,{"$f":"DR!D471","v":2837},{"$f":"DR!E471","v":1989},{"$f":"DR!F471","v":1485},{"$f":"DR!G471","v":1286},{"$f":"DR!H471","v":1042}]
[32,null,null,2885,2020,1517,1309,1059,null,null,null,{"$f":"DR!D472","v":2885},{"$f":"DR!E472","v":2020},{"$f":"DR!F472","v":1517},{"$f":"DR!G472","v":1309},{"$f":"DR!H472","v":1059}]
[33,null,null,2968,2076,1561,1346,1091,null,null,null,{"$f":"DR!D473","v":2968},{"$f":"DR!E473","v":2076},{"$f":"DR!F473","v":1561},{"$f":"DR!G473","v":1346},{"$f":"DR!H473","v":1091}]
[34,null,null,3049,2128,1609,1384,1120,null,null,null,{"$f":"DR!D474","v":3049},{"$f":"DR!E474","v":2128},{"$f":"DR!F474","v":1609},{"$f":"DR!G474","v":1384},{"$f":"DR!H474","v":1120}]
[35,null,null,3129,2183,1655,1421,1151,null,null,null,{"$f":"DR!D475","v":3129},{"$f":"DR!E475","v":2183},{"$f":"DR!F475","v":1655},{"$f":"DR!G475","v":1421},{"$f":"DR!H475","v":1151}]
[36,null,null,3211,2238,1702,1460,1182,null,null,null,{"$f":"DR!D476","v":3211},{"$f":"DR!E476","v":2238},{"$f":"DR!F476","v":1702},{"$f":"DR!G476","v":1460},{"$f":"DR!H476","v":1182}]
[37,null,null,3293,2291,1746,1496,1211,null,null,null,{"$f":"DR!D477","v":3293},{"$f":"DR!E477","v":2291},{"$f":"DR!F477","v":1746},{"$f":"DR!G477","v":1496},{"$f":"DR!H477","v":1211}]
[38,null,null,3375,2347,1795,1534,1243,null,null,null,{"$f":"DR!D478","v":3375},{"$f":"DR!E478","v":2347},{"$f":"DR!F478","v":1795},{"$f":"DR!G478","v":1534},{"$f":"DR!H478","v":1243}]
[39,null,null,3461,2403,1842,1574,1274,null,null,null,{"$f":"DR!D479","v":3461},{"$f":"DR!E479","v":2403},{"$f":"DR!F479","v":1842},{"$f":"DR!G479","v":1574},{"$f":"DR!H479","v":1274}]
[40,null,null,3544,2460,1893,1615,1305,null,null,null,{"$f":"DR!D480","v":3544},{"$f":"DR!E480","v":2460},{"$f":"DR!F480","v":1893},{"$f":"DR!G480","v":1615},{"$f":"DR!H480","v":1305}]
[41,null,null,3627,2515,1941,1654,1334,null,null,null,{"$f":"DR!D481","v":3627},{"$f":"DR!E481","v":2515},{"$f":"DR!F481","v":1941},{"$f":"DR!G481","v":1654},{"$f":"DR!H481","v":1334}]
[42,null,null,3711,2570,1991,1691,1368,null,null,null,{"$f":"DR!D482","v":3711},{"$f":"DR!E482","v":2570},{"$f":"DR!F482","v":1991},{"$f":"DR!G482","v":1691},{"$f":"DR!H482","v":1368}]
[43,null,null,3863,2667,2073,1760,1422,null,null,null,{"$f":"DR!D483","v":3863},{"$f":"DR!E483","v":2667},{"$f":"DR!F483","v":2073},{"$f":"DR!G483","v":1760},{"$f":"DR!H483","v":1422}]
[44,null,null,4012,2770,2159,1829,1479,null,null,null,{"$f":"DR!D484","v":4012},{"$f":"DR!E484","v":2770},{"$f":"DR!F484","v":2159},{"$f":"DR!G484","v":1829},{"$f":"DR!H484","v":1479}]
[45,null,null,4164,2869,2247,1902,1533,null,null,null,{"$f":"DR!D485","v":4164},{"$f":"DR!E485","v":2869},{"$f":"DR!F485","v":2247},{"$f":"DR!G485","v":1902},{"$f":"DR!H485","v":1533}]
[46,null,null,4316,2971,2333,1970,1591,null,null,null,{"$f":"DR!D486","v":4316},{"$f":"DR!E486","v":2971},{"$f":"DR!F486","v":2333},{"$f":"DR!G486","v":1970},{"$f":"DR!H486","v":1591}]
[47,null,null,4465,3071,2420,2042,1643,null,null,null,{"$f":"DR!D487","v":4465},{"$f":"DR!E487","v":3071},{"$f":"DR!F487","v":2420},{"$f":"DR!G487","v":2042},{"$f":"DR!H487","v":1643}]
[48,null,null,4626,3178,2508,2115,1705,null,null,null,{"$f":"DR!D488","v":4626},{"$f":"DR!E488","v":3178},{"$f":"DR!F488","v":2508},{"$f":"DR!G488","v":2115},{"$f":"DR!H488","v":1705}]
[49,null,null,4788,3286,2596,2189,1765,null,null,null,{"$f":"DR!D489","v":4788},{"$f":"DR!E489","v":3286},{"$f":"DR!F489","v":2596},{"$f":"DR!G489","v":2189},{"$f":"DR!H489","v":1765}]
[50,null,null,4946,3391,2688,2265,1826,null,null,null,{"$f":"DR!D490","v":4946},{"$f":"DR!E490","v":3391},{"$f":"DR!F490","v":2688},{"$f":"DR!G490","v":2265},{"$f":"DR!H490","v":1826}]
[51,null,null,5107,3498,2775,2336,1883,null,null,null,{"$f":"DR!D491","v":5107},{"$f":"DR!E491","v":3498},{"$f":"DR!F491","v":2775},{"$f":"DR!G491","v":2336},{"$f":"DR!H491","v":1883}]
[52,null,null,5266,3605,2865,2409,1944,null,null,null,{"$f":"DR!D492","v":5266},{"$f":"DR!E492","v":3605},{"$f":"DR!F492","v":2865},{"$f":"DR!G492","v":2409},{"$f":"DR!H492","v":1944}]
[53,null,null,5458,3729,2975,2496,2013,null,null,null,{"$f":"DR!D493","v":5458},{"$f":"DR!E493","v":3729},{"$f":"DR!F493","v":2975},{"$f":"DR!G493","v":2496},{"$f":"DR!H493","v":2013}]
[54,null,null,5643,3855,3088,2588,2083,null,null,null,{"$f":"DR!D494","v":5643},{"$f":"DR!E494","v":3855},{"$f":"DR!F494","v":3088},{"$f":"DR!G494","v":2588},{"$f":"DR!H494","v":2083}]
[55,null,null,5833,3982,3193,2676,2154,null,null,null,{"$f":"DR!D495","v":5833},{"$f":"DR!E495","v":3982},{"$f":"DR!F495","v":3193},{"$f":"DR!G495","v":2676},{"$f":"DR!H495","v":2154}]
[56,null,null,6021,4107,3304,2763,2226,null,null,null,{"$f":"DR!D496","v":6021},{"$f":"DR!E496","v":4107},{"$f":"DR!F496","v":3304},{"$f":"DR!G496","v":2763},{"$f":"DR!H496","v":2226}]
[57,null,null,6211,4232,3414,2852,2295,null,null,null,{"$f":"DR!D497","v":6211},{"$f":"DR!E497","v":4232},{"$f":"DR!F497","v":3414},{"$f":"DR!G497","v":2852},{"$f":"DR!H497","v":2295}]
[58,null,null,6444,4379,3547,2962,2383,null,null,null,{"$f":"DR!D498","v":6444},{"$f":"DR!E498","v":4379},{"$f":"DR!F498","v":3547},{"$f":"DR!G498","v":2962},{"$f":"DR!H498","v":2383}]
[59,null,null,6675,4523,3677,3071,2469,null,null,null,{"$f":"DR!D499","v":6675},{"$f":"DR!E499","v":4523},{"$f":"DR!F499","v":3677},{"$f":"DR!G499","v":3071},{"$f":"DR!H499","v":2469}]
[60,null,null,6906,4667,3811,3180,2559,null,null,null,{"$f":"DR!D500","v":6906},{"$f":"DR!E500","v":4667},{"$f":"DR!F500","v":3811},{"$f":"DR!G500","v":3180},{"$f":"DR!H500","v":2559}]
[61,null,null,7160,4839,3970,3300,2653,null,null,null,{"$f":"DR!D501","v":7160},{"$f":"DR!E501","v":4839},{"$f":"DR!F501","v":3970},{"$f":"DR!G501","v":3300},{"$f":"DR!H501","v":2653}]
[62,null,null,7479,5051,4159,3444,2769,null,null,null,{"$f":"DR!D502","v":7479},{"$f":"DR!E502","v":5051},{"$f":"DR!F502","v":4159},{"$f":"DR!G502","v":3444},{"$f":"DR!H502","v":2769}]
[63,null,null,7857,5306,4367,3619,2906,null,null,null,{"$f":"DR!D503","v":7857},{"$f":"DR!E503","v":5306},{"$f":"DR!F503","v":4367},{"$f":"DR!G503","v":3619},{"$f":"DR!H503","v":2906}]
[64,null,null,8302,5603,4616,3822,3072,null,null,null,{"$f":"DR!D504","v":8302},{"$f":"DR!E504","v":5603},{"$f":"DR!F504","v":4616},{"$f":"DR!G504","v":3822},{"$f":"DR!H504","v":3072}]
[65,null,null,8872,5974,4960,4094,3289,null,null,null,{"$f":"DR!D505","v":8872},{"$f":"DR!E505","v":5974},{"$f":"DR!F505","v":4960},{"$f":"DR!G505","v":4094},{"$f":"DR!H505","v":3289}]
[66,null,null,9536,6405,5357,4408,3536,null,null,null,{"$f":"DR!D506","v":9536},{"$f":"DR!E506","v":6405},{"$f":"DR!F506","v":5357},{"$f":"DR!G506","v":4408},{"$f":"DR!H506","v":3536}]
[67,null,null,10293,6912,5783,4760,3815,null,null,null,{"$f":"DR!D507","v":10293},{"$f":"DR!E507","v":6912},{"$f":"DR!F507","v":5783},{"$f":"DR!G507","v":4760},{"$f":"DR!H507","v":3815}]
[68,null,null,11163,7489,6266,5153,4138,null,null,null,{"$f":"DR!D508","v":11163},{"$f":"DR!E508","v":7489},{"$f":"DR!F508","v":6266},{"$f":"DR!G508","v":5153},{"$f":"DR!H508","v":4138}]
[69,null,null,12185,8175,6839,5631,4513,null,null,null,{"$f":"DR!D509","v":12185},{"$f":"DR!E509","v":8175},{"$f":"DR!F509","v":6839},{"$f":"DR!G509","v":5631},{"$f":"DR!H509","v":4513}]
[70,null,null,13428,8958,7545,6224,4988,null,null,null,{"$f":"DR!D510","v":13428},{"$f":"DR!E510","v":8958},{"$f":"DR!F510","v":7545},{"$f":"DR!G510","v":6224},{"$f":"DR!H510","v":4988}]
[71,null,null,14780,9864,8375,6851,5489,null,null,null,{"$f":"DR!D511","v":14780},{"$f":"DR!E511","v":9864},{"$f":"DR!F511","v":8375},{"$f":"DR!G511","v":6851},{"$f":"DR!H511","v":5489}]
[72,null,null,16349,10905,9263,7577,6073,null,null,null,{"$f":"DR!D512","v":16349},{"$f":"DR!E512","v":10905},{"$f":"DR!F512","v":9263},{"$f":"DR!G512","v":7577},{"$f":"DR!H512","v":6073}]
[73,null,null,18142,12104,10276,8405,6736,null,null,null,{"$f":"DR!D513","v":18142},{"$f":"DR!E513","v":12104},{"$f":"DR!F513","v":10276},{"$f":"DR!G513","v":8405},{"$f":"DR!H513","v":6736}]
[74,null,null,{"$f":"L1821","v":20225},13490,11452,9370,7505,null,null,null,{"$f":"DR!D514","v":20225},{"$f":"DR!E514","v":13490},{"$f":"DR!F514","v":11452},{"$f":"DR!G514","v":9370},{"$f":"DR!H514","v":7505}]
[75,null,null,{"$f":"L1822","v":22658},{"$f":"M1822","v":15078},{"$f":"N1822","v":12830},{"$f":"O1822","v":10507},{"$f":"P1822","v":8418},null,null,null,{"$f":"DR!D515","v":22658},{"$f":"DR!E515","v":15078},{"$f":"DR!F515","v":12830},{"$f":"DR!G515","v":10507},{"$f":"DR!H515","v":8418}]
[76,null,null,25407,16906,14436,11785,9437,null,null,null,{"$f":"DR!D516","v":25407},{"$f":"DR!E516","v":16906},{"$f":"DR!F516","v":14436},{"$f":"DR!G516","v":11785},{"$f":"DR!H516","v":9437}]
[77,null,null,28536,18987,16224,13232,10601,null,null,null,{"$f":"DR!D517","v":28536},{"$f":"DR!E517","v":18987},{"$f":"DR!F517","v":16224},{"$f":"DR!G517","v":13232},{"$f":"DR!H517","v":10601}]
[78,null,null,32062,21331,18228,14869,11910,null,null,null,{"$f":"DR!D518","v":32062},{"$f":"DR!E518","v":21331},{"$f":"DR!F518","v":18228},{"$f":"DR!G518","v":14869},{"$f":"DR!H518","v":11910}]
[79,null,null,36023,23966,20479,16705,13381,null,null,null,{"$f":"DR!D519","v":36023},{"$f":"DR!E519","v":23966},{"$f":"DR!F519","v":20479},{"$f":"DR!G519","v":16705},{"$f":"DR!H519","v":13381}]
[80,"o mas",null,40762,27118,23171,18900,15140,null,null,null,{"$f":"DR!D520","v":40762},{"$f":"DR!E520","v":27118},{"$f":"DR!F520","v":23171},{"$f":"DR!G520","v":18900},{"$f":"DR!H520","v":15140}]
[1,"Hijo",null,1066,802,429,421,338,null,null,null,{"$f":"DR!D521","v":1066},{"$f":"DR!E521","v":802},{"$f":"DR!F521","v":429},{"$f":"DR!G521","v":421},{"$f":"DR!H521","v":338}]
[2,"Hijos",null,1747,1348,662,638,533,null,null,null,{"$f":"DR!D522","v":1747},{"$f":"DR!E522","v":1348},{"$f":"DR!F522","v":662},{"$f":"DR!G522","v":638},{"$f":"DR!H522","v":533}]
[3,"Hijos o más",null,2555,1977,959,917,772,null,null,null,{"$f":"DR!D523","v":2555},{"$f":"DR!E523","v":1977},{"$f":"DR!F523","v":959},{"$f":"DR!G523","v":917},{"$f":"DR!H523","v":772}]
[1,"Rider Comp. Maternidad",null,0,0,0,225,225,null,null,null,0,0,0,225,225]
[1,"Transplante de organos",null,300,300,300,300,300,null,null,null,300,300,300,300,300]
[null,"Deductible Waiver",null,45,180,345,775,1330,null,null,null,45,180,345,775,1330]
[]
[]
[]
["TARIFAS SEMESTRALES"]
[]
["EDAD",null,null,"ET2","ET3","ET4","ET5","ET6"]
[18,null,null,{"$f":"D1765*$G$1","v":1196.21},{"$f":"E1765*$G$1","v":855.42000000000007},606.32000000000005,537.42000000000007,436.72]
[19,null,null,{"$f":"D1766*$G$1","v":1217.4100000000001},869.73,619.57000000000005,549.08000000000004,443.61]
[20,null,null,{"$f":"D1767*$G$1","v":1238.6100000000001},884.04000000000008,630.70000000000005,559.15,451.03000000000003]
[21,null,null,{"$f":"D1768*$G$1","v":1261.4000000000001},898.35,643.42000000000007,568.16000000000008,460.57000000000005]
[22,null,null,{"$f":"D1769*$G$1","v":1283.6600000000001},913.19,657.2,578.23,469.05]
[23,null,null,{"$f":"D1770*$G$1","v":1305.92},926.97,671.51,588.83000000000004,477.53000000000003]
[24,null,null,{"$f":"D1771*$G$1","v":1328.71},941.28000000000009,682.64,600.49,484.95000000000005]
[25,null,null,{"$f":"D1772*$G$1","v":1351.5},957.18000000000006,695.89,610.03000000000009,495.02000000000004]
[26,null,null,{"$f":"D1773*$G$1","v":1374.29},971.49,709.14,620.1,502.44]
[27,null,null,{"$f":"D1774*$G$1","v":1397.6100000000001},986.86,721.86,630.17000000000007,510.92]
[28,null,null,{"$f":"D1775*$G$1","v":1423.5800000000002},1003.2900000000001,739.35,642.89,522.58000000000004]
[29,null,null,{"$f":"D1776*$G$1","v":1450.6100000000001},1019.72,754.19,656.67000000000007,530.53]
[30,null,null,{"$f":"D1777*$G$1","v":1476.5800000000002},1037.21,771.15000000000009,668.86,541.66000000000008]
[31,null,null,{"$f":"D1778*$G$1","v":1503.6100000000001},1054.17,787.05000000000007,681.58,552.26]
[32,null,null,{"$f":"D1779*$G$1","v":1529.0500000000002},1070.6000000000001,804.01,693.77,561.27]
[33,null,null,{"$f":"D1780*$G$1","v":1573.0400000000002},1100.28,827.33,713.38,578.23]
[34,null,null,{"$f":"D1781*$G$1","v":1615.97},1127.8400000000001,852.7700000000001,733.52,593.6]
[35,null,null,{"$f":"D1782*$G$1","v":1658.3700000000001},1156.99,877.15000000000009,753.13,610.03000000000009]
[36,null,null,{"$f":"D1783*$G$1","v":1701.8300000000002},1186.1400000000001,902.06000000000006,773.80000000000007,626.46]
[37,null,null,{"$f":"D1784*$G$1","v":1745.2900000000002},1214.23,925.38,792.88,641.83000000000004]
[38,null,null,{"$f":"D1785*$G$1","v":1788.75},1243.9100000000001,951.35,813.0200000000001,658.79000000000008]
[39,null,null,{"$f":"D1786*$G$1","v":1834.3300000000002},1273.5900000000001,976.2600000000001,834.22,675.22]
[40,null,null,{"$f":"D1787*$G$1","v":1878.3200000000002},1303.8,1003.2900000000001,855.95,691.65000000000009]
[41,null,null,{"$f":"D1788*$G$1","v":1922.3100000000002},1332.95,1028.73,876.62,707.02]
[42,null,null,{"$f":"D1789*$G$1","v":1966.8300000000002},1362.1000000000001,1055.23,896.23,725.04000000000008]
[43,null,null,{"$f":"D1790*$G$1","v":2047.39},1413.51,1098.69,932.80000000000007,753.66000000000008]
[44,null,null,{"$f":"D1791*$G$1","v":2126.36},1468.1000000000001,1144.27,969.37,783.87]
[45,null,null,{"$f":"D1792*$G$1","v":2206.92},1520.5700000000002,1190.9100000000001,1008.0600000000001,812.49]
[46,null,null,{"$f":"D1793*$G$1","v":2287.48},1574.63,1236.49,1044.1000000000001,843.23]
[47,null,null,{"$f":"D1794*$G$1","v":2366.4500000000003},1627.63,1282.6000000000001,1082.26,870.79000000000008]
[48,null,null,{"$f":"D1795*$G$1","v":2451.7800000000002},1684.3400000000001,1329.24,1120.95,903.65000000000009]
[49,null,null,{"$f":"D1796*$G$1","v":2537.6400000000003},1741.5800000000002,1375.88,1160.17,935.45]
[50,null,null,{"$f":"D1797*$G$1","v":2621.38},1797.23,1424.64,1200.45,967.78000000000009]
[51,null,null,{"$f":"D1798*$G$1","v":2706.71},1853.94,1470.75,1238.0800000000002,997.99]
[52,null,null,{"$f":"D1799*$G$1","v":2790.98},1910.65,1518.45,1276.77,1030.3200000000002]
[53,null,null,{"$f":"D1800*$G$1","v":2892.7400000000002},1976.3700000000001,1576.75,1322.88,1066.8900000000001]
[54,null,null,{"$f":"D1801*$G$1","v":2990.79},2043.15,1636.64,1371.64,1103.99]
[55,null,null,{"$f":"D1802*$G$1","v":3091.4900000000002},2110.46,1692.2900000000002,1418.28,1141.6200000000001]
[56,null,null,{"$f":"D1803*$G$1","v":3191.13},2176.71,1751.1200000000001,1464.39,1179.78]
[57,null,null,{"$f":"D1804*$G$1","v":3291.8300000000004},2242.96,1809.42,1511.5600000000002,1216.3500000000001]
[58,null,null,{"$f":"D1805*$G$1","v":3415.32},2320.87,1879.91,1569.8600000000001,1262.99]
[59,null,null,{"$f":"D1806*$G$1","v":3537.75},2397.19,1948.8100000000002,1627.63,1308.5700000000002]
[60,null,null,{"$f":"D1807*$G$1","v":3660.1800000000003},2473.5100000000002,2019.8300000000002,1685.4,1356.27]
[61,null,null,{"$f":"D1808*$G$1","v":3794.8},2564.67,2104.1,1749,1406.0900000000001]
[62,null,null,{"$f":"D1809*$G$1","v":3963.8700000000003},2677.03,2204.27,1825.3200000000002,1467.5700000000002]
[63,null,null,{"$f":"D1810*$G$1","v":4164.21},2812.1800000000003,2314.5100000000002,1918.0700000000002,1540.18]
[64,null,null,{"$f":"D1811*$G$1","v":4400.0600000000004},2969.59,2446.48,2025.66,1628.16]
[65,null,null,{"$f":"D1812*$G$1","v":4702.16},3166.2200000000003,2628.8,2169.8200000000002,1743.17]
[66,null,null,{"$f":"D1813*$G$1","v":5054.08},3394.65,2839.21,2336.2400000000002,1874.0800000000002]
[67,null,null,{"$f":"D1814*$G$1","v":5455.29},3663.36,3064.9900000000002,2522.8000000000002,2021.95]
[68,null,null,{"$f":"D1815*$G$1","v":5916.39},3969.17,3320.98,2731.09,2193.1400000000003]
[69,null,null,{"$f":"D1816*$G$1","v":6458.05},4332.75,3624.67,2984.4300000000003,2391.8900000000003]
[70,null,null,{"$f":"D1817*$G$1","v":7116.84},4747.7400000000007,3998.8500000000004,3298.7200000000003,2643.6400000000003]
[71,null,null,{"$f":"D1818*$G$1","v":7833.4000000000005},5227.92,4438.75,3631.03,2909.17]
[72,null,null,{"$f":"D1819*$G$1","v":8664.9700000000012},5779.6500000000005,4909.3900000000003,4015.8100000000004,3218.69]
[73,null,null,{"$f":"D1820*$G$1","v":9615.26},6415.12,5446.2800000000007,4454.6500000000005,3570.0800000000004]
[74,null,null,{"$f":"D1821*$G$1","v":10719.25},7149.7000000000007,6069.56,4966.1000000000004,3977.65]
[75,null,null,{"$f":"D1822*$G$1","v":12008.74},7991.34,6799.9000000000005,5568.71,4461.54]
[76,null,null,{"$f":"D1823*$G$1","v":13465.710000000001},8960.18,7651.0800000000008,6246.05,5001.6100000000006]
[77,null,null,{"$f":"D1824*$G$1","v":15124.08},10063.11,8598.7200000000012,7012.96,5618.5300000000007]
[78,null,null,{"$f":"D1825*$G$1","v":16992.86},11305.43,9660.84,7880.5700000000006,6312.3]
[79,null,null,{"$f":"D1826*$G$1","v":19092.190000000002},12701.980000000001,10853.87,8853.65,7091.93]
[80,"o mas",null,{"$f":"D1827*$G$1","v":21603.86},14372.54,12280.630000000001,10017,8024.2000000000007]
[1,"Hijo",null,{"$f":"D1828*$G$1","v":564.98},425.06,227.37,223.13000000000002,179.14000000000001]
[2,"Hijos",null,{"$f":"D1829*$G$1","v":925.91000000000008},714.44,350.86,338.14000000000004,282.49]
[3,"Hijos o más",null,{"$f":"D1830*$G$1","v":1354.15},1047.81,508.27000000000004,486.01000000000005,409.16]
[1,"Rider Comp. Maternidad",null,0,0,0,119.25,119.25]
[1,"Transplante de organos",null,159,159,159,159,159]
[null,"Deductible Waiver",null,23.85,95.4,182.85000000000002,410.75,704.90000000000009]
[]
[]
[]
[]
["TARIFAS TRIMESTRALES"]
[]
["EDAD",null,null,"ET2","ET3","ET4","ET5","ET6"]
[18,null,null,{"$f":"D1765*$G$2","v":620.67500000000007},{"$f":"E1765*$G$2","v":443.85},314.60000000000002,278.85000000000002,226.60000000000002]
[19,null,null,{"$f":"D1766*$G$2","v":631.67500000000007},451.27500000000003,321.47500000000002,284.90000000000003,230.17500000000001]
[20,null,null,{"$f":"D1767*$G$2","v":642.67500000000007},458.70000000000005,327.25,290.125,234.02500000000001]
[21,null,null,{"$f":"D1768*$G$2","v":654.5},466.12500000000006,333.85,294.8,238.97500000000002]
[22,null,null,{"$f":"D1769*$G$2","v":666.05000000000007},473.82500000000005,341,300.02500000000003,243.37500000000003]
[23,null,null,{"$f":"D1770*$G$2","v":677.6},480.97500000000002,348.42500000000001,305.52500000000003,247.77500000000003]
[24,null,null,{"$f":"D1771*$G$2","v":689.42500000000007},488.40000000000003,354.20000000000005,311.57500000000005,251.62500000000003]
[25,null,null,{"$f":"D1772*$G$2","v":701.25},496.65000000000003,361.07500000000005,316.52500000000003,256.85000000000002]
[26,null,null,{"$f":"D1773*$G$2","v":713.07500000000005},504.07500000000005,367.95000000000005,321.75,260.70000000000005]
[27,null,null,{"$f":"D1774*$G$2","v":725.17500000000007},512.05000000000007,374.55,326.97500000000002,265.10000000000002]
[28,null,null,{"$f":"D1775*$G$2","v":738.65000000000009},520.57500000000005,383.62500000000006,333.57500000000005,271.15000000000003]
[29,null,null,{"$f":"D1776*$G$2","v":752.67500000000007},529.1,391.32500000000005,340.72500000000002,275.27500000000003]
[30,null,null,{"$f":"D1777*$G$2","v":766.15000000000009},538.17500000000007,400.12500000000006,347.05,281.05]
[31,null,null,{"$f":"D1778*$G$2","v":780.17500000000007},546.97500000000002,408.37500000000006,353.65000000000003,286.55]
[32,null,null,{"$f":"D1779*$G$2","v":793.37500000000011},555.5,417.17500000000001,359.97500000000002,291.22500000000002]
[33,null,null,{"$f":"D1780*$G$2","v":816.2},570.90000000000009,429.27500000000003,370.15000000000003,300.02500000000003]
[34,null,null,{"$f":"D1781*$G$2","v":838.47500000000002},585.20000000000005,442.47500000000002,380.6,308]
[35,null,null,{"$f":"D1782*$G$2","v":860.47500000000002},600.32500000000005,455.12500000000006,390.77500000000003,316.52500000000003]
[36,null,null,{"$f":"D1783*$G$2","v":883.02500000000009},615.45000000000005,468.05,401.50000000000006,325.05]
[37,null,null,{"$f":"D1784*$G$2","v":905.57500000000005},630.02500000000009,480.15000000000003,411.40000000000003,333.02500000000003]
[38,null,null,{"$f":"D1785*$G$2","v":928.12500000000011},645.42500000000007,493.62500000000006,421.85,341.82500000000005]
[39,null,null,{"$f":"D1786*$G$2","v":951.77500000000009},660.82500000000005,506.55000000000007,432.85,350.35]
[40,null,null,{"$f":"D1787*$G$2","v":974.6},676.5,520.57500000000005,444.12500000000006,358.87500000000006]
[41,null,null,{"$f":"D1788*$G$2","v":997.42500000000007},691.625,533.77500000000009,454.85,366.85]
[42,null,null,{"$f":"D1789*$G$2","v":1020.5250000000001},706.75000000000011,547.52500000000009,465.02500000000003,376.20000000000005]
[43,null,null,{"$f":"D1790*$G$2","v":1062.325},733.42500000000007,570.07500000000005,484.00000000000006,391.05]
[44,null,null,{"$f":"D1791*$G$2","v":1103.3000000000002},761.75000000000011,593.72500000000002,502.97500000000002,406.72500000000002]
[45,null,null,{"$f":"D1792*$G$2","v":1145.1000000000001},788.97500000000002,617.92500000000007,523.05000000000007,421.57500000000005]
[46,null,null,{"$f":"D1793*$G$2","v":1186.9000000000001},817.02500000000009,641.57500000000005,541.75,437.52500000000003]
[47,null,null,{"$f":"D1794*$G$2","v":1227.875},844.52500000000009,665.5,561.55000000000007,451.82500000000005]
[48,null,null,{"$f":"D1795*$G$2","v":1272.1500000000001},873.95,689.7,581.625,468.87500000000006]
[49,null,null,{"$f":"D1796*$G$2","v":1316.7},903.65000000000009,713.90000000000009,601.97500000000002,485.37500000000006]
[50,null,null,{"$f":"D1797*$G$2","v":1360.15},932.52500000000009,739.2,622.875,502.15000000000003]
[51,null,null,{"$f":"D1798*$G$2","v":1404.4250000000002},961.95,763.12500000000011,642.40000000000009,517.82500000000005]
[52,null,null,{"$f":"D1799*$G$2","v":1448.15},991.37500000000011,787.87500000000011,662.47500000000002,534.6]
[53,null,null,{"$f":"D1800*$G$2","v":1500.95},1025.4750000000001,818.12500000000011,686.40000000000009,553.57500000000005]
[54,null,null,{"$f":"D1801*$G$2","v":1551.825},1060.125,849.2,711.7,572.82500000000005]
[55,null,null,{"$f":"D1802*$G$2","v":1604.075},1095.0500000000002,878.07500000000005,735.90000000000009,592.35]
[56,null,null,{"$f":"D1803*$G$2","v":1655.7750000000001},1129.4250000000002,908.6,759.82500000000005,612.15000000000009]
[57,null,null,{"$f":"D1804*$G$2","v":1708.0250000000001},1163.8000000000002,938.85,784.30000000000007,631.125]
[58,null,null,{"$f":"D1805*$G$2","v":1772.1000000000001},1204.2250000000001,975.42500000000007,814.55000000000007,655.32500000000005]
[59,null,null,{"$f":"D1806*$G$2","v":1835.6250000000002},1243.825,1011.1750000000001,844.52500000000009,678.97500000000002]
[60,null,null,{"$f":"D1807*$G$2","v":1899.15},1283.4250000000002,1048.0250000000001,874.50000000000011,703.72500000000002]
[61,null,null,{"$f":"D1808*$G$2","v":1969.0000000000002},1330.7250000000001,1091.75,907.50000000000011,729.57500000000005]
[62,null,null,{"$f":"D1809*$G$2","v":2056.7250000000004},1389.0250000000001,1143.7250000000001,947.1,761.47500000000002]
[63,null,null,{"$f":"D1810*$G$2","v":2160.6750000000002},1459.15,1200.9250000000002,995.22500000000014,799.15000000000009]
[64,null,null,{"$f":"D1811*$G$2","v":2283.0500000000002},1540.825,1269.4000000000001,1051.0500000000002,844.80000000000007]
[65,null,null,{"$f":"D1812*$G$2","v":2439.8000000000002},1642.8500000000001,1364,1125.8500000000001,904.47500000000002]
[66,null,null,{"$f":"D1813*$G$2","v":2622.4},1761.3750000000002,1473.1750000000002,1212.2,972.40000000000009]
[67,null,null,{"$f":"D1814*$G$2","v":2830.5750000000003},1900.8000000000002,1590.325,1309,1049.125]
[68,null,null,{"$f":"D1815*$G$2","v":3069.8250000000003},2059.4750000000004,1723.15,1417.075,1137.95]
[69,null,null,{"$f":"D1816*$G$2","v":3350.8750000000005},2248.125,1880.7250000000001,1548.5250000000001,1241.075]
[70,null,null,{"$f":"D1817*$G$2","v":3692.7000000000003},2463.4500000000003,2074.875,1711.6000000000001,1371.7]
[71,null,null,{"$f":"D1818*$G$2","v":4064.5000000000005},2712.6000000000004,2303.125,1884.0250000000001,1509.4750000000001]
[72,null,null,{"$f":"D1819*$G$2","v":4495.9750000000004},2998.8750000000005,2547.3250000000003,2083.6750000000002,1670.075]
[73,null,null,{"$f":"D1820*$G$2","v":4989.05},3328.6000000000004,2825.9,2311.375,1852.4]
[74,null,null,{"$f":"D1821*$G$2","v":5561.875},3709.7500000000005,3149.3,2576.75,2063.875]
[75,null,null,{"$f":"D1822*$G$2","v":6230.9500000000007},4146.4500000000007,3528.2500000000005,2889.4250000000002,2314.9500000000003]
[76,null,null,{"$f":"D1823*$G$2","v":6986.9250000000002},4649.1500000000005,3969.9000000000005,3240.8750000000005,2595.1750000000002]
[77,null,null,{"$f":"D1824*$G$2","v":7847.4000000000005},5221.4250000000002,4461.6000000000004,3638.8,2915.2750000000001]
[78,null,null,{"$f":"D1825*$G$2","v":8817.0500000000011},5866.0250000000005,5012.7000000000007,4088.9750000000004,3275.2500000000005]
[79,null,null,{"$f":"D1826*$G$2","v":9906.3250000000007},6590.6500000000005,5631.7250000000004,4593.875,3679.7750000000001]
[80,"o mas",null,{"$f":"D1827*$G$2","v":11209.550000000001},7457.4500000000007,6372.0250000000005,5197.5,4163.5]
[1,"Hijo",null,{"$f":"D1828*$G$2","v":293.15000000000003},220.55,117.97500000000001,115.77500000000001,92.95]
[2,"Hijos",null,{"$f":"D1829*$G$2","v":480.42500000000001},370.70000000000005,182.05,175.45000000000002,146.57500000000002]
[3,"Hijos o más",null,{"$f":"D1830*$G$2","v":702.625},543.67500000000007,263.72500000000002,252.17500000000001,212.3]
[1,"Rider Comp. Maternidad",null,0,0,0,61.875000000000007,61.875000000000007]
[1,"Transplante de organos",null,82.5,82.5,82.5,82.5,82.5]
[null,"Deductible Waiver",null,12.375000000000002,49.500000000000007,94.875000000000014,213.12500000000003,365.75000000000006]
[]
[]
["TARIFAS MENSUALES"]
[]
["EDAD",null,null,"ET2","ET3","ET4","ET5","ET6"]
[18,null,null,{"$f":"D1765*$G$3","v":210.653332581},{"$f":"E1765*$G$3","v":150.63999946200002},106.773332952,94.639999662000008,76.906666392000005]
[19,null,null,{"$f":"D1766*$G$3","v":214.38666590100001},153.15999945300001,109.106666277,96.693332988000009,78.119999720999999]
[20,null,null,{"$f":"D1767*$G$3","v":218.119999221},155.679999444,111.06666627,98.466666314999998,79.426666382999997]
[21,null,null,{"$f":"D1768*$G$3","v":222.13333254},158.199999435,113.30666626200001,100.05333297600001,81.10666637700001]
[22,null,null,{"$f":"D1769*$G$3","v":226.05333252600002},160.81333275900002,115.73333292000001,101.82666630300001,82.599999705000002]
[23,null,null,{"$f":"D1770*$G$3","v":229.97333251200001},163.23999941700001,118.253332911,103.693332963,84.093333033000008]
[24,null,null,{"$f":"D1771*$G$3","v":233.98666583100001},165.759999408,120.21333290400001,105.746666289,85.399999695000005]
[25,null,null,{"$f":"D1772*$G$3","v":237.99999915000001},168.559999398,122.54666622900001,107.426666283,87.173333022000008]
[26,null,null,{"$f":"D1773*$G$3","v":242.01333246900001},171.07999938899999,124.87999955400001,109.19999961000001,88.479999684000006]
[27,null,null,{"$f":"D1774*$G$3","v":246.11999912100001},173.78666604600002,127.119999546,110.97333293700001,89.973333011999998]
[28,null,null,{"$f":"D1775*$G$3","v":250.693332438},176.679999369,130.19999953500002,113.213332929,92.026666337999998]
[29,null,null,{"$f":"D1776*$G$3","v":255.453332421},179.57333269200001,132.81333285900001,115.63999958700001,93.426666333]
[30,null,null,{"$f":"D1777*$G$3","v":260.02666573800002},182.65333268099999,135.799999515,117.78666624600001,95.386666326000011]
[31,null,null,{"$f":"D1778*$G$3","v":264.78666572100002},185.63999933700001,138.599999505,120.026666238,97.253332986000004]
[32,null,null,{"$f":"D1779*$G$3","v":269.26666570500004},188.53333266000001,141.58666616100001,122.17333289700001,98.839999646999999]
[33,null,null,{"$f":"D1780*$G$3","v":277.01333234399999},193.759999308,145.69333281300001,125.62666621800001,101.82666630300001]
[34,null,null,{"$f":"D1781*$G$3","v":284.57333231699999},198.61333262400001,150.173332797,129.173332872,104.53333296000001]
[35,null,null,{"$f":"D1782*$G$3","v":292.03999895700002},203.746665939,154.46666611500001,132.62666619300001,107.426666283]
[36,null,null,{"$f":"D1783*$G$3","v":299.693332263},208.87999925400001,158.85333276599999,136.26666618000002,110.31999960600001]
[37,null,null,{"$f":"D1784*$G$3","v":307.34666556900004},213.82666590300002,162.959999418,139.62666616800001,113.02666626300001]
[38,null,null,{"$f":"D1785*$G$3","v":314.99999887500002},219.05333255100001,167.53333273500002,143.17333282200002,116.01333291900001]
[39,null,null,{"$f":"D1786*$G$3","v":323.02666551300001},224.279999199,171.919999386,146.90666614200001,118.906666242]
[40,null,null,{"$f":"D1787*$G$3","v":330.77333215200002},229.59999918,176.679999369,150.733332795,121.79999956500001]
[41,null,null,{"$f":"D1788*$G$3","v":338.51999879100003},234.73333249500001,181.15999935300002,154.37333278200001,124.50666622200001]
[42,null,null,{"$f":"D1789*$G$3","v":346.35999876300002},239.86666581,185.82666600300001,157.82666610300001,127.67999954400001]
[43,null,null,{"$f":"D1790*$G$3","v":360.54666537899999},248.91999911100001,193.47999930900002,164.26666608000002,132.71999952600001]
[44,null,null,{"$f":"D1791*$G$3","v":374.45333199600003},258.53333241000001,201.50666594700002,170.70666605700001,138.039999507]
[45,null,null,{"$f":"D1792*$G$3","v":388.639998612},267.77333237700003,209.71999925100002,177.51999936600001,143.07999948900002]
[46,null,null,{"$f":"D1793*$G$3","v":402.82666522800002},277.29333234300003,217.74666588900001,183.86666601000002,148.49333280300002]
[47,null,null,{"$f":"D1794*$G$3","v":416.73333184500001},286.62666564300002,225.86666586000001,190.58666598600001,153.34666611900002]
[48,null,null,{"$f":"D1795*$G$3","v":431.75999845800004},296.61333227400002,234.07999916400001,197.39999929500001,159.13333276500001]
[49,null,null,{"$f":"D1796*$G$3","v":446.87999840400005},306.69333223800004,242.29333246800002,204.30666593700002,164.73333274500001]
[50,null,null,{"$f":"D1797*$G$3","v":461.62666501800004},316.49333220300002,250.87999910400001,211.399999245,170.426666058]
[51,null,null,{"$f":"D1798*$G$3","v":476.65333163100001},326.47999883400001,258.99999907500001,218.026665888,175.74666603900002]
[52,null,null,{"$f":"D1799*$G$3","v":491.49333157800004},336.46666546500001,267.39999904500002,224.839999197,181.439999352]
[53,null,null,{"$f":"D1800*$G$3","v":509.41333151400005},348.03999875700003,277.66666567499999,232.95999916800002,187.87999932900001]
[54,null,null,{"$f":"D1801*$G$3","v":526.67999811900006},359.79999871500002,288.21333230400001,241.54666580400001,194.413332639]
[55,null,null,{"$f":"D1802*$G$3","v":544.41333138900006},371.65333200600003,298.01333226899999,249.75999910800002,201.039999282]
[56,null,null,{"$f":"D1803*$G$3","v":561.959997993},383.31999863100003,308.373332232,257.87999907900002,207.75999925800002]
[57,null,null,{"$f":"D1804*$G$3","v":579.693331263},394.98666525600004,318.63999886200003,266.18666571599999,214.19999923500001]
[58,null,null,{"$f":"D1805*$G$3","v":601.43999785200003},408.70666520700001,331.05333215100001,276.45333234600002,222.41333253900001]
[59,null,null,{"$f":"D1806*$G$3","v":622.999997775},422.14666515900001,343.186665441,286.62666564300002,230.439999177]
[60,null,null,{"$f":"D1807*$G$3","v":644.55999769800007},435.586665111,355.69333206300001,296.79999894000002,238.83999914700001]
[61,null,null,{"$f":"D1808*$G$3","v":668.26666427999999},451.63999838700005,370.53333201000004,307.99999890000004,247.61333244900001]
[62,null,null,{"$f":"D1809*$G$3","v":698.03999750700007},471.42666498300002,388.17333194700001,321.43999885200003,258.43999907700004]
[63,null,null,{"$f":"D1810*$G$3","v":733.31999738100001},495.22666489800002,407.58666521100002,337.773332127,271.22666569800003]
[64,null,null,{"$f":"D1811*$G$3","v":774.85333056600007},522.94666479900002,430.826665128,356.71999872600003,286.719998976]
[65,null,null,{"$f":"D1812*$G$3","v":828.05333037600008},557.57333134200007,462.93333168000004,382.10666530200001,306.97333223700002]
[66,null,null,{"$f":"D1813*$G$3","v":890.02666348800005},597.79999786500002,499.98666488100002,411.41333186400004,330.02666548799999]
[67,null,null,{"$f":"D1814*$G$3","v":960.67999656900008},645.11999769600004,539.74666473900004,444.26666508,356.06666539500003]
[68,null,null,{"$f":"D1815*$G$3","v":1041.8799962790001},698.97333083700005,584.82666457800008,480.94666494900002,386.21333195400001]
[69,null,null,{"$f":"D1816*$G$3","v":1137.266662605},762.99999727500006,638.30666438700007,525.55999812300001,421.21333182900003]
[70,null,null,{"$f":"D1817*$G$3","v":1253.279995524},836.07999701400001,704.19999748500004,580.90666459200008,465.54666500400003]
[71,null,null,{"$f":"D1818*$G$3","v":1379.4666617400001},920.63999671200008,781.66666387500004,639.426664383,512.30666483699997]
[72,null,null,{"$f":"D1819*$G$3","v":1525.906661217},1017.7999963650001,864.5466635790001,707.18666414100005,566.81333130899998]
[73,null,null,{"$f":"D1820*$G$3","v":1693.2533272860001},1129.706662632,959.0933299080001,784.46666386499999,628.69333108800004]
[74,null,null,{"$f":"D1821*$G$3","v":1887.666659925},1259.06666217,1068.853329516,874.53333021000003,700.466664165]
[75,null,null,{"$f":"D1822*$G$3","v":2114.7466591140001},1407.2799949740001,1197.46666239,980.65332983100006,785.67999719400007]
[76,null,null,{"$f":"D1823*$G$3","v":2371.3199915310001},1577.8933276980001,1347.3599951880001,1099.933329405,880.78666352100004]
[77,null,null,{"$f":"D1824*$G$3","v":2663.3599904880002},1772.119993671,1514.2399945920001,1234.986662256,989.42666313300003]
[78,null,null,{"$f":"D1825*$G$3","v":2992.4533226460003},1990.893326223,1701.2799939240001,1387.7733283770001,1111.5999960300001]
[79,null,null,{"$f":"D1826*$G$3","v":3362.146654659},2236.8266586780001,1911.373326507,1559.1333277650001,1248.893328873]
[80,"o mas",null,{"$f":"D1827*$G$3","v":3804.453319746},2531.0133242940001,2162.6266589430002,1763.9999937,1413.0666616200001]
[1,"Hijo",null,{"$f":"D1828*$G$3","v":99.493332977999998},74.853333066000005,40.039999857000005,39.293333193000002,31.546666554000002]
[2,"Hijos",null,{"$f":"D1829*$G$3","v":163.053332751},125.813332884,61.786666446000005,59.546666454000004,49.746666488999999]
[3,"Hijos o más",null,{"$f":"D1830*$G$3","v":238.466665815},184.51999934100002,89.506666347000007,85.586666360999999,72.053333076000001]
[1,"Rider Comp. Maternidad",null,0,0,0,20.999999925000001,20.999999925000001]
[1,"Transplante de organos",null,27.999999900000002,27.999999900000002,27.999999900000002,27.999999900000002,27.999999900000002]
[null,"Deductible Waiver",null,4.1999999849999998,16.799999939999999,32.199999885000004,72.333333074999999,124.13333289000001]

{"sheet":"DR","index":7,"n_rows":525,"n_cols":16,"rows_kept":525,"cut":false,"hidden":true,"merged":[[454,0,454,7],[455,2,455,6],[456,0,456,1],[379,0,379,7],[380,0,380,7],[381,2,381,6],[382,0,382,1],[453,0,453,7],[302,0,302,7],[303,0,303,7],[304,2,304,6],[305,0,305,1],[121,11,121,13],[228,10,228,11],[229,0,229,7],[121,14,121,16],[121,46,121,48],[121,49,121,51],[121,52,121,54],[121,24,121,26],[121,27,121,29],[121,30,121,32],[121,33,121,35],[121,40,121,42],[121,43,121,45],[120,38,120,39],[120,40,120,44],[119,19,119,35],[119,38,119,54],[121,21,121,23],[120,19,120,20],[120,21,120,25],[229,16,229,17],[230,2,230,6],[231,0,231,1],[228,0,228,7],[155,0,155,7],[157,0,157,1],[156,2,156,6],[1,8,1,9],[121,8,121,10],[84,0,84,1],[83,2,83,6],[154,0,154,7],[4,0,4,7],[5,0,5,7],[7,0,7,1],[6,2,6,6],[43,0,43,7],[44,0,44,7],[46,0,46,1],[45,2,45,6],[81,0,81,7],[82,0,82,7]]}
[null,null,null,null,null,null,null,null,null,null,"D1","D2","D3","D4","D5","D6"]
[null,"REGIÓN",{"$f":"'INGRESO DE DATOS'!W14","v":"REPÚBLICA DOMINICANA"},null,"FACTOR SEMESTRAL :",null,0.53,null,"NEW BUSINESS DISCUOUNTS",null,{"$f":"'INGRESO DE DATOS'!O54","v":1},{"$f":"'INGRESO DE DATOS'!P54","v":1},{"$f":"'INGRESO DE DATOS'!Q54","v":0.8},{"$f":"'INGRESO DE DATOS'!R54","v":0.8},{"$f":"'INGRESO DE DATOS'!S54","v":1},{"$f":"'INGRESO DE DATOS'!T54","v":1}]
[]
[]
["BUPA COMPLETE  CARE"]
["TARIFAS ANUALES"]
[]
["EDAD",null,"CW1","CW2","CW3","CW4","CW5","CW6"]
[18,"18-24"]
[25,"25-29"]
[30,"30-34"]
[35,"35-39"]
[40,"40-44"]
[45,"45-49"]
[50,"50-54"]
[55,"55-59"]
[60,"60"]
[61,"61"]
[62,"62"]
[63,"63"]
[64,"64"]
[65,"65"]
[66,"66"]
[67,"67"]
[68,"68"]
[69,"69"]
[70,"70"]
[71,"71"]
[72,"72"]
[73,"73"]
[74,"74"]
[75,"75+"]
[1,"1 Child"]
[2,"2 Children"]
[3,"3+ Children"]
[1,"Rider Comp. Maternidad"]
[1,"Transplante de organos"]
[]
[]
[]
[]
[]
[]
["BUPA SECURE CARE"]
["TARIFAS ANUALES"]
[]
["EDAD",null,null,"SE2","SE3","SE4","SE5","SE6"]
[18,"18-24"]
[25,"25-29"]
[30,"30-34"]
[35,"35-39"]
[40,"40-44"]
[45,"45-49"]
[50,"50-54"]
[55,"55-59"]
[60,"60"]
[61,"61"]
[62,"62"]
[63,"63"]
[64,"64"]
[65,"65"]
[66,"66"]
[67,"67"]
[68,"68"]
[69,"69"]
[70,"70"]
[71,"71"]
[72,"72"]
[73,"73"]
[74,"74"]
[75,"75+"]
[1,"1 Child"]
[2,"2 Children"]
[3,"3+ Children"]
[1,"Rider Comp. Maternidad"]
[1,"Transplante de organos"]
[]
[]
[]
[]
[]
["BUPA ESSENTIAL CARE"]
["TARIFAS ANUALES"]
[]
["EDAD",null,"ET1","ET2","ET3","ET4","ET5","ET6"]
[18,null,1874,1702,1545,1332]
[19,null,1874,1702,1545,1332]
[20,null,1874,1702,1545,1332]
[21,null,1874,1702,1545,1332]
[22,null,1874,1702,1545,1332]
[23,null,1874,1702,1545,1332]
[24,null,1874,1702,1545,1332]
[25,null,2106,1913,1738,1499]
[26,null,2106,1913,1738,1499]
[27,null,2106,1913,1738,1499]
[28,null,2106,1913,1738,1499]
[29,null,2106,1913,1738,1499]
[30,null,2361,2145,1951,1682]
[31,null,2361,2145,1951,1682]
[32,null,2361,2145,1951,1682]
[33,null,2361,2145,1951,1682]
[34,null,2361,2145,1951,1682]
[35,null,2696,2448,2225,1919]
[36,null,2696,2448,2225,1919]
[37,null,2696,2448,2225,1919]
[38,null,2696,2448,2225,1919]
[39,null,2696,2448,2225,1919]
[40,null,3126,2838,2578,2223]
[41,null,3126,2838,2578,2223]
[42,null,3126,2838,2578,2223]
[43,null,3126,2838,2578,2223]
[44,null,3126,2838,2578,2223]
[45,null,3735,3391,3082,2657]
[46,null,3735,3391,3082,2657]
[47,null,3735,3391,3082,2657]
[48,null,3735,3391,3082,2657]
[49,null,3735,3391,3082,2657]
[50,null,4458,4048,3677,3170]
[51,null,4458,4048,3677,3170]
[52,null,4458,4048,3677,3170]
[53,null,4458,4048,3677,3170]
[54,null,4458,4048,3677,3170]
[55,null,5303,4816,4377,3773]
[56,null,5303,4816,4377,3773]
[57,null,5303,4816,4377,3773]
[58,null,5303,4816,4377,3773]
[59,null,5303,4816,4377,3773]
[60,null,5883,5344,4854,4185]
[61,null,6128,5564,5055,4358]
[62,null,6422,5832,5300,4569]
[63,null,6742,6123,5563,4795]
[64,null,7127,6473,5880,5069]
[65,null,7660,6955,6318,5447]
[66,null,8274,7513,6826,5883]
[67,null,8931,8110,7369,6351]
[68,null,9681,8788,7986,6883]
[69,null,10563,9591,8715,7512]
[70,null,11657,10584,9618,8289]
[71,null,12940,11749,10675,9201]
[72,null,14313,12997,11808,10177]
[73,null,15880,14419,13100,11292]
[74,null,17697,16068,14599,12585]
[75,null,19828,18003,16358,14100]
[76,null,19828,18003,16358,14100]
[77,null,19828,18003,16358,14100]
[78,null,19828,18003,16358,14100]
[79,null,19828,18003,16358,14100]
[80,"o mas",19828,18003,16358,14100]
[1,"Hijo",664,601,547,472]
[2,"Hijos",1022,927,843,726]
[3,"Hijos o más",1483,1348,1225,1056]
[1,"Rider Comp. Maternidad",225,225,225,0]
[1,"Transplante de organos",300,300,300,300]
[]
["BUPA ELITE"]
["TARIFAS ANUALES"]
[]
["EDAD",null,null,"ET2","ET3","ET4","ET5","ET6"]
[18,null,null,9588,6148,4873,4025,2924]
[19,null,null,9775,6265,4969,4099,2978]
[20,null,null,9973,6378,5066,4179,3033]
[21,null,null,10166,6500,5157,4255,3093]
[22,null,null,10373,6624,5254,4338,3150]
[23,null,null,10565,6738,5356,4415,3205]
[24,null,null,10769,6862,5451,4491,3263]
[25,null,null,10963,6979,5550,4575,3326]
[26,null,null,11165,7099,5653,4653,3385]
[27,null,null,11366,7223,5750,4733,3438]
[28,null,null,11609,7365,5871,4838,3523]
[29,null,null,11859,7508,5989,4945,3606]
[30,null,null,12107,7648,6093,5054,3693]
[31,null,null,12355,7789,6213,5159,3781]
[32,null,null,12602,7934,6330,5271,3862]
[33,null,null,12955,8122,6485,5400,3980]
[34,null,null,13315,8315,6642,5529,4098]
[35,null,null,13666,8503,6798,5656,4214]
[36,null,null,14020,8690,6957,5786,4327]
[37,null,null,14371,8881,7112,5913,4444]
[38,null,null,14849,9191,7372,6093,4587]
[39,null,null,15322,9499,7625,6284,4733]
[40,null,null,15800,9808,7885,6464,4881]
[41,null,null,16271,10122,8143,6653,5021]
[42,null,null,16749,10428,8393,6836,5168]
[43,null,null,17346,10792,8683,7039,5330]
[44,null,null,17934,11151,8976,7248,5494]
[45,null,null,18535,11511,9265,7443,5657]
[46,null,null,19125,11871,9557,7648,5817]
[47,null,null,19719,12229,9842,7847,5990]
[48,null,null,20457,12646,10200,8119,6202]
[49,null,null,21191,13065,10551,8393,6413]
[50,null,null,21930,13486,10902,8664,6625]
[51,null,null,22669,13912,11252,8943,6836]
[52,null,null,23400,14322,11608,9213,7047]
[53,null,null,24297,14884,12025,9547,7318]
[54,null,null,25192,15453,12444,9873,7579]
[55,null,null,26083,16019,12867,10210,7845]
[56,null,null,26979,16584,13287,10543,8114]
[57,null,null,27870,17146,13706,10880,8381]
[58,null,null,28955,17899,14250,11314,8723]
[59,null,null,30043,18651,14790,11762,9074]
[60,null,null,31129,19402,15330,12196,9422]
[61,null,null,32416,20337,16050,12758,9865]
[62,null,null,33931,21469,16958,13455,10530]
[63,null,null,35701,22843,18089,14304,11313]
[64,null,null,37732,24457,19446,15351,12234]
[65,null,null,40070,26326,21043,16628,13301]
[66,null,null,42755,28461,22906,18160,14599]
[67,null,null,45828,30912,25050,19973,16144]
[68,null,null,49438,33814,27554,22100,17959]
[69,null,null,53602,37225,30460,24587,20076]
[70,null,null,58370,41146,33824,27479,22548]
[71,null,null,63805,45611,37672,30813,25402]
[72,null,null,69977,50676,42060,34617,28677]
[73,null,null,76883,56365,47015,38921,32421]
[74,null,null,84701,62798,52618,43757,36678]
[75,null,null,93490,69988,58940,49206,41476]
[76,null,null,103541,78321,66056,55344,46848]
[77,null,null,115609,87947,74253,62405,52959]
[78,null,null,130178,99446,83608,70534,59975]
[79,null,null,147771,113119,94502,79828,68026]
[80,"o mas",null,168879,129274,107487,90908,77569]
[1,"Hijo",null,4078,2837,2071,1703,1492]
[2,"Hijos",null,6273,4608,3271,2699,2364]
[3,"Hijos o más",null,9156,6736,4762,3924,3418]
[1,"Rider Comp. Maternidad"]
[1,"Transplante de organos"]
[null,"Deductible Waiver"]
[]
["BUPA UNIQUE CARE: DEDUCCIBLE CERO"]
["TARIFAS ANUALES"]
[]
["EDAD",null,null,"ET2","ET3","ET4","ET5","ET6"]
[18,null,null,3876,3412,3052,2694]
[19,null,null,3945,3471,3103,2743]
[20,null,null,4013,3532,3160,2790]
[21,null,null,4086,3597,3218,2841]
[22,null,null,4162,3660,3276,2892]
[23,null,null,4235,3725,3330,2943]
[24,null,null,4308,3787,3391,2992]
[25,null,null,4381,3852,3447,3042]
[26,null,null,4455,3919,3507,3096]
[27,null,null,4530,3987,3567,3149]
[28,null,null,4613,4059,3631,3203]
[29,null,null,4700,4135,3701,3267]
[30,null,null,4785,4211,3769,3325]
[31,null,null,4875,4289,3837,3387]
[32,null,null,4958,4362,3902,3444]
[33,null,null,5098,4485,4013,3542]
[34,null,null,5238,4609,4123,3636]
[35,null,null,5378,4729,4231,3731]
[36,null,null,5514,4850,4341,3833]
[37,null,null,5655,4975,4455,3932]
[38,null,null,5798,5101,4565,4028]
[39,null,null,5945,5229,4679,4131]
[40,null,null,6085,5357,4791,4228]
[41,null,null,6231,5484,4905,4330]
[42,null,null,6375,5609,5021,4429]
[43,null,null,6633,5836,5223,4611]
[44,null,null,6892,6063,5428,4790]
[45,null,null,7152,6293,5632,4969]
[46,null,null,7416,6523,5840,5150]
[47,null,null,7672,6749,6038,5331]
[48,null,null,7946,6990,6253,5521]
[49,null,null,8223,7235,6473,5714]
[50,null,null,8497,7475,6687,5903]
[51,null,null,8770,7717,6904,6094]
[52,null,null,9046,7956,7121,6282]
[53,null,null,9375,8246,7379,6509]
[54,null,null,9696,8531,7632,6736]
[55,null,null,10020,8815,7887,6958]
[56,null,null,10344,9099,8143,7187]
[57,null,null,10673,9384,8402,7413]
[58,null,null,11070,9739,8715,7691]
[59,null,null,11466,10088,9024,7961]
[60,null,null,11867,10435,9339,8240]
[61,null,null,12302,10820,9684,8543]
[62,null,null,12851,11304,10115,8923]
[63,null,null,13499,11875,10624,9377]
[64,null,null,14262,12548,11228,9906]
[65,null,null,15245,13413,11999,10589]
[66,null,null,16384,14413,12893,11378]
[67,null,null,17688,15559,13920,12282]
[68,null,null,19176,16869,15093,13320]
[69,null,null,20934,18416,16478,14539]
[70,null,null,23071,20294,18159,16026]
[71,null,null,25394,22339,19986,17637]
[72,null,null,28088,24710,22109,19506]
[73,null,null,31169,27417,24534,21648]
[74,null,null,34750,30567,27351,24132]
[75,null,null,38928,34245,30639,27035]
[76,null,null,43655,38401,34361,30319]
[77,null,null,49028,43128,38588,34048]
[78,null,null,55086,48456,43355,38257]
[79,null,null,61892,54443,48712,42984]
[80,"o mas",null,70033,61607,55121,48638]
[1,"Hijo",null,1829,1611,1442,1270]
[2,"Hijos",null,3000,2640,2363,2085]
[3,"Hijos o más",null,4392,3862,3457,3049]
[1,"Rider Comp. Maternidad",null,225,225,225,225]
[1,"Transplante de organos",null,300,300,300,300]
[null,"Deductible Waiver",null,180,345,775,1330]
[]
["BUPA UNIQUE CARE"]
["TARIFAS ANUALES"]
[]
["EDAD",null,null,"ET2","ET3","ET4","ET5","ET6"]
[18,null,null,3589,2794,2176,1929,1565]
[19,null,null,3654,2840,2224,1970,1591]
[20,null,null,3716,2886,2264,2006,1617]
[21,null,null,3785,2935,2310,2040,1651]
[22,null,null,3852,2982,2358,2076,1683]
[23,null,null,3920,3028,2411,2112,1712]
[24,null,null,3988,3075,2451,2154,1740]
[25,null,null,4057,3127,2500,2189,1775]
[26,null,null,4124,3174,2546,2226,1803]
[27,null,null,4195,3224,2592,2263,1831]
[28,null,null,4272,3278,2655,2309,1874]
[29,null,null,4354,3331,2709,2357,1903]
[30,null,null,4431,3389,2771,2401,1942]
[31,null,null,4513,3444,2827,2447,1981]
[32,null,null,4589,3498,2887,2490,2015]
[33,null,null,4721,3595,2971,2563,2075]
[34,null,null,4849,3687,3064,2634,2130]
[35,null,null,4977,3783,3152,2706,2189]
[36,null,null,5108,3877,3240,2778,2249]
[37,null,null,5238,3970,3324,2847,2305]
[38,null,null,5369,4066,3420,2922,2364]
[39,null,null,5505,4163,3510,2997,2424]
[40,null,null,5636,4262,3606,3074,2482]
[41,null,null,5769,4356,3698,3150,2540]
[42,null,null,5903,4452,3792,3219,2605]
[43,null,null,6144,4623,3950,3351,2708]
[44,null,null,6382,4799,4115,3485,2816]
[45,null,null,6623,4972,4282,3623,2919]
[46,null,null,6865,5149,4446,3754,3028]
[47,null,null,7103,5322,4611,3890,3130]
[48,null,null,7359,5508,4779,4031,3247]
[49,null,null,7615,5695,4947,4171,3362]
[50,null,null,7868,5878,5124,4315,3477]
[51,null,null,8123,6063,5290,4452,3587]
[52,null,null,8377,6249,5463,4591,3702]
[53,null,null,8682,6465,5673,4757,3835]
[54,null,null,8978,6683,5886,4933,3970]
[55,null,null,9278,6904,6089,5101,4103]
[56,null,null,9578,7122,6301,5267,4242]
[57,null,null,9881,7336,6510,5438,4372]
[58,null,null,10252,7592,6764,5647,4541]
[59,null,null,10618,7843,7013,5856,4707]
[60,null,null,10986,8093,7268,6064,4877]
[61,null,null,11391,8390,7571,6291,5058]
[62,null,null,11898,8760,7932,6567,5278]
[63,null,null,12499,9202,8328,6900,5540]
[64,null,null,13207,9718,8804,7289,5858]
[65,null,null,14114,10361,9460,7809,6270]
[66,null,null,15170,11109,10219,8407,6744]
[67,null,null,16375,11989,11031,9079,7274]
[68,null,null,17758,12989,11954,9830,7892]
[69,null,null,19385,14180,13047,10742,8609]
[70,null,null,21362,15540,14396,11873,9515]
[71,null,null,23513,17112,15981,13071,10470]
[72,null,null,26009,18920,17677,14456,11587]
[73,null,null,28861,21000,19611,16039,12852]
[74,null,null,32176,23406,21855,17879,14321]
[75,null,null,36047,26160,24486,20052,16064]
[76,null,null,40420,29334,27552,22492,18007]
[77,null,null,45397,32945,30964,25253,20229]
[78,null,null,51006,37013,34791,28378,22729]
[79,null,null,57309,41586,39088,31882,25538]
[80,"o mas",null,64847,47057,44229,36074,28897]
[1,"Hijo",null,1696,1391,818,802,644]
[2,"Hijos",null,2779,2338,1263,1218,1016]
[3,"Hijos o más",null,4064,3431,1830,1750,1472]
[1,"Rider Comp. Maternidad",null,225,225,225,225,225]
[1,"Transplante de organos",null,300,300,300,300,300]
[]
[]
[]
[]
[]
["NEW: BUPA UNIQUE CARE: DEDUCCIBLE CERO"]
["TARIFAS ANUALES"]
[]
["EDAD",null,null,"ET2","ET3","ET4","ET5","ET6"]
[18,null,null,2437,1966,1599,1412]
[19,null,null,2481,2000,1626,1437]
[20,null,null,2523,2035,1656,1462]
[21,null,null,2569,2073,1686,1489]
[22,null,null,2616,2109,1716,1515]
[23,null,null,2662,2147,1745,1542]
[24,null,null,2709,2183,1777,1568]
[25,null,null,2755,2220,1806,1594]
[26,null,null,2801,2259,1837,1622]
[27,null,null,2848,2298,1869,1650]
[28,null,null,2900,2339,1902,1678]
[29,null,null,2955,2383,1939,1712]
[30,null,null,3009,2427,1975,1742]
[31,null,null,3065,2472,2010,1775]
[32,null,null,3117,2514,2044,1804]
[33,null,null,3205,2585,2103,1856]
[34,null,null,3293,2656,2160,1905]
[35,null,null,3381,2725,2217,1955]
[36,null,null,3467,2796,2274,2008]
[37,null,null,3555,2867,2334,2060]
[38,null,null,3645,2940,2392,2110]
[39,null,null,3737,3013,2451,2164]
[40,null,null,3825,3087,2510,2215]
[41,null,null,3918,3161,2570,2269]
[42,null,null,4008,3232,2631,2320]
[43,null,null,4171,3363,2736,2416]
[44,null,null,4332,3494,2844,2510]
[45,null,null,4496,3627,2951,2603]
[46,null,null,4662,3759,3060,2698]
[47,null,null,4823,3889,3163,2793]
[48,null,null,4996,4029,3276,2892]
[49,null,null,5169,4169,3391,2994]
[50,null,null,5342,4308,3503,3093]
[51,null,null,5514,4447,3617,3193]
[52,null,null,5686,4585,3731,3291]
[53,null,null,5893,4752,3866,3410]
[54,null,null,6096,4916,3998,3529]
[55,null,null,6299,5080,4132,3645]
[56,null,null,6503,5243,4266,3765]
[57,null,null,6709,5408,4402,3883]
[58,null,null,6959,5613,4565,4029]
[59,null,null,7208,5813,4727,4171]
[60,null,null,7460,6013,4892,4317]
[61,null,null,7733,6235,5073,4475]
[62,null,null,8079,6514,5299,4674]
[63,null,null,8486,6842,5565,4912]
[64,null,null,8965,7231,5882,5189]
[65,null,null,9584,7729,6286,5547]
[66,null,null,10299,8305,6754,5960]
[67,null,null,11118,8965,7292,6434]
[68,null,null,12054,9720,7906,6978]
[69,null,null,13160,10612,8632,7616]
[70,null,null,14503,11693,9512,8395]
[71,null,null,15963,12873,10469,9239]
[72,null,null,17655,14239,11581,10218]
[73,null,null,19593,15799,12852,11340]
[74,null,null,21843,17614,14327,12641]
[75,null,null,24470,19732,16049,14162]
[76,null,null,27441,22127,17999,15882]
[77,null,null,30818,24851,20213,17835]
[78,null,null,34626,27921,22710,20040]
[79,null,null,38904,31370,25516,22516]
[80,"o mas",null,44021,35499,28873,25478]
[1,"Hijo",null,1150,929,756,666]
[2,"Hijos",null,1887,1522,1238,1093]
[3,"Hijos o más",null,2761,2226,1811,1598]
[1,"Rider Comp. Maternidad",null,225,225,225,225]
[1,"Transplante de organos",null,300,300,300,300]
[null,"Deductible Waiver",null,180,345,775,1330]
[]
["NEW: BUPA UNIQUE CARE"]
["TARIFAS ANUALES"]
[]
["EDAD",null,null,"ET2","ET3","ET4","ET5","ET6"]
[18,null,null,2257,1614,1144,1014,824]
[19,null,null,2297,1641,1169,1036,837]
[20,null,null,2337,1668,1190,1055,851]
[21,null,null,2380,1695,1214,1072,869]
[22,null,null,2422,1723,1240,1091,885]
[23,null,null,2464,1749,1267,1111,901]
[24,null,null,2507,1776,1288,1133,915]
[25,null,null,2550,1806,1313,1151,934]
[26,null,null,2593,1833,1338,1170,948]
[27,null,null,2637,1862,1362,1189,964]
[28,null,null,2686,1893,1395,1213,986]
[29,null,null,2737,1924,1423,1239,1001]
[30,null,null,2786,1957,1455,1262,1022]
[31,null,null,2837,1989,1485,1286,1042]
[32,null,null,2885,2020,1517,1309,1059]
[33,null,null,2968,2076,1561,1346,1091]
[34,null,null,3049,2128,1609,1384,1120]
[35,null,null,3129,2183,1655,1421,1151]
[36,null,null,3211,2238,1702,1460,1182]
[37,null,null,3293,2291,1746,1496,1211]
[38,null,null,3375,2347,1795,1534,1243]
[39,null,null,3461,2403,1842,1574,1274]
[40,null,null,3544,2460,1893,1615,1305]
[41,null,null,3627,2515,1941,1654,1334]
[42,null,null,3711,2570,1991,1691,1368]
[43,null,null,3863,2667,2073,1760,1422]
[44,null,null,4012,2770,2159,1829,1479]
[45,null,null,4164,2869,2247,1902,1533]
[46,null,null,4316,2971,2333,1970,1591]
[47,null,null,4465,3071,2420,2042,1643]
[48,null,null,4626,3178,2508,2115,1705]
[49,null,null,4788,3286,2596,2189,1765]
[50,null,null,4946,3391,2688,2265,1826]
[51,null,null,5107,3498,2775,2336,1883]
[52,null,null,5266,3605,2865,2409,1944]
[53,null,null,5458,3729,2975,2496,2013]
[54,null,null,5643,3855,3088,2588,2083]
[55,null,null,5833,3982,3193,2676,2154]
[56,null,null,6021,4107,3304,2763,2226]
[57,null,null,6211,4232,3414,2852,2295]
[58,null,null,6444,4379,3547,2962,2383]
[59,null,null,6675,4523,3677,3071,2469]
[60,null,null,6906,4667,3811,3180,2559]
[61,null,null,7160,4839,3970,3300,2653]
[62,null,null,7479,5051,4159,3444,2769]
[63,null,null,7857,5306,4367,3619,2906]
[64,null,null,8302,5603,4616,3822,3072]
[65,null,null,8872,5974,4960,4094,3289]
[66,null,null,9536,6405,5357,4408,3536]
[67,null,null,10293,6912,5783,4760,3815]
[68,null,null,11163,7489,6266,5153,4138]
[69,null,null,12185,8175,6839,5631,4513]
[70,null,null,13428,8958,7545,6224,4988]
[71,null,null,14780,9864,8375,6851,5489]
[72,null,null,16349,10905,9263,7577,6073]
[73,null,null,18142,12104,10276,8405,6736]
[74,null,null,20225,13490,11452,9370,7505]
[75,null,null,22658,15078,12830,10507,8418]
[76,null,null,25407,16906,14436,11785,9437]
[77,null,null,28536,18987,16224,13232,10601]
[78,null,null,32062,21331,18228,14869,11910]
[79,null,null,36023,23966,20479,16705,13381]
[80,"o mas",null,40762,27118,23171,18900,15140]
[1,"Hijo",null,1066,802,429,421,338]
[2,"Hijos",null,1747,1348,662,638,533]
[3,"Hijos o más",null,2555,1977,959,917,772]
[1,"Rider Comp. Maternidad",null,225,225,225,225,225]
[1,"Transplante de organos",null,300,300,300,300,300]